Uber Exif Photo
By-line : BUDI AFRIANTO
Copyright Notice : Copyright@BUDIBOYO
Photometric Interpretation : RGB
Make : NIKON CORPORATION
Camera Model Name : NIKON D700
Orientation : Horizontal (normal)
Samples Per Pixel : 3
Software : Adobe Photoshop CS5.1 Macintosh
Modify Date : 2015:03:16 20:27:13
Artist : BUDI AFRIANTO
Copyright : Copyright@BUDIBOYO
Exposure Time : 1/250
F Number : 1.4
Exposure Program : Aperture-priority AE
ISO : 200
Date/Time Original : 2015:03:15 06:58:31
Create Date : 2015:03:15 06:58:31
Shutter Speed Value : 1/250
Aperture Value : 1.4
Exposure Compensation : -2/3
Max Aperture Value : 1.4
Metering Mode : Multi-segment
Light Source : Fine Weather
Flash : No Flash
Focal Length : 85.0 mm
Color Space : sRGB
Exif Image Width : 1024
Exif Image Height : 681
Sensing Method : One-chip color area
Scene Type : Directly photographed
CFA Pattern : [Red,Green][Green,Blue]
Custom Rendered : Normal
Exposure Mode : Auto
White Balance : Manual
Digital Zoom Ratio : 1
Focal Length In 35mm Format : 85 mm
Scene Capture Type : Standard
Gain Control : None
Contrast : Normal
Saturation : Normal
Sharpness : Normal
Subject Distance Range : Unknown
Serial Number : 2374238
Lens Info : 85mm f/1.4
Lens Model : Zeiss Planar T* 1.4/85 ZF.2
Format : image/jpeg
Creator Tool : Adobe Photoshop Lightroom 5.0 (Macintosh)
Lens : Zeiss Planar T* 1.4/85 ZF.2
Image Number : 13294
Date Created : 2015:03:15 06:58:31.003
Color Mode : RGB
ICC Profile Name : sRGB IEC61966-2.1
Version : 8.2
Process Version : 6.7
Auto White Version : 134348800
Incremental Temperature : 0
Incremental Tint : 0
Luminance Smoothing : 0
Color Noise Reduction : 25
Vignette Amount : 0
Shadow Tint : 0
Red Hue : 0
Red Saturation : 0
Green Hue : 0
Green Saturation : 0
Blue Hue : 0
Blue Saturation : 0
Gray Mixer Red : +63
Gray Mixer Orange : +31
Gray Mixer Yellow : +33
Gray Mixer Green : +13
Gray Mixer Aqua : -38
Gray Mixer Blue : -17
Gray Mixer Purple : +12
Gray Mixer Magenta : +27
Split Toning Shadow Hue : 0
Split Toning Shadow Saturation : 0
Split Toning Highlight Hue : 0
Split Toning Highlight Saturation : 0
Split Toning Balance : 0
Parametric Shadows : 0
Parametric Darks : -18
Parametric Lights : +10
Parametric Highlights : -10
Parametric Shadow Split : 25
Parametric Midtone Split : 50
Parametric Highlight Split : 75
Sharpen Radius : +1.0
Sharpen Detail : 25
Sharpen Edge Masking : 0
Post Crop Vignette Amount : 0
Grain Amount : 0
Color Noise Reduction Detail : 50
Color Noise Reduction Smoothness : 50
Lens Profile Enable : 0
Lens Manual Distortion Amount : 0
Perspective Vertical : 0
Perspective Horizontal : 0
Perspective Rotate : 0.0
Perspective Scale : 100
Perspective Aspect : 0
Perspective Upright : Off
Auto Lateral CA : 0
Exposure 2012 : 0.00
Contrast 2012 : 0
Highlights 2012 : 0
Shadows 2012 : 0
Whites 2012 : 0
Blacks 2012 : 0
Clarity 2012 : 0
Convert To Grayscale : True
Tone Curve Name 2012 : Linear
Camera Profile : Adobe Standard
Lens Profile Setup : LensDefaults
Has Settings : True
Has Crop : False
Already Applied : True
Creator : BUDI AFRIANTO
Rights : Copyright@BUDIBOYO
Tone Curve PV2012 : 0, 0, 255, 255
Tone Curve PV2012 Red : 0, 0, 255, 255
Tone Curve PV2012 Green : 0, 0, 255, 255
Tone Curve PV2012 Blue : 0, 0, 255, 255
Image Width : 300
Image Height : 200
Bits Per Sample : 8
Color Components : 1
Aperture : 1.4
Image Size : 300x200
Megapixels : 0.060
Scale Factor To 35 mm Equivalent : 1.0
Shutter Speed : 1/250
Create Date : 2015:03:15 06:58:31.30
Date/Time Original : 2015:03:15 06:58:31.30
Circle Of Confusion : 0.030 mm
Field Of View : 23.9 deg
Focal Length : 85.0 mm (35 mm equivalent: 85.0 mm)
Hyperfocal Distance : 171.76 m
Light Value : 7.9