Uber Exif Photo
Keywords : aves, avian, beak, bird, black, blue, colorful, feather, indigenous, marsh, moor, native, natural, New Zealand, omnivore, plumage, pukeko, red, swamp, vibrant, waterfowl, wild, wildlife
By-line : Jeffrey Banke
By-line Title : Photographer
Copyright Notice : Copyright © 2012 Jeff Banke All rights reserved
Caption-Abstract : New Zealand Pukeko, a native bird in the wild
Copyright Flag : True
Image Description : New Zealand Pukeko, a native bird in the wild
Make : NIKON CORPORATION
Camera Model Name : NIKON D300
Orientation : Horizontal (normal)
Software : Adobe Photoshop CS5 Windows
Modify Date : 2014:04:02 10:32:01
Artist : Jeffrey Banke
Copyright : Copyright © 2012 Jeff Banke All rights reserved
Exposure Time : 1/320
F Number : 7.1
Exposure Program : Manual
ISO : 400
Date/Time Original : 2012:04:21 18:51:54
Create Date : 2012:04:21 18:51:54
Shutter Speed Value : 1/320
Aperture Value : 7.1
Exposure Compensation : 0
Max Aperture Value : 2.8
Subject Distance : 8.41 m
Metering Mode : Center-weighted average
Light Source : Fine Weather
Flash : No Flash
Focal Length : 200.0 mm
Color Space : sRGB
Exif Image Width : 2591
Exif Image Height : 2848
Sensing Method : One-chip color area
Scene Type : Directly photographed
CFA Pattern : [Red,Green][Green,Blue]
Custom Rendered : Normal
Exposure Mode : Manual
White Balance : Manual
Digital Zoom Ratio : 1
Focal Length In 35mm Format : 300 mm
Scene Capture Type : Standard
Gain Control : Low gain up
Contrast : Normal
Saturation : Normal
Sharpness : Soft
Subject Distance Range : Unknown
Serial Number : 3029064
Lens Info : 70-200mm f/2.8
Lens Model : 70.0-200.0 mm f/2.8
Profile Description : sRGB IEC61966-2.1
Creator Tool : Adobe Photoshop CS5 Windows
Rating : 5
Label : Review
Lens : 70.0-200.0 mm f/2.8
Image Number : 14427
Approximate Focus Distance : 8.41
Preserved File Name : _JBB4257.NEF
Date Created : 2012:04:21 18:51:54.071-07:00
Authors Position : Photographer
Headline : New Zealand Pukeko, a native bird in the wild
Format : image/jpeg
Marked : True
Raw File Name : 21042012-Wanganui-Pukeka-D300-4257.NEF
Version : 6.7
Process Version : 5.7
Color Temperature : 5350
Tint : +1
Exposure : 0.00
Shadows : 0
Brightness : +50
Luminance Smoothing : 0
Color Noise Reduction : 25
Vignette Amount : 0
Shadow Tint : 0
Red Hue : 0
Red Saturation : 0
Green Hue : 0
Green Saturation : 0
Blue Hue : 0
Blue Saturation : 0
Fill Light : 0
Vibrance : +25
Highlight Recovery : 4
Clarity : 0
Defringe : 0
Hue Adjustment Red : 0
Hue Adjustment Orange : 0
Hue Adjustment Yellow : 0
Hue Adjustment Green : 0
Hue Adjustment Aqua : 0
Hue Adjustment Blue : 0
Hue Adjustment Purple : 0
Hue Adjustment Magenta : 0
Saturation Adjustment Red : 0
Saturation Adjustment Orange : 0
Saturation Adjustment Yellow : 0
Saturation Adjustment Green : 0
Saturation Adjustment Aqua : 0
Saturation Adjustment Blue : 0
Saturation Adjustment Purple : 0
Saturation Adjustment Magenta : 0
Luminance Adjustment Red : 0
Luminance Adjustment Orange : 0
Luminance Adjustment Yellow : 0
Luminance Adjustment Green : 0
Luminance Adjustment Aqua : 0
Luminance Adjustment Blue : 0
Luminance Adjustment Purple : 0
Luminance Adjustment Magenta : 0
Split Toning Shadow Hue : 0
Split Toning Shadow Saturation : 0
Split Toning Highlight Hue : 0
Split Toning Highlight Saturation : 0
Split Toning Balance : 0
Parametric Shadows : 0
Parametric Darks : 0
Parametric Lights : 0
Parametric Highlights : 0
Parametric Shadow Split : 25
Parametric Midtone Split : 50
Parametric Highlight Split : 75
Sharpen Radius : +1.0
Sharpen Detail : 25
Sharpen Edge Masking : 0
Post Crop Vignette Amount : 0
Grain Amount : 0
Color Noise Reduction Detail : 50
Lens Profile Enable : 1
Lens Manual Distortion Amount : 0
Perspective Vertical : 0
Perspective Horizontal : 0
Perspective Rotate : 0.0
Perspective Scale : 100
Auto Lateral CA : 1
Exposure 2012 : 0.00
Contrast 2012 : 0
Highlights 2012 : 0
Shadows 2012 : 0
Whites 2012 : 0
Blacks 2012 : 0
Clarity 2012 : 0
Convert To Grayscale : False
Tone Curve Name : Medium Contrast
Tone Curve Name 2012 : Linear
Camera Profile : Camera Landscape
Lens Profile Setup : LensDefaults
Lens Profile Name : Adobe (Nikon AF-S VR Zoom-Nikkor 70-200mm f/2.8G IF-ED)
Lens Profile Filename : NIKON D3X (Nikon FX 70-200mm f2.8 G IF ED) - RAW.lcp
Lens Profile Distortion Scale : 100
Lens Profile Chromatic Aberration Scale : 100
Lens Profile Vignetting Scale : 100
Has Settings : True
Has Crop : False
Already Applied : True
Subject : aves, avian, beak, bird, black, blue, colorful, feather, indigenous, marsh, moor, native, natural, New Zealand, omnivore, plumage, pukeko, red, swamp, vibrant, waterfowl, wild, wildlife
Creator : Jeffrey Banke
Rights : Copyright © 2012 Jeff Banke All rights reserved
Description : New Zealand Pukeko, a native bird in the wild
Tone Curve : 0, 0, 32, 22, 64, 56, 128, 128, 192, 196, 255, 255
Tone Curve Red : 0, 0, 255, 255
Tone Curve Green : 0, 0, 255, 255
Tone Curve Blue : 0, 0, 255, 255
Tone Curve PV2012 : 0, 0, 255, 255
Tone Curve PV2012 Red : 0, 0, 255, 255
Tone Curve PV2012 Green : 0, 0, 255, 255
Tone Curve PV2012 Blue : 0, 0, 255, 255
Hierarchical Subject : Birds|aves, Birds|bird, Birds|feather, Birds|plumage, Birds|avian, Birds|beak, Mammalia|indigenous, Colors|blue, Colors|red, Colors|black, Colors|vibrant, Colors|colorful, Birds|pukeko, Birds|waterfowl, Mammalia|wild, Mammalia|wildlife, Mammalia|omnivore, Countries|New Zealand, Scenic description|natural, Other Keywords|native, Scenic description|moor, Scenic description|marsh, Scenic description|swamp
Creator Address : 3499 La Mesa Drive
Creator City : Hayward
Creator Region : California
Creator Postal Code : 94542
Creator Country : USA
Creator Work Telephone : 510-501-4502 cell, 510-581-0349 office
Creator Work Email : j.banke@comcast.net
Creator Work URL : WWW.xlr8photo.com
Image Width : 273
Image Height : 300
Bits Per Sample : 8
Color Components : 3
Aperture : 7.1
Image Size : 273x300
Megapixels : 0.082
Scale Factor To 35 mm Equivalent : 1.5
Shutter Speed : 1/320
Create Date : 2012:04:21 18:51:54.71
Date/Time Original : 2012:04:21 18:51:54.71
Circle Of Confusion : 0.020 mm
Depth Of Field : 0.49 m (8.17 - 8.66 m)
Field Of View : 6.9 deg
Focal Length : 200.0 mm (35 mm equivalent: 300.0 mm)
Hyperfocal Distance : 281.26 m
Light Value : 12.0
Lens ID : AF-S VR Zoom-Nikkor 70-200mm f/2.8G IF-ED