Uber Exif Photo
Make : NIKON CORPORATION
Camera Model Name : NIKON D70s
Software : Ver.1.00
Modify Date : 2011:10:03 22:24:41
Exposure Time : 1/200
F Number : 7.1
Exposure Program : Not Defined
ISO : 400
Sensitivity Type : Unknown
Date/Time Original : 2011:09:28 09:38:39
Create Date : 2011:09:28 09:38:39
Shutter Speed Value : 1/200
Aperture Value : 7.1
Exposure Compensation : 0
Max Aperture Value : 2.8
Subject Distance : 1.58 m
Metering Mode : Multi-segment
Light Source : Unknown
Focal Length : 17.0 mm
User Comment : (C)Arvind Ahluwalia. dnivra.co.uk
Sensing Method : One-chip color area
Scene Type : Directly photographed
Custom Rendered : Normal
Exposure Mode : Auto
White Balance : Auto
Digital Zoom Ratio : 1
Focal Length In 35mm Format : 25 mm
Scene Capture Type : Standard
Gain Control : None
Contrast : Normal
Saturation : Normal
Sharpness : Normal
Subject Distance Range : Unknown
Serial Number : 00041222
Lens Info : 17-70mm f/2.8-4.5
Lens Model : 17.0-70.0 mm f/2.8-4.5
Date/Time Digitized : 2011:09:28 09:38:39.90+01:00
Exif Image Width : 1488
Exif Image Height : 2240
Creator Tool : Adobe Photoshop Lightroom 3.3
Lens : 17.0-70.0 mm f/2.8-4.5
Image Number : 15019
Approximate Focus Distance : 1.58
Version : 6.3
Process Version : 5.7
Incremental Temperature : 0
Incremental Tint : 0
Exposure : -0.51
Shadows : 45
Brightness : +9
Luminance Smoothing : 0
Color Noise Reduction : 0
Chromatic Aberration R : 0
Chromatic Aberration B : 0
Vignette Amount : 0
Shadow Tint : 0
Red Hue : 0
Red Saturation : 0
Green Hue : 0
Green Saturation : 0
Blue Hue : 0
Blue Saturation : 0
Fill Light : 75
Highlight Recovery : 69
Clarity : +40
Defringe : 0
Gray Mixer Red : -10
Gray Mixer Orange : -19
Gray Mixer Yellow : -23
Gray Mixer Green : -27
Gray Mixer Aqua : -17
Gray Mixer Blue : +10
Gray Mixer Purple : +15
Gray Mixer Magenta : +3
Split Toning Shadow Hue : 0
Split Toning Shadow Saturation : 0
Split Toning Highlight Hue : 0
Split Toning Highlight Saturation : 0
Split Toning Balance : 0
Parametric Shadows : 0
Parametric Darks : 0
Parametric Lights : 0
Parametric Highlights : 0
Parametric Shadow Split : 25
Parametric Midtone Split : 50
Parametric Highlight Split : 75
Sharpen Radius : +1.0
Sharpen Detail : 25
Sharpen Edge Masking : 0
Post Crop Vignette Amount : -33
Post Crop Vignette Midpoint : 50
Post Crop Vignette Feather : 50
Post Crop Vignette Roundness : 0
Post Crop Vignette Style : Highlight Priority
Post Crop Vignette Highlight Contrast : 0
Grain Amount : 0
Lens Profile Enable : 0
Lens Manual Distortion Amount : 0
Perspective Vertical : 0
Perspective Horizontal : 0
Perspective Rotate : 0.0
Perspective Scale : 100
Convert To Grayscale : True
Tone Curve Name : Linear
Camera Profile : Embedded
Lens Profile Setup : LensDefaults
Has Settings : True
Has Crop : False
Already Applied : True
Flash Fired : False
Flash Return : No return detection
Flash Mode : Off
Flash Function : False
Flash Red Eye Mode : False
Tone Curve : 0, 0, 255, 255
Image Width : 199
Image Height : 300
Bits Per Sample : 8
Color Components : 1
Aperture : 7.1
Image Size : 199x300
Megapixels : 0.060
Scale Factor To 35 mm Equivalent : 1.5
Shutter Speed : 1/200
Create Date : 2011:09:28 09:38:39.90
Date/Time Original : 2011:09:28 09:38:39.90
Flash : Off, Did not fire
Circle Of Confusion : 0.020 mm
Depth Of Field : 6.45 m (0.89 - 7.33 m)
Field Of View : 71.5 deg
Focal Length : 17.0 mm (35 mm equivalent: 25.0 mm)
Hyperfocal Distance : 1.99 m
Light Value : 11.3
Lens ID : Sigma 17-70mm F2.8-4.5 DC Macro Asp. IF