Uber Exif Photo
Make : NIKON CORPORATION
Camera Model Name : NIKON D70s
Software : Ver.1.00
Modify Date : 2011:10:03 22:25:21
Exposure Time : 1/250
F Number : 8.0
Exposure Program : Not Defined
ISO : 400
Sensitivity Type : Unknown
Date/Time Original : 2011:09:28 12:02:05
Create Date : 2011:09:28 12:02:05
Shutter Speed Value : 1/250
Aperture Value : 8.0
Exposure Compensation : 0
Max Aperture Value : 2.8
Subject Distance : 1.12 m
Metering Mode : Multi-segment
Light Source : Unknown
Focal Length : 17.0 mm
User Comment : (C)Arvind Ahluwalia. dnivra.co.uk
Sensing Method : One-chip color area
Scene Type : Directly photographed
CFA Pattern : [Blue,Green][Green,Red]
Custom Rendered : Normal
Exposure Mode : Auto
White Balance : Auto
Digital Zoom Ratio : 1
Focal Length In 35mm Format : 25 mm
Scene Capture Type : Standard
Gain Control : None
Contrast : Low
Saturation : Normal
Sharpness : Normal
Subject Distance Range : Unknown
Serial Number : 00041222
Lens Info : 17-70mm f/2.8-4.5
Lens Model : 17.0-70.0 mm f/2.8-4.5
Date/Time Digitized : 2011:09:28 12:02:05.00+01:00
Exif Image Width : 1830
Exif Image Height : 1488
Creator Tool : Adobe Photoshop Lightroom 3.3
Lens : 17.0-70.0 mm f/2.8-4.5
Image Number : 15159
Approximate Focus Distance : 1.12
Version : 6.3
Process Version : 5.7
Incremental Temperature : 0
Incremental Tint : 0
Exposure : -0.69
Shadows : 16
Brightness : +12
Luminance Smoothing : 0
Color Noise Reduction : 0
Chromatic Aberration R : 0
Chromatic Aberration B : 0
Vignette Amount : 0
Shadow Tint : 0
Red Hue : 0
Red Saturation : 0
Green Hue : 0
Green Saturation : 0
Blue Hue : 0
Blue Saturation : 0
Fill Light : 18
Highlight Recovery : 83
Clarity : +61
Defringe : 0
Gray Mixer Red : -9
Gray Mixer Orange : -18
Gray Mixer Yellow : -22
Gray Mixer Green : -26
Gray Mixer Aqua : -18
Gray Mixer Blue : +8
Gray Mixer Purple : +14
Gray Mixer Magenta : +4
Split Toning Shadow Hue : 0
Split Toning Shadow Saturation : 0
Split Toning Highlight Hue : 0
Split Toning Highlight Saturation : 0
Split Toning Balance : 0
Parametric Shadows : 0
Parametric Darks : 0
Parametric Lights : 0
Parametric Highlights : 0
Parametric Shadow Split : 25
Parametric Midtone Split : 50
Parametric Highlight Split : 75
Sharpen Radius : +1.0
Sharpen Detail : 25
Sharpen Edge Masking : 0
Post Crop Vignette Amount : -29
Post Crop Vignette Midpoint : 50
Post Crop Vignette Feather : 50
Post Crop Vignette Roundness : 0
Post Crop Vignette Style : Highlight Priority
Post Crop Vignette Highlight Contrast : 0
Grain Amount : 0
Lens Profile Enable : 0
Lens Manual Distortion Amount : 0
Perspective Vertical : 0
Perspective Horizontal : 0
Perspective Rotate : 0.0
Perspective Scale : 100
Convert To Grayscale : True
Tone Curve Name : Linear
Camera Profile : Embedded
Lens Profile Setup : LensDefaults
Has Settings : True
Crop Top : 0
Crop Left : 0.103286
Crop Bottom : 1
Crop Right : 0.920188
Crop Angle : 0
Crop Constrain To Warp : 0
Crop Width : 1830
Crop Height : 1488
Crop Unit : pixels
Has Crop : True
Already Applied : True
Flash Fired : False
Flash Return : No return detection
Flash Mode : Off
Flash Function : False
Flash Red Eye Mode : False
Tone Curve : 0, 0, 255, 255
Image Width : 300
Image Height : 244
Bits Per Sample : 8
Color Components : 1
Aperture : 8.0
Image Size : 300x244
Megapixels : 0.073
Scale Factor To 35 mm Equivalent : 1.5
Shutter Speed : 1/250
Create Date : 2011:09:28 12:02:05.00
Date/Time Original : 2011:09:28 12:02:05.00
Flash : Off, Did not fire
Circle Of Confusion : 0.020 mm
Depth Of Field : 2.29 m (0.69 - 2.98 m)
Field Of View : 71.5 deg
Focal Length : 17.0 mm (35 mm equivalent: 25.0 mm)
Hyperfocal Distance : 1.77 m
Light Value : 12.0
Lens ID : Sigma 17-70mm F2.8-4.5 DC Macro Asp. IF