Uber Exif Photo
Make : NIKON CORPORATION
Camera Model Name : NIKON D70s
Software : Adobe Photoshop Lightroom 4.4 (Windows)
Modify Date : 2013:05:21 20:48:09
Exposure Time : 1/800
F Number : 8.0
Exposure Program : Manual
ISO : 200
Date/Time Original : 2010:07:22 13:26:01
Create Date : 2010:07:22 13:26:01
Shutter Speed Value : 1/800
Aperture Value : 8.0
Exposure Compensation : 0
Max Aperture Value : 5.7
Metering Mode : Spot
Light Source : Unknown
Flash : No Flash
Focal Length : 300.0 mm
User Comment : (C)Arvind Ahluwalia. dnivra.co.uk
Sensing Method : One-chip color area
Scene Type : Directly photographed
CFA Pattern : [Blue,Green][Green,Red]
Custom Rendered : Normal
Exposure Mode : Manual
White Balance : Auto
Digital Zoom Ratio : 1
Focal Length In 35mm Format : 450 mm
Scene Capture Type : Standard
Gain Control : None
Contrast : Normal
Saturation : Normal
Sharpness : Normal
Subject Distance Range : Unknown
Serial Number : 00041222
Lens Info : 70-300mm f/4-5.6
Lens Model : 70.0-300.0 mm f/4.0-5.6
Creator Tool : Adobe Photoshop Lightroom 4.4 (Windows)
Lens : 70.0-300.0 mm f/4.0-5.6
Image Number : 12527
Approximate Focus Distance : 1.26
Date Created : 2010:07:22 13:26:01.70
Format : image/jpeg
Version : 7.4
Process Version : 6.7
Incremental Temperature : 0
Incremental Tint : 0
Luminance Smoothing : 0
Color Noise Reduction : 0
Vignette Amount : 0
Shadow Tint : 0
Red Hue : 0
Red Saturation : 0
Green Hue : 0
Green Saturation : 0
Blue Hue : 0
Blue Saturation : 0
Gray Mixer Red : +10
Gray Mixer Orange : +3
Gray Mixer Yellow : -1
Gray Mixer Green : -14
Gray Mixer Aqua : -23
Gray Mixer Blue : -5
Gray Mixer Purple : +7
Gray Mixer Magenta : +10
Split Toning Shadow Hue : 0
Split Toning Shadow Saturation : 0
Split Toning Highlight Hue : 0
Split Toning Highlight Saturation : 0
Split Toning Balance : 0
Parametric Shadows : 0
Parametric Darks : 0
Parametric Lights : 0
Parametric Highlights : 0
Parametric Shadow Split : 25
Parametric Midtone Split : 50
Parametric Highlight Split : 75
Sharpen Radius : +1.0
Sharpen Detail : 25
Sharpen Edge Masking : 0
Post Crop Vignette Amount : 0
Grain Amount : 0
Lens Profile Enable : 0
Lens Manual Distortion Amount : 0
Perspective Vertical : 0
Perspective Horizontal : 0
Perspective Rotate : 0.0
Perspective Scale : 100
Auto Lateral CA : 0
Exposure 2012 : -1.07
Contrast 2012 : +100
Highlights 2012 : 0
Shadows 2012 : +100
Whites 2012 : 0
Blacks 2012 : -31
Clarity 2012 : +76
Convert To Grayscale : True
Tone Curve Name 2012 : Linear
Camera Profile : Embedded
Lens Profile Setup : LensDefaults
Has Settings : True
Has Crop : False
Already Applied : True
Tone Curve PV2012 : 0, 0, 255, 255
Tone Curve PV2012 Red : 0, 0, 255, 255
Tone Curve PV2012 Green : 0, 0, 255, 255
Tone Curve PV2012 Blue : 0, 0, 255, 255
Image Width : 300
Image Height : 200
Bits Per Sample : 8
Color Components : 1
Aperture : 8.0
Image Size : 300x200
Megapixels : 0.060
Scale Factor To 35 mm Equivalent : 1.5
Shutter Speed : 1/800
Create Date : 2010:07:22 13:26:01.70
Date/Time Original : 2010:07:22 13:26:01.70
Circle Of Confusion : 0.020 mm
Depth Of Field : 0.004 m (1.258 - 1.262 m)
Field Of View : 4.6 deg
Focal Length : 300.0 mm (35 mm equivalent: 450.0 mm)
Hyperfocal Distance : 561.63 m
Light Value : 14.6
Lens ID : AF Zoom-Nikkor 70-300mm f/4-5.6D ED or Sigma 70-300mm F4-5.6 APO Macro Super II