Uber Exif Photo
Make : NIKON CORPORATION
Camera Model Name : NIKON Df
Software : Adobe Photoshop Lightroom 5.7.1 (Macintosh)
Modify Date : 2015:08:29 18:47:34
Exposure Time : 1/2500
F Number : 10.0
Exposure Program : Shutter speed priority AE
ISO : 500
Sensitivity Type : Recommended Exposure Index
Date/Time Original : 2015:07:25 14:39:01
Create Date : 2015:07:25 14:39:01
Shutter Speed Value : 1/2500
Aperture Value : 10.0
Exposure Compensation : 0
Max Aperture Value : 5.7
Metering Mode : Multi-segment
Light Source : Unknown
Flash : No Flash
Focal Length : 400.0 mm
Sensing Method : One-chip color area
Scene Type : Directly photographed
CFA Pattern : [Red,Green][Green,Blue]
Custom Rendered : Normal
Exposure Mode : Auto
White Balance : Auto
Digital Zoom Ratio : 1
Focal Length In 35mm Format : 400 mm
Scene Capture Type : Standard
Gain Control : Low gain up
Contrast : Normal
Saturation : Normal
Sharpness : Normal
Subject Distance Range : Unknown
Serial Number : 3005257
Lens Info : 80-400mm f/4.5-5.6
Lens Model : 80.0-400.0 mm f/4.5-5.6
Profile Description : ProPhoto RGB
Creator Tool : Adobe Photoshop Lightroom 5.7.1 (Macintosh)
Lens : 80.0-400.0 mm f/4.5-5.6
Image Number : 7649
Approximate Focus Distance : 4294967295
Date Created : 2015:07:25 14:39:01.70
Format : image/jpeg
Version : 8.7.1
Process Version : 6.7
Auto White Version : 134348800
Color Temperature : 5800
Tint : +3
Luminance Smoothing : 70
Color Noise Reduction : 25
Vignette Amount : 0
Shadow Tint : 0
Red Hue : 0
Red Saturation : 0
Green Hue : 0
Green Saturation : 0
Blue Hue : 0
Blue Saturation : 0
Vibrance : +9
Hue Adjustment Red : 0
Hue Adjustment Orange : 0
Hue Adjustment Yellow : 0
Hue Adjustment Green : 0
Hue Adjustment Aqua : 0
Hue Adjustment Blue : 0
Hue Adjustment Purple : 0
Hue Adjustment Magenta : 0
Saturation Adjustment Red : 0
Saturation Adjustment Orange : 0
Saturation Adjustment Yellow : 0
Saturation Adjustment Green : 0
Saturation Adjustment Aqua : 0
Saturation Adjustment Blue : 0
Saturation Adjustment Purple : 0
Saturation Adjustment Magenta : 0
Luminance Adjustment Red : 0
Luminance Adjustment Orange : 0
Luminance Adjustment Yellow : 0
Luminance Adjustment Green : 0
Luminance Adjustment Aqua : 0
Luminance Adjustment Blue : 0
Luminance Adjustment Purple : 0
Luminance Adjustment Magenta : 0
Split Toning Shadow Hue : 0
Split Toning Shadow Saturation : 0
Split Toning Highlight Hue : 0
Split Toning Highlight Saturation : 0
Split Toning Balance : 0
Parametric Shadows : +45
Parametric Darks : -8
Parametric Lights : +16
Parametric Highlights : 0
Parametric Shadow Split : 25
Parametric Midtone Split : 50
Parametric Highlight Split : 75
Sharpen Radius : +0.5
Sharpen Detail : 25
Sharpen Edge Masking : 0
Post Crop Vignette Amount : 0
Grain Amount : 0
Luminance Noise Reduction Detail : 33
Color Noise Reduction Detail : 50
Luminance Noise Reduction Contrast : 10
Color Noise Reduction Smoothness : 50
Lens Profile Enable : 1
Lens Manual Distortion Amount : 0
Perspective Vertical : 0
Perspective Horizontal : 0
Perspective Rotate : 0.0
Perspective Scale : 100
Perspective Aspect : 0
Perspective Upright : Off
Auto Lateral CA : 1
Exposure 2012 : 0.00
Contrast 2012 : +11
Highlights 2012 : -15
Shadows 2012 : +12
Whites 2012 : 0
Blacks 2012 : -29
Clarity 2012 : +21
Defringe Purple Amount : 0
Defringe Purple Hue Lo : 30
Defringe Purple Hue Hi : 70
Defringe Green Amount : 0
Defringe Green Hue Lo : 40
Defringe Green Hue Hi : 60
Convert To Grayscale : False
Tone Curve Name : Linear
Tone Curve Name 2012 : Linear
Camera Profile : Adobe Standard
Lens Profile Setup : LensDefaults
Lens Profile Name : Adobe (Nikon AF-S NIKKOR 80-400mm f/4.5-5.6G ED VR)
Lens Profile Filename : NIKON D700 (Nikon AF-S NIKKOR 80-400mm f4.5-5.6G ED VR) - RAW.lcp
Lens Profile Distortion Scale : 100
Lens Profile Chromatic Aberration Scale : 100
Lens Profile Vignetting Scale : 100
Has Settings : True
Crop Top : 0
Crop Left : 0.163233
Crop Bottom : 0.793968
Crop Right : 1
Crop Angle : 0
Crop Constrain To Warp : 0
Has Crop : True
Already Applied : True
Tone Curve : 0, 0, 255, 255
Tone Curve Red : 0, 0, 255, 255
Tone Curve Green : 0, 0, 255, 255
Tone Curve Blue : 0, 0, 255, 255
Tone Curve PV2012 : 0, 0, 255, 255
Tone Curve PV2012 Red : 0, 0, 255, 255
Tone Curve PV2012 Green : 0, 0, 255, 255
Tone Curve PV2012 Blue : 0, 0, 255, 255
Gradient Based Corr What : Correction
Gradient Based Corr Amount : 1.000000
Gradient Based Corr Active : true
Gradient Based Corr Saturation : 0.215327
Gradient Based Corr Sharpness : 0.217521
Gradient Based Corr Brightness : 0.000000
Gradient Based Corr Toning Hue : 240.000000
Gradient Based Corr Toning Saturation : 0.000000
Gradient Based Corr Exposure 2012 : -0.058550
Gradient Based Corr Contrast 2012 : 0.305653
Gradient Based Corr Highlights 2012 : 0.690046
Gradient Based Corr Shadows 2012 : -0.090941
Gradient Based Corr Clarity 2012 : 0.962869
Gradient Based Corr Luminance Noise : -0.168452
Gradient Based Corr Moire : -0.452159
Gradient Based Corr Defringe : -0.020190
Gradient Based Corr Temperature : 0.000000
Gradient Based Corr Tint : 0.000000
Gradient Based Corr Mask What : Mask/Gradient
Gradient Based Corr Mask Value : 1.000000
Gradient Based Corr Mask Zero X : 0.625952
Gradient Based Corr Mask Zero Y : 0.618778
Gradient Based Corr Mask Full X : 0.631493
Gradient Based Corr Mask Full Y : -0.021683
Image Width : 300
Image Height : 189
Bits Per Sample : 8
Color Components : 3
Aperture : 10.0
Image Size : 300x189
Megapixels : 0.057
Scale Factor To 35 mm Equivalent : 1.0
Shutter Speed : 1/2500
Create Date : 2015:07:25 14:39:01.70
Date/Time Original : 2015:07:25 14:39:01.70
Circle Of Confusion : 0.030 mm
Depth Of Field : inf (532.51 m - inf)
Field Of View : 5.2 deg
Focal Length : 400.0 mm (35 mm equivalent: 400.0 mm)
Hyperfocal Distance : 532.51 m
Light Value : 15.6
Lens ID : AF-S Nikkor 80-400mm f/4.5-5.6G ED VR