Uber Exif Photo
Copyright Notice : Steven Johnides Photography
Orientation : Horizontal (normal)
Software : Adobe Photoshop Lightroom 6.2.1 (Macintosh)
Modify Date : 2015:10:10 16:14:35
Copyright : Steven Johnides Photography
Color Space : sRGB
Exif Image Width : 3707
Exif Image Height : 4907
Luminance Adjustment Green : 0
Hue Adjustment Green : 0
Saturation Adjustment Yellow : 0
Parametric Darks : 0
Perspective Scale : 100
Clarity 2012 : +24
Hue Adjustment Magenta : 0
Color Noise Reduction : 0
Perspective Upright : Off
Has Crop : False
Hue Adjustment Aqua : 0
Red Saturation : 0
Parametric Shadows : 0
Hue Adjustment Orange : 0
White Balance : As Shot
Hue Adjustment Yellow : 0
Split Toning Shadow Saturation : 0
Lens Manual Distortion Amount : 0
Tone Curve Name : Linear
Shadows 2012 : -88
Hue Adjustment Blue : 0
Blacks 2012 : 0
Luminance Adjustment Magenta : 0
Convert To Grayscale : False
Luminance Smoothing : 0
Tone Curve Name 2012 : Linear
Highlights 2012 : +30
Luminance Adjustment Yellow : 0
Incremental Tint : 0
Parametric Midtone Split : 50
Perspective Aspect : 0
Shadow Tint : 0
Hue Adjustment Red : 0
Split Toning Highlight Saturation : 0
Split Toning Shadow Hue : 0
Has Settings : True
Lens Profile Setup : LensDefaults
Defringe Purple Hue Hi : 70
Dehaze : 0
Saturation Adjustment Orange : 0
Defringe Purple Hue Lo : 30
Post Crop Vignette Amount : 0
Split Toning Balance : 0
Lens Profile Enable : 0
Vignette Amount : 0
Perspective Rotate : 0.0
Process Version : 6.7
Saturation Adjustment Purple : 0
Parametric Highlights : 0
Vibrance : 0
Saturation Adjustment Green : 0
Green Saturation : 0
Parametric Shadow Split : 25
Luminance Adjustment Purple : 0
Luminance Adjustment Orange : 0
Green Hue : 0
Perspective Vertical : 0
Blue Saturation : 0
Sharpen Detail : 25
Sharpness : 85
Perspective Horizontal : 0
Blue Hue : 0
Luminance Adjustment Aqua : 0
Parametric Highlight Split : 75
Auto Lateral CA : 0
Incremental Temperature : 0
Red Hue : 0
Split Toning Highlight Hue : 0
Camera Profile : Embedded
Saturation Adjustment Red : 0
Saturation Adjustment Aqua : 0
Defringe Purple Amount : 0
Parametric Lights : 0
Sharpen Radius : +1.0
Luminance Adjustment Blue : 0
Tone Map Strength : 0
Luminance Adjustment Red : 0
Saturation : 0
Hue Adjustment Purple : 0
Auto White Version : 134348800
Saturation Adjustment Blue : 0
Contrast 2012 : 0
Already Applied : True
Defringe Green Hue Hi : 60
Grain Amount : 0
Version : 9.2
Defringe Green Amount : 0
Whites 2012 : 0
Defringe Green Hue Lo : 40
Sharpen Edge Masking : 0
Exposure 2012 : 0.00
Saturation Adjustment Magenta : 0
Creator Tool : Adobe Photoshop Lightroom 6.2.1 (Macintosh)
Rating : 5
Marked : True
Format : image/jpeg
Tone Curve PV2012 Red : 0, 0, 255, 255
Paint Correction Defringe : 1.000000
Paint Correction Toning Hue : 0.000000
Paint Correction Contrast 2012 : -0.008456
Paint Correction Tint : 0.000000
Paint Correction Whites 2012 : 0.000000
Paint Correction Luminance Noise : -1.000000
Paint Correction Highlights 2012 : 0.000000
Paint Correction Brightness : 0.000000
Paint Correction Toning Saturation : 0.000000
Paint Correction Active : true
Paint Correction Saturation : 0.149265
Paint Correction Amount : 1.000000
Paint Correction Sharpness : 0.000000
Paint Correction Clarity 2012 : 0.000000
Paint Correction Moire : 0.000000
Paint Correction Exposure 2012 : 0.792207
Paint Correction Shadows 2012 : 0.000000
Paint Correction What : Correction
Paint Correction Blacks 2012 : 0.000000
Paint Correction Temperature : -0.002458
Paint Correction Mask What : Mask/Paint
Paint Correction Mask Radius : 0.064337
Paint Correction Mask Value : 0.346668
Paint Correction Mask Flow : 0.810330
Paint Correction Mask Center Weight : 0.214160
Tone Curve PV2012 Green : 0, 0, 255, 255
Tone Curve PV2012 : 0, 0, 255, 255
Tone Curve Green : 0, 0, 255, 255
Tone Curve Red : 0, 0, 255, 255
Tone Curve Blue : 0, 0, 255, 255
Tone Curve : 0, 0, 255, 255
Tone Curve PV2012 Blue : 0, 0, 255, 255
Creator Region : CA
Creator Country : USA
Creator Work Email : sjphoto@sjphoto.net
Rights : Steven Johnides Photography
Image Width : 227
Image Height : 300
Bits Per Sample : 8
Color Components : 1
Image Size : 227x300
Megapixels : 0.068