Uber Exif Photo
Photometric Interpretation : CMYK
Make : NIKON CORPORATION
Camera Model Name : NIKON D750
Orientation : Horizontal (normal)
Samples Per Pixel : 4
Software : Adobe Photoshop CC 2015 (Macintosh)
Modify Date : 2016:01:05 07:35:05
Exposure Time : 0.8
F Number : 22.0
Exposure Program : Manual
ISO : 100
Sensitivity Type : Recommended Exposure Index
Date/Time Original : 2016:01:04 13:31:40
Create Date : 2016:01:04 13:31:40
Shutter Speed Value : 0.8
Aperture Value : 22.0
Exposure Compensation : 0
Max Aperture Value : 4.0
Metering Mode : Spot
Light Source : Unknown
Flash : Off, Did not fire
Focal Length : 70.0 mm
Color Space : sRGB
Exif Image Width : 1000
Exif Image Height : 1200
Sensing Method : One-chip color area
Scene Type : Directly photographed
CFA Pattern : [Red,Green][Green,Blue]
Custom Rendered : Normal
Exposure Mode : Manual
White Balance : Auto
Digital Zoom Ratio : 1
Focal Length In 35mm Format : 70 mm
Scene Capture Type : Standard
Gain Control : None
Contrast : Normal
Saturation : Normal
Sharpness : Normal
Subject Distance Range : Unknown
Serial Number : 3072765
Lens Info : 24-120mm f/4
Lens Model : 24.0-120.0 mm f/4.0
Profile Description : sRGB IEC61966-2.1
Method : Details Enhancer
Strength : 100.0
Color Saturation : 50.0
Luminosity : 10.0
White Clip : 2.845480
Black Clip : 0.083200
Smoothing Mode : Slider
Smoothing : 3.0
Microcontrast : 10.0
Microsmoothing : 15.9
Gamma : 1.78
Highlights Smoothing : 70.0
Shadows Smoothing : 29.4
Shadows Clipping : 0.0
Color Temperature : 0.0
Saturation Highlights : 0.0
Saturation Shadows : 5.6
Is Pano 360 : No
Creator Tool : Adobe Photoshop CC 2015 (Macintosh)
Rating : 0
Lens : 24.0-120.0 mm f/4.0
Image Number : 1178
Approximate Focus Distance : 10
Date Created : 2016:01:04 13:31:40.011
Color Mode : RGB
ICC Profile Name : sRGB IEC61966-2.1
Format : image/jpeg
Raw File Name : Cypress Slough_tonemapped 2.tif
Version : 9.3.1
Process Version : 6.7
Auto White Version : 134348800
Incremental Temperature : 0
Incremental Tint : 0
Luminance Smoothing : 0
Color Noise Reduction : 0
Vignette Amount : 0
Shadow Tint : 0
Red Hue : 0
Red Saturation : 0
Green Hue : 0
Green Saturation : 0
Blue Hue : 0
Blue Saturation : 0
Vibrance : 0
Hue Adjustment Red : 0
Hue Adjustment Orange : -1
Hue Adjustment Yellow : -19
Hue Adjustment Green : +12
Hue Adjustment Aqua : -51
Hue Adjustment Blue : -27
Hue Adjustment Purple : 0
Hue Adjustment Magenta : 0
Saturation Adjustment Red : 0
Saturation Adjustment Orange : -4
Saturation Adjustment Yellow : -21
Saturation Adjustment Green : -44
Saturation Adjustment Aqua : 0
Saturation Adjustment Blue : -53
Saturation Adjustment Purple : 0
Saturation Adjustment Magenta : 0
Luminance Adjustment Red : 0
Luminance Adjustment Orange : +5
Luminance Adjustment Yellow : +11
Luminance Adjustment Green : -2
Luminance Adjustment Aqua : +10
Luminance Adjustment Blue : +12
Luminance Adjustment Purple : 0
Luminance Adjustment Magenta : 0
Split Toning Shadow Hue : 0
Split Toning Shadow Saturation : 0
Split Toning Highlight Hue : 0
Split Toning Highlight Saturation : 0
Split Toning Balance : 0
Parametric Shadows : 0
Parametric Darks : 0
Parametric Lights : 0
Parametric Highlights : 0
Parametric Shadow Split : 25
Parametric Midtone Split : 50
Parametric Highlight Split : 75
Sharpen Radius : +1.0
Sharpen Detail : 25
Sharpen Edge Masking : 0
Post Crop Vignette Amount : 0
Grain Amount : 0
Lens Profile Enable : 0
Lens Manual Distortion Amount : 0
Perspective Vertical : 0
Perspective Horizontal : 0
Perspective Rotate : 0.0
Perspective Scale : 100
Perspective Aspect : 0
Perspective Upright : Off
Auto Lateral CA : 0
Exposure 2012 : -0.30
Contrast 2012 : -17
Highlights 2012 : -17
Shadows 2012 : +9
Whites 2012 : -10
Blacks 2012 : +33
Clarity 2012 : +3
Defringe Purple Amount : 0
Defringe Purple Hue Lo : 30
Defringe Purple Hue Hi : 70
Defringe Green Amount : 0
Defringe Green Hue Lo : 40
Defringe Green Hue Hi : 60
Dehaze : 0
Tone Map Strength : 0
Convert To Grayscale : False
Tone Curve Name : Linear
Tone Curve Name 2012 : Linear
Camera Profile : Embedded
Lens Profile Setup : LensDefaults
Has Settings : True
Has Crop : False
Already Applied : True
Tone Curve : 0, 0, 255, 255
Tone Curve Red : 0, 0, 255, 255
Tone Curve Green : 0, 0, 255, 255
Tone Curve Blue : 0, 0, 255, 255
Tone Curve PV2012 : 0, 0, 255, 255
Tone Curve PV2012 Red : 0, 0, 255, 255
Tone Curve PV2012 Green : 0, 0, 255, 255
Tone Curve PV2012 Blue : 0, 0, 255, 255
Image Width : 308
Image Height : 368
Bits Per Sample : 8
Color Components : 3
Aperture : 22.0
Image Size : 308x368
Megapixels : 0.113
Scale Factor To 35 mm Equivalent : 1.0
Shutter Speed : 0.8
Date/Time Original : 2016:01:04 13:31:40.11
Circle Of Confusion : 0.030 mm
Depth Of Field : inf (4.27 m - inf)
Field Of View : 28.8 deg
Focal Length : 70.0 mm (35 mm equivalent: 70.0 mm)
Hyperfocal Distance : 7.41 m
Light Value : 9.2
Lens ID : AF-S Nikkor 24-120mm f/4G ED VR