Uber Exif Photo
Make : NIKON CORPORATION
Camera Model Name : NIKON D750
Orientation : Horizontal (normal)
Software : Adobe Photoshop CC 2015 (Macintosh)
Modify Date : 2016:01:09 05:33:33
Exposure Time : 1/40
F Number : 10.0
Exposure Program : Aperture-priority AE
ISO : 125
Sensitivity Type : Recommended Exposure Index
Date/Time Original : 2016:01:08 14:30:48
Create Date : 2016:01:08 14:30:48
Shutter Speed Value : 1/40
Aperture Value : 10.0
Exposure Compensation : 0
Max Aperture Value : 4.8
Metering Mode : Spot
Light Source : Unknown
Flash : Off, Did not fire
Focal Length : 135.0 mm
Color Space : Uncalibrated
Exif Image Width : 1489
Exif Image Height : 1000
Sensing Method : One-chip color area
Scene Type : Directly photographed
CFA Pattern : [Red,Green][Green,Blue]
Custom Rendered : Normal
Exposure Mode : Auto
White Balance : Auto
Digital Zoom Ratio : 1
Focal Length In 35mm Format : 135 mm
Scene Capture Type : Standard
Gain Control : None
Contrast : Normal
Saturation : Normal
Sharpness : Normal
Subject Distance Range : Unknown
Serial Number : 3072765
Lens Info : 70-300mm f/4.5-5.6
Lens Model : 70.0-300.0 mm f/4.5-5.6
Profile Description : Adobe RGB (1998)
Method : Details Enhancer
Strength : 100.0
Color Saturation : 51.3
Luminosity : 10.0
White Clip : 2.845480
Black Clip : 0.083200
Smoothing Mode : Slider
Smoothing : 3.0
Microcontrast : 10.0
Microsmoothing : 15.9
Gamma : 1.78
Highlights Smoothing : 70.0
Shadows Smoothing : 29.4
Shadows Clipping : 0.0
Color Temperature : 0.0
Saturation Highlights : 0.0
Saturation Shadows : 5.6
Is Pano 360 : No
Creator Tool : Photomatix Pro 5.1.1
Rating : 0
Lens : 70.0-300.0 mm f/4.5-5.6
Image Number : 1293
Approximate Focus Distance : 6.31
Date Created : 2016:01:08 14:30:48.005
Color Mode : RGB
ICC Profile Name : Adobe RGB (1998)
Format : image/jpeg
Raw File Name : DSC_1240And8more_tonemapped.tif
Version : 9.3.1
Process Version : 6.7
Auto White Version : 134348800
Incremental Temperature : 0
Incremental Tint : 0
Luminance Smoothing : 0
Color Noise Reduction : 0
Vignette Amount : 0
Shadow Tint : 0
Red Hue : 0
Red Saturation : 0
Green Hue : 0
Green Saturation : 0
Blue Hue : 0
Blue Saturation : 0
Vibrance : 0
Hue Adjustment Red : +6
Hue Adjustment Orange : +11
Hue Adjustment Yellow : -18
Hue Adjustment Green : +15
Hue Adjustment Aqua : +18
Hue Adjustment Blue : 0
Hue Adjustment Purple : 0
Hue Adjustment Magenta : 0
Saturation Adjustment Red : -5
Saturation Adjustment Orange : +13
Saturation Adjustment Yellow : +33
Saturation Adjustment Green : +34
Saturation Adjustment Aqua : -18
Saturation Adjustment Blue : -13
Saturation Adjustment Purple : 0
Saturation Adjustment Magenta : 0
Luminance Adjustment Red : +5
Luminance Adjustment Orange : -2
Luminance Adjustment Yellow : +14
Luminance Adjustment Green : -12
Luminance Adjustment Aqua : +43
Luminance Adjustment Blue : 0
Luminance Adjustment Purple : 0
Luminance Adjustment Magenta : 0
Split Toning Shadow Hue : 0
Split Toning Shadow Saturation : 0
Split Toning Highlight Hue : 0
Split Toning Highlight Saturation : 0
Split Toning Balance : 0
Parametric Shadows : 0
Parametric Darks : 0
Parametric Lights : 0
Parametric Highlights : 0
Parametric Shadow Split : 25
Parametric Midtone Split : 50
Parametric Highlight Split : 75
Sharpen Radius : +1.0
Sharpen Detail : 25
Sharpen Edge Masking : 0
Post Crop Vignette Amount : 0
Grain Amount : 0
Lens Profile Enable : 0
Lens Manual Distortion Amount : 0
Perspective Vertical : 0
Perspective Horizontal : 0
Perspective Rotate : 0.0
Perspective Scale : 100
Perspective Aspect : 0
Perspective Upright : Off
Auto Lateral CA : 0
Exposure 2012 : -0.10
Contrast 2012 : 0
Highlights 2012 : -28
Shadows 2012 : 0
Whites 2012 : -65
Blacks 2012 : -6
Clarity 2012 : 0
Defringe Purple Amount : 0
Defringe Purple Hue Lo : 30
Defringe Purple Hue Hi : 70
Defringe Green Amount : 0
Defringe Green Hue Lo : 40
Defringe Green Hue Hi : 60
Dehaze : 0
Tone Map Strength : 0
Convert To Grayscale : False
Tone Curve Name : Linear
Tone Curve Name 2012 : Linear
Camera Profile : Embedded
Lens Profile Setup : LensDefaults
Has Settings : True
Crop Top : 0.0625
Crop Left : 0.005959
Crop Bottom : 0.968094
Crop Right : 0.905817
Crop Angle : 0
Crop Constrain To Warp : 1
Has Crop : True
Already Applied : True
Tone Curve : 0, 0, 255, 255
Tone Curve Red : 0, 0, 255, 255
Tone Curve Green : 0, 0, 255, 255
Tone Curve Blue : 0, 0, 255, 255
Tone Curve PV2012 : 0, 0, 255, 255
Tone Curve PV2012 Red : 0, 0, 255, 255
Tone Curve PV2012 Green : 0, 0, 255, 255
Tone Curve PV2012 Blue : 0, 0, 255, 255
Gradient Based Corr What : Correction
Gradient Based Corr Amount : 1.000000
Gradient Based Corr Active : true
Gradient Based Corr Exposure : 0.000000
Gradient Based Corr Saturation : 0.100000
Gradient Based Corr Contrast : 0.000000
Gradient Based Corr Clarity : 0.000000
Gradient Based Corr Sharpness : 0.560000
Gradient Based Corr Brightness : 0.000000
Gradient Based Corr Toning Hue : 0.000000
Gradient Based Corr Toning Saturation : 0.000000
Gradient Based Corr Exposure 2012 : 0.025000
Gradient Based Corr Contrast 2012 : -0.130000
Gradient Based Corr Highlights 2012 : -0.420000
Gradient Based Corr Shadows 2012 : -0.610000
Gradient Based Corr Whites 2012 : -0.350000
Gradient Based Corr Blacks 2012 : 0.120000
Gradient Based Corr Clarity 2012 : 0.430000
Gradient Based Corr Dehaze : 0.550000
Gradient Based Corr Luminance Noise : -0.100000
Gradient Based Corr Moire : 0.000000
Gradient Based Corr Defringe : 0.000000
Gradient Based Corr Temperature : 0.100000
Gradient Based Corr Tint : 0.100000
Gradient Based Corr Mask What : Mask/Gradient
Gradient Based Corr Mask Value : 1.000000
Gradient Based Corr Mask Zero X : 0.441001
Gradient Based Corr Mask Zero Y : 0.907143
Gradient Based Corr Mask Full X : 0.438617
Gradient Based Corr Mask Full Y : 0.030357
Image Width : 308
Image Height : 209
Bits Per Sample : 8
Color Components : 3
Aperture : 10.0
Image Size : 308x209
Megapixels : 0.064
Scale Factor To 35 mm Equivalent : 1.0
Shutter Speed : 1/40
Create Date : 2016:01:08 14:30:48.50
Date/Time Original : 2016:01:08 14:30:48.5
Modify Date : 2016:01:09 05:33:33.50
Circle Of Confusion : 0.030 mm
Depth Of Field : 1.30 m (5.73 - 7.03 m)
Field Of View : 15.2 deg
Focal Length : 135.0 mm (35 mm equivalent: 135.0 mm)
Hyperfocal Distance : 60.66 m
Light Value : 11.6
Lens ID : AF-S VR Zoom-Nikkor 70-300mm f/4.5-5.6G IF-ED