Uber Exif Photo
Make : NIKON CORPORATION
Camera Model Name : NIKON D750
Orientation : Horizontal (normal)
Software : Adobe Photoshop CC 2015 (Macintosh)
Modify Date : 2016:01:25 07:41:32
Exposure Time : 2.5
F Number : 22.0
Exposure Program : Manual
ISO : 50
Sensitivity Type : Recommended Exposure Index
Date/Time Original : 2016:01:25 07:08:13
Create Date : 2016:01:25 07:08:13
Shutter Speed Value : 2.5
Aperture Value : 22.0
Exposure Compensation : 0
Max Aperture Value : 4.0
Metering Mode : Spot
Light Source : Unknown
Flash : Off, Did not fire
Focal Length : 92.0 mm
Color Space : Uncalibrated
Exif Image Width : 1500
Exif Image Height : 1452
Sensing Method : One-chip color area
Scene Type : Directly photographed
CFA Pattern : [Red,Green][Green,Blue]
Custom Rendered : Custom
Exposure Mode : Manual
White Balance : Auto
Digital Zoom Ratio : 1
Focal Length In 35mm Format : 92 mm
Scene Capture Type : Standard
Gain Control : None
Contrast : Normal
Saturation : Normal
Sharpness : Normal
Subject Distance Range : Unknown
Serial Number : 3072765
Lens Info : 24-120mm f/4
Lens Model : 24.0-120.0 mm f/4.0
Profile Description : Adobe RGB (1998)
Creator Tool : NIKON D750 Ver.1.10
Rating : 0
Lens : 24.0-120.0 mm f/4.0
Image Number : 2668
Approximate Focus Distance : 4294967295
Distortion Correction Already Applied : True
Lateral Chromatic Aberration Correction Already Applied:
True
Vignette Correction Already Applied : True
Date Created : 2016:01:25 07:08:13.088
Color Mode : RGB
ICC Profile Name : Adobe RGB (1998)
Format : image/jpeg
Raw File Name : DSC_2538.JPG
Version : 9.3.1
Process Version : 6.7
Auto White Version : 134348800
Incremental Temperature : 0
Incremental Tint : 0
Luminance Smoothing : 0
Color Noise Reduction : 0
Vignette Amount : 0
Shadow Tint : 0
Red Hue : 0
Red Saturation : 0
Green Hue : 0
Green Saturation : 0
Blue Hue : 0
Blue Saturation : 0
Vibrance : 0
Hue Adjustment Red : -38
Hue Adjustment Orange : -42
Hue Adjustment Yellow : 0
Hue Adjustment Green : -11
Hue Adjustment Aqua : -5
Hue Adjustment Blue : -4
Hue Adjustment Purple : 0
Hue Adjustment Magenta : 0
Saturation Adjustment Red : +38
Saturation Adjustment Orange : +52
Saturation Adjustment Yellow : -21
Saturation Adjustment Green : 0
Saturation Adjustment Aqua : 0
Saturation Adjustment Blue : +11
Saturation Adjustment Purple : 0
Saturation Adjustment Magenta : +29
Luminance Adjustment Red : +6
Luminance Adjustment Orange : +6
Luminance Adjustment Yellow : -5
Luminance Adjustment Green : 0
Luminance Adjustment Aqua : +21
Luminance Adjustment Blue : -54
Luminance Adjustment Purple : -12
Luminance Adjustment Magenta : 0
Split Toning Shadow Hue : 0
Split Toning Shadow Saturation : 0
Split Toning Highlight Hue : 0
Split Toning Highlight Saturation : 0
Split Toning Balance : 0
Parametric Shadows : 0
Parametric Darks : 0
Parametric Lights : 0
Parametric Highlights : 0
Parametric Shadow Split : 25
Parametric Midtone Split : 50
Parametric Highlight Split : 75
Sharpen Radius : +1.0
Sharpen Detail : 25
Sharpen Edge Masking : 0
Post Crop Vignette Amount : 0
Grain Amount : 0
Lens Profile Enable : 1
Lens Manual Distortion Amount : 0
Perspective Vertical : 0
Perspective Horizontal : 0
Perspective Rotate : 0.0
Perspective Scale : 100
Perspective Aspect : 0
Perspective Upright : Off
Auto Lateral CA : 1
Exposure 2012 : +2.40
Contrast 2012 : 0
Highlights 2012 : 0
Shadows 2012 : 0
Whites 2012 : 0
Blacks 2012 : 0
Clarity 2012 : 0
Defringe Purple Amount : 0
Defringe Purple Hue Lo : 30
Defringe Purple Hue Hi : 70
Defringe Green Amount : 0
Defringe Green Hue Lo : 40
Defringe Green Hue Hi : 60
Dehaze : 0
Tone Map Strength : 0
Convert To Grayscale : False
Tone Curve Name : Linear
Tone Curve Name 2012 : Linear
Camera Profile : Embedded
Lens Profile Setup : Custom
Lens Profile Name : Adobe (Nikon AF-S NIKKOR 14-24mm f/2.8G ED)
Lens Profile Filename : NIKON D3X (Nikon FX 14-24mm f2.8 G ED).lcp
Lens Profile Distortion Scale : 100
Lens Profile Chromatic Aberration Scale : 100
Lens Profile Vignetting Scale : 80
Has Settings : True
Crop Top : 0
Crop Left : 0.181193
Crop Bottom : 1
Crop Right : 0.827514
Crop Angle : 0
Crop Constrain To Warp : 1
Has Crop : True
Already Applied : True
Tone Curve : 0, 0, 255, 255
Tone Curve Red : 0, 0, 255, 255
Tone Curve Green : 0, 0, 255, 255
Tone Curve Blue : 0, 0, 255, 255
Tone Curve PV2012 : 0, 0, 255, 255
Tone Curve PV2012 Red : 0, 0, 255, 255
Tone Curve PV2012 Green : 0, 0, 255, 255
Tone Curve PV2012 Blue : 0, 0, 255, 255
Gradient Based Corr What : Correction
Gradient Based Corr Amount : 1.000000
Gradient Based Corr Active : true
Gradient Based Corr Exposure : 0.000000
Gradient Based Corr Saturation : 0.500000
Gradient Based Corr Contrast : 0.000000
Gradient Based Corr Clarity : 0.000000
Gradient Based Corr Sharpness : 0.560000
Gradient Based Corr Brightness : 0.000000
Gradient Based Corr Toning Hue : 0.000000
Gradient Based Corr Toning Saturation : 0.000000
Gradient Based Corr Exposure 2012 : -0.545000
Gradient Based Corr Contrast 2012 : 0.100000
Gradient Based Corr Highlights 2012 : -0.290000
Gradient Based Corr Shadows 2012 : 0.620000
Gradient Based Corr Whites 2012 : 0.000000
Gradient Based Corr Blacks 2012 : -0.030000
Gradient Based Corr Clarity 2012 : 0.450000
Gradient Based Corr Dehaze : 0.000000
Gradient Based Corr Luminance Noise : 0.000000
Gradient Based Corr Moire : 0.000000
Gradient Based Corr Defringe : 0.000000
Gradient Based Corr Temperature : 0.000000
Gradient Based Corr Tint : 0.000000
Gradient Based Corr Mask What : Mask/Gradient
Gradient Based Corr Mask Value : 1.000000
Gradient Based Corr Mask Zero X : 0.586755
Gradient Based Corr Mask Zero Y : 0.384921
Gradient Based Corr Mask Full X : 0.221192
Gradient Based Corr Mask Full Y : 0.386905
Image Width : 300
Image Height : 290
Bits Per Sample : 8
Color Components : 3
Aperture : 22.0
Image Size : 300x290
Megapixels : 0.087
Scale Factor To 35 mm Equivalent : 1.0
Shutter Speed : 2.5
Create Date : 2016:01:25 07:08:13.88
Date/Time Original : 2016:01:25 07:08:13.88
Modify Date : 2016:01:25 07:41:32.88
Circle Of Confusion : 0.030 mm
Depth Of Field : inf (12.80 m - inf)
Field Of View : 22.1 deg
Focal Length : 92.0 mm (35 mm equivalent: 92.0 mm)
Hyperfocal Distance : 12.80 m
Light Value : 8.6
Lens ID : AF-S Nikkor 24-120mm f/4G ED VR