Uber Exif Photo
Make : NIKON CORPORATION
Camera Model Name : NIKON D750
Orientation : Horizontal (normal)
Software : Adobe Photoshop CC 2015 (Macintosh)
Modify Date : 2016:01:27 09:47:43
Exposure Time : 1/1000
F Number : 22.0
Exposure Program : Manual
ISO : 2000
Sensitivity Type : Recommended Exposure Index
Date/Time Original : 2016:01:26 14:17:52
Create Date : 2016:01:26 14:17:52
Shutter Speed Value : 1/1000
Aperture Value : 22.0
Exposure Compensation : 0
Max Aperture Value : 8.0
Metering Mode : Spot
Light Source : Unknown
Flash : Off, Did not fire
Focal Length : 280.0 mm
Color Space : Uncalibrated
Exif Image Width : 1500
Exif Image Height : 1123
Sensing Method : One-chip color area
Scene Type : Directly photographed
CFA Pattern : [Red,Green][Green,Blue]
Custom Rendered : Normal
Exposure Mode : Manual
White Balance : Auto
Digital Zoom Ratio : 1
Focal Length In 35mm Format : 280 mm
Scene Capture Type : Standard
Gain Control : High gain up
Contrast : Normal
Saturation : Normal
Sharpness : Normal
Subject Distance Range : Unknown
Serial Number : 3072765
Lens Info : 200-500mm f/5.6
Lens Model : 200.0-500.0 mm f/5.6
Profile Description : Adobe RGB (1998)
Creator Tool : NIKON D750 Ver.1.10
Rating : 0
Lens : 200.0-500.0 mm f/5.6
Image Number : 2953
Approximate Focus Distance : 29.9
Date Created : 2016:01:26 14:17:52.001
Color Mode : RGB
ICC Profile Name : Adobe RGB (1998)
Format : image/jpeg
Raw File Name : DSC_2796.JPG
Version : 9.3.1
Process Version : 6.7
Auto White Version : 134348800
Incremental Temperature : 0
Incremental Tint : 0
Luminance Smoothing : 0
Color Noise Reduction : 0
Vignette Amount : 0
Shadow Tint : 0
Red Hue : 0
Red Saturation : 0
Green Hue : 0
Green Saturation : 0
Blue Hue : 0
Blue Saturation : 0
Vibrance : 0
Hue Adjustment Red : 0
Hue Adjustment Orange : 0
Hue Adjustment Yellow : 0
Hue Adjustment Green : 0
Hue Adjustment Aqua : 0
Hue Adjustment Blue : 0
Hue Adjustment Purple : 0
Hue Adjustment Magenta : 0
Saturation Adjustment Red : 0
Saturation Adjustment Orange : 0
Saturation Adjustment Yellow : 0
Saturation Adjustment Green : 0
Saturation Adjustment Aqua : 0
Saturation Adjustment Blue : 0
Saturation Adjustment Purple : 0
Saturation Adjustment Magenta : 0
Luminance Adjustment Red : 0
Luminance Adjustment Orange : 0
Luminance Adjustment Yellow : 0
Luminance Adjustment Green : 0
Luminance Adjustment Aqua : 0
Luminance Adjustment Blue : 0
Luminance Adjustment Purple : 0
Luminance Adjustment Magenta : 0
Split Toning Shadow Hue : 0
Split Toning Shadow Saturation : 0
Split Toning Highlight Hue : 0
Split Toning Highlight Saturation : 0
Split Toning Balance : 0
Parametric Shadows : 0
Parametric Darks : 0
Parametric Lights : 0
Parametric Highlights : 0
Parametric Shadow Split : 25
Parametric Midtone Split : 50
Parametric Highlight Split : 75
Sharpen Radius : +1.0
Sharpen Detail : 25
Sharpen Edge Masking : 0
Post Crop Vignette Amount : 0
Grain Amount : 0
Lens Profile Enable : 0
Lens Manual Distortion Amount : 0
Perspective Vertical : 0
Perspective Horizontal : 0
Perspective Rotate : 0.0
Perspective Scale : 100
Perspective Aspect : 0
Perspective Upright : Off
Auto Lateral CA : 0
Exposure 2012 : +1.50
Contrast 2012 : +11
Highlights 2012 : +13
Shadows 2012 : +18
Whites 2012 : +38
Blacks 2012 : -8
Clarity 2012 : +64
Defringe Purple Amount : 0
Defringe Purple Hue Lo : 30
Defringe Purple Hue Hi : 70
Defringe Green Amount : 0
Defringe Green Hue Lo : 40
Defringe Green Hue Hi : 60
Dehaze : 0
Tone Map Strength : 0
Convert To Grayscale : False
Tone Curve Name : Linear
Tone Curve Name 2012 : Linear
Camera Profile : Embedded
Lens Profile Setup : LensDefaults
Has Settings : True
Crop Top : 0.272661
Crop Left : 0.358627
Crop Bottom : 0.677611
Crop Right : 0.776711
Crop Angle : 0
Crop Constrain To Warp : 1
Has Crop : True
Already Applied : True
Tone Curve : 0, 0, 255, 255
Tone Curve Red : 0, 0, 255, 255
Tone Curve Green : 0, 0, 255, 255
Tone Curve Blue : 0, 0, 255, 255
Tone Curve PV2012 : 0, 0, 255, 255
Tone Curve PV2012 Red : 0, 0, 255, 255
Tone Curve PV2012 Green : 0, 0, 255, 255
Tone Curve PV2012 Blue : 0, 0, 255, 255
Image Width : 300
Image Height : 225
Bits Per Sample : 8
Color Components : 3
Aperture : 22.0
Image Size : 300x225
Megapixels : 0.068
Scale Factor To 35 mm Equivalent : 1.0
Shutter Speed : 1/1000
Create Date : 2016:01:26 14:17:52.10
Date/Time Original : 2016:01:26 14:17:52.1
Modify Date : 2016:01:27 09:47:43.10
Circle Of Confusion : 0.030 mm
Depth Of Field : 15.93 m (23.93 - 39.85 m)
Field Of View : 7.4 deg
Focal Length : 280.0 mm (35 mm equivalent: 280.0 mm)
Hyperfocal Distance : 118.60 m
Light Value : 14.6
Lens ID : AF-S Nikkor 200-500mm f/5.6E ED VR