Uber Exif Photo
Make : NIKON CORPORATION
Camera Model Name : NIKON D3000
Orientation : Horizontal (normal)
Software : Adobe Photoshop CS6 (Windows)
Modify Date : 2015:05:27 00:52:31
Exposure Time : 1/250
F Number : 5.0
Exposure Program : Program AE
ISO : 200
Date/Time Original : 2015:05:23 13:44:48
Create Date : 2015:05:23 13:44:48
Shutter Speed Value : 1/250
Aperture Value : 5.0
Exposure Compensation : 0
Max Aperture Value : 5.1
Metering Mode : Multi-segment
Light Source : Unknown
Flash : No Flash
Focal Length : 145.0 mm
Color Space : Uncalibrated
Exif Image Width : 3006
Exif Image Height : 2592
Sensing Method : One-chip color area
Scene Type : Directly photographed
Exposure Mode : Auto
White Balance : Auto
Digital Zoom Ratio : 1
Focal Length In 35mm Format : 217 mm
Scene Capture Type : Standard
Gain Control : None
Contrast : High
Saturation : High
Sharpness : Hard
Subject Distance Range : Unknown
Subfile Type : Full-resolution image
Photometric Interpretation : YCbCr
Strip Offsets : 16101
Samples Per Pixel : 3
Rows Per Strip : 137
Strip Byte Counts : 6600
JPEG Proc : Baseline
Profile Description : Adobe RGB (1998)
Creator Tool : Ver.1.00
Rating : 0
Serial Number : 7415811
Lens Info : 55-200mm f/4-5.6
Lens : 55.0-200.0 mm f/4.0-5.6
Image Number : 9330
Approximate Focus Distance : 6.31
Date Created : 2015:05:23 13:44:48.005
Color Mode : RGB
ICC Profile Name : Adobe RGB (1998)
Format : image/jpeg
Raw File Name : DSC_7820.NEF
Version : 7.1
Process Version : 6.7
Color Temperature : 4350
Tint : -2
Luminance Smoothing : 0
Color Noise Reduction : 25
Vignette Amount : 0
Shadow Tint : 0
Red Hue : 0
Red Saturation : 0
Green Hue : 0
Green Saturation : 0
Blue Hue : 0
Blue Saturation : 0
Vibrance : +4
Hue Adjustment Red : 0
Hue Adjustment Orange : 0
Hue Adjustment Yellow : 0
Hue Adjustment Green : 0
Hue Adjustment Aqua : 0
Hue Adjustment Blue : 0
Hue Adjustment Purple : 0
Hue Adjustment Magenta : 0
Saturation Adjustment Red : +10
Saturation Adjustment Orange : +8
Saturation Adjustment Yellow : +36
Saturation Adjustment Green : 0
Saturation Adjustment Aqua : 0
Saturation Adjustment Blue : 0
Saturation Adjustment Purple : 0
Saturation Adjustment Magenta : 0
Luminance Adjustment Red : 0
Luminance Adjustment Orange : 0
Luminance Adjustment Yellow : 0
Luminance Adjustment Green : 0
Luminance Adjustment Aqua : 0
Luminance Adjustment Blue : 0
Luminance Adjustment Purple : 0
Luminance Adjustment Magenta : 0
Split Toning Shadow Hue : 0
Split Toning Shadow Saturation : 0
Split Toning Highlight Hue : 0
Split Toning Highlight Saturation : 0
Split Toning Balance : 0
Parametric Shadows : 0
Parametric Darks : 0
Parametric Lights : 0
Parametric Highlights : 0
Parametric Shadow Split : 25
Parametric Midtone Split : 50
Parametric Highlight Split : 75
Sharpen Radius : +1.0
Sharpen Detail : 25
Sharpen Edge Masking : 0
Post Crop Vignette Amount : 0
Grain Amount : 0
Color Noise Reduction Detail : 50
Lens Profile Enable : 0
Lens Manual Distortion Amount : 0
Perspective Vertical : 0
Perspective Horizontal : 0
Perspective Rotate : 0.0
Perspective Scale : 100
Auto Lateral CA : 0
Exposure 2012 : 0.00
Contrast 2012 : +46
Highlights 2012 : +8
Shadows 2012 : -23
Whites 2012 : +26
Blacks 2012 : -10
Clarity 2012 : +61
Defringe Purple Amount : 0
Defringe Purple Hue Lo : 30
Defringe Purple Hue Hi : 70
Defringe Green Amount : 0
Defringe Green Hue Lo : 40
Defringe Green Hue Hi : 60
Convert To Grayscale : False
Tone Curve Name 2012 : Linear
Camera Profile : Adobe Standard
Lens Profile Setup : LensDefaults
Has Settings : True
Crop Top : 0
Crop Left : 0.000001
Crop Bottom : 1
Crop Right : 0.776231
Crop Angle : 0
Crop Constrain To Warp : 1
Has Crop : True
Already Applied : True
Tone Curve PV2012 : 0, 0, 255, 255
Tone Curve PV2012 Red : 0, 0, 255, 255
Tone Curve PV2012 Green : 0, 0, 255, 255
Tone Curve PV2012 Blue : 0, 0, 255, 255
Image Width : 300
Image Height : 259
Bits Per Sample : 8
Color Components : 3
Aperture : 5.0
Image Size : 300x259
Megapixels : 0.078
Scale Factor To 35 mm Equivalent : 1.5
Shutter Speed : 1/250
Create Date : 2015:05:23 13:44:48.50
Date/Time Original : 2015:05:23 13:44:48.50
Modify Date : 2015:05:27 00:52:31.50
Circle Of Confusion : 0.020 mm
Depth Of Field : 0.37 m (6.13 - 6.50 m)
Field Of View : 9.5 deg
Focal Length : 145.0 mm (35 mm equivalent: 217.0 mm)
Hyperfocal Distance : 209.44 m
Light Value : 11.6
Lens ID : AF-S DX VR Zoom-Nikkor 55-200mm f/4-5.6G IF-ED