Uber Exif Photo
Make : NIKON CORPORATION
Camera Model Name : NIKON D700
Orientation : Horizontal (normal)
Software : Adobe Photoshop CS5 Macintosh
Modify Date : 2016:03:24 05:40:43
Exposure Time : 1/640
F Number : 4.0
Exposure Program : Manual
ISO : 200
Sensitivity Type : Unknown
Date/Time Original : 2016:03:01 09:50:51
Create Date : 2016:03:01 09:50:51
Shutter Speed Value : 1/640
Aperture Value : 4.0
Exposure Compensation : +1/3
Max Aperture Value : 1.0
Metering Mode : Multi-segment
Light Source : Unknown
Flash : No Flash
Focal Length : 105.0 mm
Color Space : Uncalibrated
Exif Image Width : 1442
Exif Image Height : 908
Sensing Method : One-chip color area
Scene Type : Directly photographed
CFA Pattern : [Red,Green][Green,Blue]
Custom Rendered : Normal
Exposure Mode : Manual
White Balance : Manual
Digital Zoom Ratio : 1
Focal Length In 35mm Format : 105 mm
Scene Capture Type : Standard
Gain Control : None
Contrast : Normal
Saturation : Normal
Sharpness : Normal
Subject Distance Range : Unknown
Serial Number : 2205982
Lens Info : 0mm f/0
Lens Model : 0.0 mm f/0.0
Creator Tool : Ver.1.01
Rating : 0
Lens : 0.0 mm f/0.0
Image Number : 82360
Raw File Name : DSC_3849.NEF
Version : 6.2
Process Version : 5.7
Color Temperature : 6650
Tint : -4
Exposure : -1.05
Shadows : 15
Brightness : +50
Luminance Smoothing : 0
Color Noise Reduction : 25
Chromatic Aberration R : 0
Chromatic Aberration B : 0
Vignette Amount : 0
Shadow Tint : 0
Red Hue : 0
Red Saturation : 0
Green Hue : 0
Green Saturation : 0
Blue Hue : 0
Blue Saturation : 0
Fill Light : 0
Highlight Recovery : 11
Clarity : 0
Defringe : 0
Gray Mixer Red : -3
Gray Mixer Orange : -11
Gray Mixer Yellow : -27
Gray Mixer Green : -22
Gray Mixer Aqua : -20
Gray Mixer Blue : +4
Gray Mixer Purple : +12
Gray Mixer Magenta : +6
Split Toning Shadow Hue : 0
Split Toning Shadow Saturation : 0
Split Toning Highlight Hue : 0
Split Toning Highlight Saturation : 0
Split Toning Balance : 0
Parametric Shadows : 0
Parametric Darks : 0
Parametric Lights : 0
Parametric Highlights : 0
Parametric Shadow Split : 25
Parametric Midtone Split : 50
Parametric Highlight Split : 75
Sharpen Radius : +1.0
Sharpen Detail : 25
Sharpen Edge Masking : 0
Post Crop Vignette Amount : 0
Grain Amount : 0
Color Noise Reduction Detail : 50
Lens Profile Enable : 0
Lens Manual Distortion Amount : 0
Perspective Vertical : 0
Perspective Horizontal : 0
Perspective Rotate : 0.0
Perspective Scale : 100
Convert To Grayscale : True
Tone Curve Name : Custom
Camera Profile : Adobe Standard
Lens Profile Setup : LensDefaults
Has Settings : True
Has Crop : False
Already Applied : True
Format : image/jpeg
Color Mode : Grayscale
ICC Profile Name : Gray Gamma 2.2
Date Created : 2016:03:01 09:50:51.068
Tone Curve : 0, 0, 32, 16, 64, 50, 128, 128, 191, 206, 255, 255
Image Width : 300
Image Height : 189
Bits Per Sample : 8
Color Components : 1
Aperture : 4.0
Image Size : 300x189
Megapixels : 0.057
Scale Factor To 35 mm Equivalent : 1.0
Shutter Speed : 1/640
Create Date : 2016:03:01 09:50:51.68
Date/Time Original : 2016:03:01 09:50:51.68
Modify Date : 2016:03:24 05:40:43.68
Circle Of Confusion : 0.030 mm
Field Of View : 19.5 deg
Focal Length : 105.0 mm (35 mm equivalent: 105.0 mm)
Hyperfocal Distance : 91.73 m
Light Value : 12.3
Lens ID : 0.0mm f/0.0