Uber Exif Photo
Make : NIKON CORPORATION
Camera Model Name : NIKON D810
Orientation : Horizontal (normal)
Software : Adobe Photoshop CS5 Macintosh
Modify Date : 2016:04:29 22:20:23
Exposure Time : 1/60
F Number : 5.6
Exposure Program : Manual
ISO : 125
Sensitivity Type : Recommended Exposure Index
Date/Time Original : 2016:04:09 10:24:40
Create Date : 2016:04:09 10:24:40
Shutter Speed Value : 1/60
Aperture Value : 5.6
Exposure Compensation : 0
Max Aperture Value : 1.0
Subject Distance : 39.8 m
Metering Mode : Center-weighted average
Light Source : Unknown
Flash : Off, Did not fire
Focal Length : 55.0 mm
Color Space : Uncalibrated
Exif Image Width : 954
Exif Image Height : 1470
Sensing Method : One-chip color area
Scene Type : Directly photographed
CFA Pattern : [Red,Green][Green,Blue]
Custom Rendered : Normal
Exposure Mode : Manual
White Balance : Auto
Digital Zoom Ratio : 1
Focal Length In 35mm Format : 55 mm
Scene Capture Type : Standard
Gain Control : None
Contrast : Normal
Saturation : Normal
Sharpness : Normal
Subject Distance Range : Unknown
Serial Number : 3010180
Lens Info : 0mm f/0
Lens Model : 0.0 mm f/0.0
Creator Tool : Adobe Photoshop CS5 Macintosh
Rating : 0
Lens : 0.0 mm f/0.0
Image Number : 10166
Approximate Focus Distance : 39.8
Date Created : 2016:04:09 10:24:40.085
Color Mode : RGB
ICC Profile Name : Adobe RGB (1998)
Format : image/jpeg
Raw File Name : DSC_8457.dng
Version : 6.2
Process Version : 5.7
Color Temperature : 4850
Tint : -4
Exposure : -0.85
Shadows : 4
Brightness : +50
Luminance Smoothing : 0
Color Noise Reduction : 25
Chromatic Aberration R : 0
Chromatic Aberration B : 0
Vignette Amount : 0
Shadow Tint : 0
Red Hue : 0
Red Saturation : 0
Green Hue : 0
Green Saturation : 0
Blue Hue : 0
Blue Saturation : 0
Fill Light : 19
Vibrance : 0
Highlight Recovery : 0
Clarity : 0
Defringe : 0
Hue Adjustment Red : 0
Hue Adjustment Orange : 0
Hue Adjustment Yellow : 0
Hue Adjustment Green : 0
Hue Adjustment Aqua : 0
Hue Adjustment Blue : 0
Hue Adjustment Purple : 0
Hue Adjustment Magenta : 0
Saturation Adjustment Red : 0
Saturation Adjustment Orange : 0
Saturation Adjustment Yellow : 0
Saturation Adjustment Green : 0
Saturation Adjustment Aqua : 0
Saturation Adjustment Blue : 0
Saturation Adjustment Purple : 0
Saturation Adjustment Magenta : 0
Luminance Adjustment Red : 0
Luminance Adjustment Orange : 0
Luminance Adjustment Yellow : 0
Luminance Adjustment Green : 0
Luminance Adjustment Aqua : 0
Luminance Adjustment Blue : 0
Luminance Adjustment Purple : 0
Luminance Adjustment Magenta : 0
Split Toning Shadow Hue : 0
Split Toning Shadow Saturation : 0
Split Toning Highlight Hue : 0
Split Toning Highlight Saturation : 0
Split Toning Balance : 0
Parametric Shadows : 0
Parametric Darks : 0
Parametric Lights : 0
Parametric Highlights : 0
Parametric Shadow Split : 25
Parametric Midtone Split : 50
Parametric Highlight Split : 75
Sharpen Radius : +1.0
Sharpen Detail : 25
Sharpen Edge Masking : 0
Post Crop Vignette Amount : 0
Grain Amount : 0
Color Noise Reduction Detail : 50
Lens Profile Enable : 0
Lens Manual Distortion Amount : 0
Perspective Vertical : 0
Perspective Horizontal : 0
Perspective Rotate : 0.0
Perspective Scale : 100
Convert To Grayscale : False
Tone Curve Name : Medium Contrast
Camera Profile : Adobe Standard
Lens Profile Setup : LensDefaults
Has Settings : True
Has Crop : False
Already Applied : True
Tone Curve : 0, 0, 32, 22, 64, 56, 128, 128, 192, 196, 255, 255
Image Width : 300
Image Height : 462
Bits Per Sample : 8
Color Components : 1
Aperture : 5.6
Image Size : 300x462
Megapixels : 0.139
Scale Factor To 35 mm Equivalent : 1.0
Shutter Speed : 1/60
Create Date : 2016:04:09 10:24:40.85
Date/Time Original : 2016:04:09 10:24:40.85
Circle Of Confusion : 0.030 mm
Depth Of Field : inf (12.40 m - inf)
Field Of View : 36.2 deg
Focal Length : 55.0 mm (35 mm equivalent: 55.0 mm)
Hyperfocal Distance : 17.98 m
Light Value : 10.6
Lens ID : Zeiss Otus 1.4/100