Uber Exif Photo
By-line : MIHALY BLAUBACHER
Photometric Interpretation : RGB
Make : NIKON CORPORATION
Camera Model Name : NIKON D3
Orientation : Horizontal (normal)
Samples Per Pixel : 3
Software : Adobe Photoshop CS6 (Windows)
Modify Date : 2016:05:21 18:11:44
Artist : MIHALY BLAUBACHER
Exposure Time : 1/250
F Number : 5.6
Exposure Program : Manual
ISO : 200
Date/Time Original : 2016:05:14 09:59:42
Create Date : 2016:05:14 09:59:42
Shutter Speed Value : 1/250
Aperture Value : 5.6
Exposure Compensation : 0
Max Aperture Value : 2.8
Metering Mode : Center-weighted average
Light Source : Unknown
Flash : On, Return not detected
Focal Length : 58.0 mm
Color Space : sRGB
Exif Image Width : 3774
Exif Image Height : 2123
Sensing Method : One-chip color area
Scene Type : Directly photographed
CFA Pattern : [Red,Green][Green,Blue]
Custom Rendered : Normal
Exposure Mode : Manual
White Balance : Auto
Digital Zoom Ratio : 1
Focal Length In 35mm Format : 58 mm
Scene Capture Type : Standard
Gain Control : None
Contrast : Normal
Saturation : Normal
Sharpness : Normal
Subject Distance Range : Unknown
Serial Number : 2045361
Lens Info : 24-70mm f/2.8
Lens Model : 24.0-70.0 mm f/2.8
Format : image/jpeg
Creator Tool : Adobe Photoshop CS6 (Windows)
Lens : 24.0-70.0 mm f/2.8
Image Number : 76875
Approximate Focus Distance : 1.26
Date Created : 2016:05:14 09:59:42.016
Color Mode : RGB
ICC Profile Name : sRGB IEC61966-2.1
Version : 7.4
Process Version : 6.7
Color Temperature : 4619
Tint : -4
Luminance Smoothing : 15
Color Noise Reduction : 2
Vignette Amount : 0
Shadow Tint : +5
Red Hue : +17
Red Saturation : 0
Green Hue : -14
Green Saturation : 0
Blue Hue : -40
Blue Saturation : 0
Vibrance : +48
Hue Adjustment Red : +9
Hue Adjustment Orange : +4
Hue Adjustment Yellow : -9
Hue Adjustment Green : 0
Hue Adjustment Aqua : 0
Hue Adjustment Blue : 0
Hue Adjustment Purple : -82
Hue Adjustment Magenta : +84
Saturation Adjustment Red : 0
Saturation Adjustment Orange : 0
Saturation Adjustment Yellow : -33
Saturation Adjustment Green : 0
Saturation Adjustment Aqua : 0
Saturation Adjustment Blue : 0
Saturation Adjustment Purple : -22
Saturation Adjustment Magenta : -22
Luminance Adjustment Red : 0
Luminance Adjustment Orange : +16
Luminance Adjustment Yellow : +24
Luminance Adjustment Green : 0
Luminance Adjustment Aqua : 0
Luminance Adjustment Blue : 0
Luminance Adjustment Purple : 0
Luminance Adjustment Magenta : 0
Split Toning Shadow Hue : 0
Split Toning Shadow Saturation : 0
Split Toning Highlight Hue : 0
Split Toning Highlight Saturation : 0
Split Toning Balance : 0
Parametric Shadows : 0
Parametric Darks : 0
Parametric Lights : 0
Parametric Highlights : 0
Parametric Shadow Split : 15
Parametric Midtone Split : 51
Parametric Highlight Split : 75
Sharpen Radius : +1.4
Sharpen Detail : 12
Sharpen Edge Masking : 0
Post Crop Vignette Amount : -7
Post Crop Vignette Midpoint : 50
Post Crop Vignette Feather : 50
Post Crop Vignette Roundness : 0
Post Crop Vignette Style : Highlight Priority
Post Crop Vignette Highlight Contrast : 0
Grain Amount : 0
Luminance Noise Reduction Detail : 50
Color Noise Reduction Detail : 50
Luminance Noise Reduction Contrast : 0
Lens Profile Enable : 0
Lens Manual Distortion Amount : 0
Perspective Vertical : 0
Perspective Horizontal : 0
Perspective Rotate : 0.0
Perspective Scale : 100
Auto Lateral CA : 0
Exposure 2012 : -0.24
Contrast 2012 : -40
Highlights 2012 : -40
Shadows 2012 : +50
Whites 2012 : +33
Blacks 2012 : -24
Clarity 2012 : +17
Defringe Purple Amount : 0
Defringe Purple Hue Lo : 30
Defringe Purple Hue Hi : 70
Defringe Green Amount : 0
Defringe Green Hue Lo : 40
Defringe Green Hue Hi : 60
Convert To Grayscale : False
Tone Curve Name 2012 : Custom
Camera Profile : Adobe Standard
Lens Profile Setup : LensDefaults
Has Settings : True
Crop Top : 0.083492
Crop Left : 0
Crop Bottom : 0.833178
Crop Right : 0.886846
Crop Angle : 0
Crop Constrain To Warp : 0
Crop Width : 3774
Crop Height : 2123
Crop Unit : pixels
Has Crop : True
Already Applied : True
Creator : MIHALY BLAUBACHER
Tone Curve PV2012 : 0, 13, 45, 33, 129, 130, 198, 200, 255, 254
Tone Curve PV2012 Red : 0, 0, 255, 255
Tone Curve PV2012 Green : 0, 0, 255, 255
Tone Curve PV2012 Blue : 0, 0, 255, 255
Image Width : 300
Image Height : 169
Bits Per Sample : 8
Color Components : 1
Aperture : 5.6
Image Size : 300x169
Megapixels : 0.051
Scale Factor To 35 mm Equivalent : 1.0
Shutter Speed : 1/250
Create Date : 2016:05:14 09:59:42.16
Date/Time Original : 2016:05:14 09:59:42.16
Circle Of Confusion : 0.030 mm
Depth Of Field : 0.15 m (1.19 - 1.34 m)
Field Of View : 34.5 deg
Focal Length : 58.0 mm (35 mm equivalent: 58.0 mm)
Hyperfocal Distance : 19.99 m
Light Value : 11.9
Lens ID : AF-S Zoom-Nikkor 24-70mm f/2.8G ED