Uber Exif Photo
Keywords : American Legion, Flag
Make : Apple
Camera Model Name : iPhone 6 Plus
Software : Adobe Photoshop Lightroom 6.5.1 (Windows)
Modify Date : 2016:05:26 13:38:50
Exposure Time : 1/1700
F Number : 2.2
Exposure Program : Program AE
ISO : 32
Date/Time Original : 2016:05:26 10:30:47
Create Date : 2016:05:26 10:30:47
Shutter Speed Value : 1/1700
Aperture Value : 2.2
Brightness Value : 9.950828434
Exposure Compensation : 0
Metering Mode : Multi-segment
Flash : Auto, Did not fire
Focal Length : 4.2 mm
Subject Area : 2460 1455 150 151
Color Space : sRGB
Sensing Method : One-chip color area
Scene Type : Directly photographed
Exposure Mode : Auto
White Balance : Auto
Focal Length In 35mm Format : 29 mm
Scene Capture Type : Standard
Lens Info : 4.15mm f/2.2
Lens Make : Apple
Lens Model : iPhone 6 Plus back camera 4.15mm f/2.2
Profile Description : sRGB IEC61966-2.1
Creator Tool : Adobe Photoshop Lightroom 6.5.1 (Windows)
Lens : iPhone 6 Plus back camera 4.15mm f/2.2
Date Created : 2016:05:26 10:30:47.824
Format : image/jpeg
Version : 9.5.1
Process Version : 6.7
Auto White Version : 134348800
Incremental Temperature : 0
Incremental Tint : 0
Saturation : 0
Sharpness : 0
Luminance Smoothing : 0
Color Noise Reduction : 0
Vignette Amount : 0
Shadow Tint : 0
Red Hue : 0
Red Saturation : 0
Green Hue : 0
Green Saturation : 0
Blue Hue : 0
Blue Saturation : 0
Vibrance : 0
Hue Adjustment Red : 0
Hue Adjustment Orange : 0
Hue Adjustment Yellow : 0
Hue Adjustment Green : 0
Hue Adjustment Aqua : 0
Hue Adjustment Blue : 0
Hue Adjustment Purple : 0
Hue Adjustment Magenta : 0
Saturation Adjustment Red : 0
Saturation Adjustment Orange : 0
Saturation Adjustment Yellow : 0
Saturation Adjustment Green : 0
Saturation Adjustment Aqua : 0
Saturation Adjustment Blue : 0
Saturation Adjustment Purple : 0
Saturation Adjustment Magenta : 0
Luminance Adjustment Red : 0
Luminance Adjustment Orange : 0
Luminance Adjustment Yellow : 0
Luminance Adjustment Green : 0
Luminance Adjustment Aqua : 0
Luminance Adjustment Blue : 0
Luminance Adjustment Purple : 0
Luminance Adjustment Magenta : 0
Split Toning Shadow Hue : 0
Split Toning Shadow Saturation : 0
Split Toning Highlight Hue : 0
Split Toning Highlight Saturation : 0
Split Toning Balance : 0
Parametric Shadows : 0
Parametric Darks : 0
Parametric Lights : 0
Parametric Highlights : 0
Parametric Shadow Split : 25
Parametric Midtone Split : 50
Parametric Highlight Split : 75
Sharpen Radius : +1.0
Sharpen Detail : 25
Sharpen Edge Masking : 0
Post Crop Vignette Amount : 0
Grain Amount : 0
Lens Profile Enable : 0
Lens Manual Distortion Amount : 0
Perspective Vertical : 0
Perspective Horizontal : 0
Perspective Rotate : 0.0
Perspective Scale : 100
Perspective Aspect : 0
Perspective Upright : Off
Auto Lateral CA : 0
Exposure 2012 : +0.20
Contrast 2012 : 0
Highlights 2012 : 0
Shadows 2012 : 0
Whites 2012 : 0
Blacks 2012 : 0
Clarity 2012 : 0
Defringe Purple Amount : 0
Defringe Purple Hue Lo : 30
Defringe Purple Hue Hi : 70
Defringe Green Amount : 0
Defringe Green Hue Lo : 40
Defringe Green Hue Hi : 60
Dehaze : 0
Tone Map Strength : 0
Convert To Grayscale : False
Tone Curve Name : Linear
Tone Curve Name 2012 : Linear
Camera Profile : Embedded
Lens Profile Setup : LensDefaults
Has Settings : True
Crop Top : 0.001152
Crop Left : 0.004762
Crop Bottom : 0.998848
Crop Right : 0.995238
Crop Angle : 0.2
Crop Constrain To Warp : 0
Has Crop : True
Already Applied : True
Subject : American Legion, Flag
Tone Curve : 0, 0, 255, 255
Tone Curve Red : 0, 0, 255, 255
Tone Curve Green : 0, 0, 255, 255
Tone Curve Blue : 0, 0, 255, 255
Tone Curve PV2012 : 0, 0, 255, 255
Tone Curve PV2012 Red : 0, 0, 255, 255
Tone Curve PV2012 Green : 0, 0, 255, 255
Tone Curve PV2012 Blue : 0, 0, 255, 255
Image Width : 308
Image Height : 233
Bits Per Sample : 8
Color Components : 3
Aperture : 2.2
Image Size : 308x233
Megapixels : 0.072
Scale Factor To 35 mm Equivalent : 7.0
Shutter Speed : 1/1700
Date/Time Original : 2016:05:26 10:30:47.824
Circle Of Confusion : 0.004 mm
Field Of View : 63.7 deg
Focal Length : 4.2 mm (35 mm equivalent: 29.0 mm)
Hyperfocal Distance : 1.82 m
Light Value : 14.7
Lens ID : iPhone 6 Plus back camera 4.15mm f/2.2