Uber Exif Photo
By-line : Andrew Hazen
Copyright Notice : (C)2016
Make : NIKON CORPORATION
Camera Model Name : NIKON D300
Orientation : Horizontal (normal)
Software : Adobe Photoshop Elements 14.0 (Windows)
Modify Date : 2016:06:13 09:29:31
Artist : Andrew Hazen
Copyright : (C)2016
Exposure Time : 1/200
F Number : 8.0
Exposure Program : Manual
ISO : 160
Date/Time Original : 2016:06:10 12:46:03
Create Date : 2016:06:10 12:46:03
Shutter Speed Value : 1/200
Aperture Value : 8.0
Exposure Compensation : 0
Max Aperture Value : 5.7
Metering Mode : Multi-segment
Light Source : Unknown
Flash : No Flash
Focal Length : 400.0 mm
Color Space : sRGB
Exif Image Width : 4288
Exif Image Height : 2848
Sensing Method : One-chip color area
Scene Type : Directly photographed
CFA Pattern : [Red,Green][Green,Blue]
Custom Rendered : Normal
Exposure Mode : Manual
White Balance : Auto
Digital Zoom Ratio : 1
Focal Length In 35mm Format : 600 mm
Scene Capture Type : Standard
Gain Control : None
Contrast : Normal
Saturation : Normal
Sharpness : Normal
Subject Distance Range : Unknown
Serial Number : 3001013
Lens Info : 80-400mm f/4.5-5.6
Lens Model : 80.0-400.0 mm f/4.5-5.6
Profile Description : sRGB IEC61966-2.1
Format : image/jpeg
Creator Tool : Ver.1.10
Rating : 0
Lens : 80.0-400.0 mm f/4.5-5.6
Image Number : 233335
Approximate Focus Distance : 2.37
Date Created : 2016:06:10 12:46:03.033
Color Mode : RGB
ICC Profile Name : sRGB IEC61966-2.1
Raw File Name : AACPS Technology 06-10-2016 328 End of Year 2016.NEF
Version : 9.1
Process Version : 6.7
Auto White Version : 134348800
Color Temperature : 4900
Tint : 0
Luminance Smoothing : 0
Color Noise Reduction : 25
Vignette Amount : 0
Shadow Tint : 0
Red Hue : 0
Red Saturation : 0
Green Hue : 0
Green Saturation : 0
Blue Hue : 0
Blue Saturation : 0
Vibrance : 0
Hue Adjustment Red : 0
Hue Adjustment Orange : 0
Hue Adjustment Yellow : 0
Hue Adjustment Green : 0
Hue Adjustment Aqua : 0
Hue Adjustment Blue : 0
Hue Adjustment Purple : 0
Hue Adjustment Magenta : 0
Saturation Adjustment Red : 0
Saturation Adjustment Orange : 0
Saturation Adjustment Yellow : 0
Saturation Adjustment Green : 0
Saturation Adjustment Aqua : 0
Saturation Adjustment Blue : 0
Saturation Adjustment Purple : 0
Saturation Adjustment Magenta : 0
Luminance Adjustment Red : 0
Luminance Adjustment Orange : 0
Luminance Adjustment Yellow : 0
Luminance Adjustment Green : 0
Luminance Adjustment Aqua : 0
Luminance Adjustment Blue : 0
Luminance Adjustment Purple : 0
Luminance Adjustment Magenta : 0
Split Toning Shadow Hue : 0
Split Toning Shadow Saturation : 0
Split Toning Highlight Hue : 0
Split Toning Highlight Saturation : 0
Split Toning Balance : 0
Parametric Shadows : 0
Parametric Darks : 0
Parametric Lights : 0
Parametric Highlights : 0
Parametric Shadow Split : 25
Parametric Midtone Split : 50
Parametric Highlight Split : 75
Sharpen Radius : +1.0
Sharpen Detail : 25
Sharpen Edge Masking : 0
Post Crop Vignette Amount : 0
Grain Amount : 0
Color Noise Reduction Detail : 50
Color Noise Reduction Smoothness : 50
Lens Profile Enable : 0
Lens Manual Distortion Amount : 0
Perspective Vertical : 0
Perspective Horizontal : 0
Perspective Rotate : 0.0
Perspective Scale : 100
Perspective Aspect : 0
Perspective Upright : Off
Auto Lateral CA : 0
Exposure 2012 : +0.40
Contrast 2012 : +25
Highlights 2012 : 0
Shadows 2012 : 0
Whites 2012 : +40
Blacks 2012 : -40
Clarity 2012 : 0
Defringe Purple Amount : 0
Defringe Purple Hue Lo : 30
Defringe Purple Hue Hi : 70
Defringe Green Amount : 0
Defringe Green Hue Lo : 40
Defringe Green Hue Hi : 60
Dehaze : 0
Tone Map Strength : 0
Convert To Grayscale : False
Tone Curve Name : Medium Contrast
Tone Curve Name 2012 : Linear
Camera Profile : Adobe Standard
Lens Profile Setup : LensDefaults
Has Settings : True
Has Crop : False
Already Applied : True
Creator : Andrew Hazen
Rights : (C)2016
Tone Curve : 0, 0, 32, 22, 64, 56, 128, 128, 192, 196, 255, 255
Tone Curve Red : 0, 0, 255, 255
Tone Curve Green : 0, 0, 255, 255
Tone Curve Blue : 0, 0, 255, 255
Tone Curve PV2012 : 0, 0, 255, 255
Tone Curve PV2012 Red : 0, 0, 255, 255
Tone Curve PV2012 Green : 0, 0, 255, 255
Tone Curve PV2012 Blue : 0, 0, 255, 255
Image Width : 308
Image Height : 207
Bits Per Sample : 8
Color Components : 3
Aperture : 8.0
Image Size : 308x207
Megapixels : 0.064
Scale Factor To 35 mm Equivalent : 1.5
Shutter Speed : 1/200
Create Date : 2016:06:10 12:46:03.33
Date/Time Original : 2016:06:10 12:46:03.33
Modify Date : 2016:06:13 09:29:31.33
Circle Of Confusion : 0.020 mm
Depth Of Field : 0.009 m (2.365 - 2.375 m)
Field Of View : 3.4 deg
Focal Length : 400.0 mm (35 mm equivalent: 600.0 mm)
Hyperfocal Distance : 998.46 m
Light Value : 13.0
Lens ID : AF VR Zoom-Nikkor 80-400mm f/4.5-5.6D ED