Uber Exif Photo
By-line : Vic Buhay
Copyright Notice : Vic Buhay
Make : NIKON CORPORATION
Camera Model Name : NIKON D750
Software : Adobe Photoshop Lightroom 6.6 (Windows)
Modify Date : 2016:08:06 13:27:55
Artist : Vic Buhay
Copyright : Vic Buhay
Exposure Time : 1/2000
F Number : 7.1
Exposure Program : Manual
ISO : 180
Sensitivity Type : Recommended Exposure Index
Date/Time Original : 2016:07:31 15:26:30
Create Date : 2016:07:31 15:26:30
Shutter Speed Value : 1/2000
Aperture Value : 7.1
Exposure Compensation : -1/3
Max Aperture Value : 2.8
Metering Mode : Other
Light Source : Fine Weather
Flash : Off, Did not fire
Focal Length : 200.0 mm
Color Space : sRGB
Sensing Method : One-chip color area
Scene Type : Directly photographed
CFA Pattern : [Red,Green][Green,Blue]
Custom Rendered : Normal
Exposure Mode : Manual
White Balance : Manual
Digital Zoom Ratio : 1
Focal Length In 35mm Format : 200 mm
Scene Capture Type : Standard
Gain Control : None
Contrast : Normal
Saturation : Normal
Sharpness : Normal
Subject Distance Range : Unknown
Serial Number : 2001726
Lens Info : 70-200mm f/2.8
Lens Model : 70.0-200.0 mm f/2.8
Profile Description : sRGB IEC61966-2.1
Creator Tool : Adobe Photoshop Lightroom 6.6 (Windows)
Format : image/jpeg
Lens : 70.0-200.0 mm f/2.8
Image Number : 58235
Approximate Focus Distance : 26.6
Date Created : 2016:07:31 15:26:30.64
Version : 9.6
Process Version : 6.7
Auto White Version : 134348800
Color Temperature : 6050
Tint : -3
Luminance Smoothing : 20
Color Noise Reduction : 25
Vignette Amount : 0
Shadow Tint : 0
Red Hue : 0
Red Saturation : 0
Green Hue : 0
Green Saturation : 0
Blue Hue : 0
Blue Saturation : 0
Vibrance : +49
Hue Adjustment Red : 0
Hue Adjustment Orange : 0
Hue Adjustment Yellow : 0
Hue Adjustment Green : 0
Hue Adjustment Aqua : 0
Hue Adjustment Blue : 0
Hue Adjustment Purple : 0
Hue Adjustment Magenta : 0
Saturation Adjustment Red : 0
Saturation Adjustment Orange : 0
Saturation Adjustment Yellow : 0
Saturation Adjustment Green : 0
Saturation Adjustment Aqua : 0
Saturation Adjustment Blue : 0
Saturation Adjustment Purple : 0
Saturation Adjustment Magenta : 0
Luminance Adjustment Red : 0
Luminance Adjustment Orange : 0
Luminance Adjustment Yellow : 0
Luminance Adjustment Green : 0
Luminance Adjustment Aqua : 0
Luminance Adjustment Blue : 0
Luminance Adjustment Purple : 0
Luminance Adjustment Magenta : 0
Split Toning Shadow Hue : 0
Split Toning Shadow Saturation : 0
Split Toning Highlight Hue : 0
Split Toning Highlight Saturation : 0
Split Toning Balance : 0
Parametric Shadows : 0
Parametric Darks : 0
Parametric Lights : 0
Parametric Highlights : 0
Parametric Shadow Split : 25
Parametric Midtone Split : 50
Parametric Highlight Split : 75
Sharpen Radius : +1.0
Sharpen Detail : 29
Sharpen Edge Masking : 19
Post Crop Vignette Amount : -13
Post Crop Vignette Midpoint : 50
Post Crop Vignette Feather : 50
Post Crop Vignette Roundness : 0
Post Crop Vignette Style : Highlight Priority
Post Crop Vignette Highlight Contrast : 0
Grain Amount : 0
Luminance Noise Reduction Detail : 50
Color Noise Reduction Detail : 50
Luminance Noise Reduction Contrast : 22
Color Noise Reduction Smoothness : 50
Lens Profile Enable : 1
Lens Manual Distortion Amount : 0
Perspective Vertical : 0
Perspective Horizontal : 0
Perspective Rotate : 0.0
Perspective Scale : 100
Perspective Aspect : 0
Perspective Upright : Off
Perspective X : 0.00
Perspective Y : 0.00
Auto Lateral CA : 1
Exposure 2012 : +1.25
Contrast 2012 : +77
Highlights 2012 : -36
Shadows 2012 : +100
Whites 2012 : +30
Blacks 2012 : +33
Clarity 2012 : +33
Defringe Purple Amount : 0
Defringe Purple Hue Lo : 30
Defringe Purple Hue Hi : 70
Defringe Green Amount : 0
Defringe Green Hue Lo : 40
Defringe Green Hue Hi : 60
Dehaze : 0
Tone Map Strength : 0
Convert To Grayscale : False
Tone Curve Name : Linear
Tone Curve Name 2012 : Linear
Camera Profile : Adobe Standard
Lens Profile Setup : LensDefaults
Lens Profile Name : Adobe (Nikon AF-S NIKKOR 70-200mm f/2.8G ED VR II)
Lens Profile Filename : NIKON D700 (Nikon AF-S NIKKOR 70-200mm f2.8G ED VR II) - RAW.lcp
Lens Profile Distortion Scale : 100
Lens Profile Chromatic Aberration Scale : 100
Lens Profile Vignetting Scale : 100
Has Settings : True
Crop Top : 0.053165
Crop Left : 0.1082
Crop Bottom : 0.910397
Crop Right : 0.965432
Crop Angle : 0
Crop Constrain To Warp : 0
Has Crop : True
Already Applied : True
Creator : Vic Buhay
Rights : Vic Buhay
Tone Curve : 0, 0, 255, 255
Tone Curve Red : 0, 0, 255, 255
Tone Curve Green : 0, 0, 255, 255
Tone Curve Blue : 0, 0, 255, 255
Tone Curve PV2012 : 0, 0, 255, 255
Tone Curve PV2012 Red : 0, 0, 255, 255
Tone Curve PV2012 Green : 0, 0, 255, 255
Tone Curve PV2012 Blue : 0, 0, 255, 255
Gradient Based Corr What : Correction
Gradient Based Corr Amount : 1.000000
Gradient Based Corr Active : true
Gradient Based Corr Saturation : -0.600000
Gradient Based Corr Sharpness : 0.000000
Gradient Based Corr Brightness : 0.000000
Gradient Based Corr Toning Hue : 233.000000
Gradient Based Corr Toning Saturation : 0.000000
Gradient Based Corr Exposure 2012 : 0.041750
Gradient Based Corr Contrast 2012 : -0.181820
Gradient Based Corr Highlights 2012 : -0.863640
Gradient Based Corr Shadows 2012 : 0.984850
Gradient Based Corr Whites 2012 : 0.333330
Gradient Based Corr Blacks 2012 : 0.803030
Gradient Based Corr Clarity 2012 : 0.000000
Gradient Based Corr Dehaze : 0.727270
Gradient Based Corr Luminance Noise : 0.000000
Gradient Based Corr Moire : 0.000000
Gradient Based Corr Defringe : 0.000000
Gradient Based Corr Temperature : -0.196970
Gradient Based Corr Tint : 0.000000
Gradient Based Corr Mask What : Mask/Gradient
Gradient Based Corr Mask Value : 1.000000
Gradient Based Corr Mask Zero X : 0.437238
Gradient Based Corr Mask Zero Y : 0.213890
Gradient Based Corr Mask Full X : 0.433697
Gradient Based Corr Mask Full Y : 0.017433
Circ Grad Based Corr What : Correction
Circ Grad Based Corr Amount : 1.000000
Circ Grad Based Corr Active : true
Circ Grad Based Corr Saturation : -0.393940
Circ Grad Based Corr Sharpness : 0.363640
Circ Grad Based Corr Brightness : 0.000000
Circ Grad Based Corr Toning Hue : 233.000000
Circ Grad Based Corr Toning Saturation : 0.000000
Circ Grad Based Corr Exposure 2012 : 0.348500
Circ Grad Based Corr Contrast 2012 : -0.772730
Circ Grad Based Corr Highlights 2012 : -0.621210
Circ Grad Based Corr Shadows 2012 : 0.984850
Circ Grad Based Corr Whites 2012 : 0.000000
Circ Grad Based Corr Blacks 2012 : 0.439390
Circ Grad Based Corr Clarity 2012 : 0.000000
Circ Grad Based Corr Dehaze : 0.727270
Circ Grad Based Corr Luminance Noise : 0.000000
Circ Grad Based Corr Moire : 0.000000
Circ Grad Based Corr Defringe : 0.000000
Circ Grad Based Corr Temperature : 0.000000
Circ Grad Based Corr Tint : 0.000000
Circ Grad Based Corr Mask What : Mask/CircularGradient
Circ Grad Based Corr Mask Value : 1.000000
Circ Grad Based Corr Mask Top : 0.174830
Circ Grad Based Corr Mask Left : 0.390110
Circ Grad Based Corr Mask Bottom : 0.583224
Circ Grad Based Corr Mask Right : 0.571919
Circ Grad Based Corr Mask Angle : 0.000000
Circ Grad Based Corr Mask Midpoint : +50
Circ Grad Based Corr Mask Roundness : 0
Circ Grad Based Corr Mask Feather : +50
Circ Grad Based Corr Mask Flipped : true
Circ Grad Based Corr Mask Version : +2
Image Width : 300
Image Height : 200
Bits Per Sample : 8
Color Components : 3
Aperture : 7.1
Image Size : 300x200
Megapixels : 0.060
Scale Factor To 35 mm Equivalent : 1.0
Shutter Speed : 1/2000
Create Date : 2016:07:31 15:26:30.64
Date/Time Original : 2016:07:31 15:26:30.64
Circle Of Confusion : 0.030 mm
Depth Of Field : 7.64 m (23.32 - 30.96 m)
Field Of View : 10.3 deg
Focal Length : 200.0 mm (35 mm equivalent: 200.0 mm)
Hyperfocal Distance : 187.50 m
Light Value : 15.8
Lens ID : AF-S Nikkor 70-200mm f/2.8G ED VR II