Uber Exif Photo
Photometric Interpretation : RGB
Make : NIKON CORPORATION
Camera Model Name : NIKON D800E
Orientation : Horizontal (normal)
Samples Per Pixel : 3
Software : Adobe Photoshop CS6 (Windows)
Modify Date : 2016:06:01 22:40:56
Exposure Time : 1/1000
F Number : 4.5
Exposure Program : Shutter speed priority AE
ISO : 160
Sensitivity Type : Recommended Exposure Index
Date/Time Original : 2014:03:23 09:04:36
Create Date : 2014:03:23 09:04:36
Shutter Speed Value : 1/1000
Aperture Value : 4.5
Exposure Compensation : 0
Max Aperture Value : 4.0
Metering Mode : Spot
Light Source : Unknown
Flash : Off, Did not fire
Focal Length : 300.0 mm
Color Space : Uncalibrated
Exif Image Width : 1500
Exif Image Height : 989
Sensing Method : One-chip color area
Scene Type : Directly photographed
CFA Pattern : [Red,Green][Green,Blue]
Custom Rendered : Normal
Exposure Mode : Auto
White Balance : Auto
Digital Zoom Ratio : 1
Focal Length In 35mm Format : 300 mm
Scene Capture Type : Standard
Gain Control : None
Contrast : Normal
Saturation : Normal
Sharpness : Normal
Subject Distance Range : Unknown
Serial Number : 8008700
Lens Info : 300mm f/4
Lens Model : 300.0 mm f/4.0
Profile Description : Adobe RGB (1998)
Rating Percent : 75
Rating : 4
Creator Tool : Adobe Photoshop CS6 (Windows)
Lens : 300.0 mm f/4.0
Image Number : 17527
Approximate Focus Distance : 15
Date Created : 2014:03:23 09:04:36.003
Color Mode : RGB
ICC Profile Name : Adobe RGB (1998)
Format : image/jpeg
Raw File Name : DSC_7326.NEF
Version : 7.1
Process Version : 6.7
Color Temperature : 6000
Tint : +15
Luminance Smoothing : 41
Color Noise Reduction : 25
Vignette Amount : 0
Shadow Tint : 0
Red Hue : 0
Red Saturation : 0
Green Hue : 0
Green Saturation : 0
Blue Hue : 0
Blue Saturation : 0
Vibrance : 0
Hue Adjustment Red : 0
Hue Adjustment Orange : 0
Hue Adjustment Yellow : 0
Hue Adjustment Green : 0
Hue Adjustment Aqua : 0
Hue Adjustment Blue : 0
Hue Adjustment Purple : 0
Hue Adjustment Magenta : 0
Saturation Adjustment Red : 0
Saturation Adjustment Orange : 0
Saturation Adjustment Yellow : 0
Saturation Adjustment Green : 0
Saturation Adjustment Aqua : 0
Saturation Adjustment Blue : 0
Saturation Adjustment Purple : 0
Saturation Adjustment Magenta : 0
Luminance Adjustment Red : 0
Luminance Adjustment Orange : 0
Luminance Adjustment Yellow : 0
Luminance Adjustment Green : 0
Luminance Adjustment Aqua : 0
Luminance Adjustment Blue : 0
Luminance Adjustment Purple : 0
Luminance Adjustment Magenta : 0
Split Toning Shadow Hue : 0
Split Toning Shadow Saturation : 0
Split Toning Highlight Hue : 0
Split Toning Highlight Saturation : 0
Split Toning Balance : 0
Parametric Shadows : 0
Parametric Darks : 0
Parametric Lights : 0
Parametric Highlights : 0
Parametric Shadow Split : 25
Parametric Midtone Split : 50
Parametric Highlight Split : 75
Sharpen Radius : +1.0
Sharpen Detail : 25
Sharpen Edge Masking : 0
Post Crop Vignette Amount : 0
Grain Amount : 0
Luminance Noise Reduction Detail : 50
Color Noise Reduction Detail : 50
Luminance Noise Reduction Contrast : 0
Lens Profile Enable : 0
Lens Manual Distortion Amount : 0
Perspective Vertical : 0
Perspective Horizontal : 0
Perspective Rotate : 0.0
Perspective Scale : 100
Auto Lateral CA : 0
Exposure 2012 : -0.30
Contrast 2012 : -51
Highlights 2012 : -87
Shadows 2012 : +100
Whites 2012 : +64
Blacks 2012 : -44
Clarity 2012 : +27
Defringe Purple Amount : 0
Defringe Purple Hue Lo : 30
Defringe Purple Hue Hi : 70
Defringe Green Amount : 0
Defringe Green Hue Lo : 40
Defringe Green Hue Hi : 60
Convert To Grayscale : False
Tone Curve Name 2012 : Linear
Camera Profile : Adobe Standard
Lens Profile Setup : LensDefaults
Has Settings : True
Has Crop : False
Already Applied : True
Tone Curve PV2012 : 0, 0, 255, 255
Tone Curve PV2012 Red : 0, 0, 255, 255
Tone Curve PV2012 Green : 0, 0, 255, 255
Tone Curve PV2012 Blue : 0, 0, 255, 255
Image Width : 300
Image Height : 198
Bits Per Sample : 8
Color Components : 3
Aperture : 4.5
Image Size : 300x198
Megapixels : 0.059
Scale Factor To 35 mm Equivalent : 1.0
Shutter Speed : 1/1000
Create Date : 2014:03:23 09:04:36.30
Date/Time Original : 2014:03:23 09:04:36.30
Modify Date : 2016:06:01 22:40:56.30
Circle Of Confusion : 0.030 mm
Depth Of Field : 0.66 m (14.68 - 15.34 m)
Field Of View : 6.9 deg
Focal Length : 300.0 mm (35 mm equivalent: 300.0 mm)
Hyperfocal Distance : 665.64 m
Light Value : 13.6
Lens ID : AF-S Nikkor 300mm f/4E PF ED VR