Uber Exif Photo
By-line : Vic Buhay
Copyright Notice : Vic Buhay
Make : NIKON CORPORATION
Camera Model Name : NIKON D800E
Software : Adobe Photoshop Lightroom 6.6.1 (Windows)
Modify Date : 2016:10:28 21:28:43
Artist : Vic Buhay
Copyright : Vic Buhay
Exposure Time : 20
F Number : 8.0
Exposure Program : Manual
ISO : 200
Sensitivity Type : Recommended Exposure Index
Date/Time Original : 2016:10:28 18:38:30
Create Date : 2016:10:28 18:38:30
Shutter Speed Value : 20
Aperture Value : 8.0
Exposure Compensation : -1/3
Max Aperture Value : 2.8
Metering Mode : Spot
Light Source : Unknown
Flash : Off, Did not fire
Focal Length : 14.0 mm
Color Space : sRGB
Sensing Method : One-chip color area
Scene Type : Directly photographed
CFA Pattern : [Red,Green][Green,Blue]
Custom Rendered : Normal
Exposure Mode : Manual
White Balance : Auto
Digital Zoom Ratio : 1
Focal Length In 35mm Format : 14 mm
Scene Capture Type : Standard
Gain Control : None
Contrast : Normal
Saturation : Normal
Sharpness : Normal
Subject Distance Range : Unknown
Serial Number : 3016005
Lens Info : 14-24mm f/2.8
Lens Model : 14.0-24.0 mm f/2.8
Profile Description : sRGB IEC61966-2.1
Format : image/jpeg
Creator Tool : Adobe Photoshop Lightroom 6.6.1 (Windows)
Lens : 14.0-24.0 mm f/2.8
Image Number : 39959
Approximate Focus Distance : 4294967295
Date Created : 2016:10:28 18:38:30.60
Version : 9.6
Process Version : 6.7
Auto White Version : 134348800
Color Temperature : 4550
Tint : -8
Luminance Smoothing : 15
Color Noise Reduction : 25
Vignette Amount : 0
Shadow Tint : 0
Red Hue : 0
Red Saturation : 0
Green Hue : 0
Green Saturation : 0
Blue Hue : 0
Blue Saturation : 0
Vibrance : +46
Hue Adjustment Red : 0
Hue Adjustment Orange : -8
Hue Adjustment Yellow : -11
Hue Adjustment Green : 0
Hue Adjustment Aqua : 0
Hue Adjustment Blue : 0
Hue Adjustment Purple : 0
Hue Adjustment Magenta : 0
Saturation Adjustment Red : 0
Saturation Adjustment Orange : +40
Saturation Adjustment Yellow : -27
Saturation Adjustment Green : 0
Saturation Adjustment Aqua : 0
Saturation Adjustment Blue : 0
Saturation Adjustment Purple : 0
Saturation Adjustment Magenta : -22
Luminance Adjustment Red : 0
Luminance Adjustment Orange : +44
Luminance Adjustment Yellow : +14
Luminance Adjustment Green : 0
Luminance Adjustment Aqua : 0
Luminance Adjustment Blue : 0
Luminance Adjustment Purple : 0
Luminance Adjustment Magenta : +27
Split Toning Shadow Hue : 0
Split Toning Shadow Saturation : 0
Split Toning Highlight Hue : 0
Split Toning Highlight Saturation : 0
Split Toning Balance : 0
Parametric Shadows : 0
Parametric Darks : 0
Parametric Lights : 0
Parametric Highlights : 0
Parametric Shadow Split : 25
Parametric Midtone Split : 50
Parametric Highlight Split : 75
Sharpen Radius : +1.0
Sharpen Detail : 32
Sharpen Edge Masking : 14
Post Crop Vignette Amount : -3
Post Crop Vignette Midpoint : 50
Post Crop Vignette Feather : 50
Post Crop Vignette Roundness : 0
Post Crop Vignette Style : Highlight Priority
Post Crop Vignette Highlight Contrast : 0
Grain Amount : 0
Luminance Noise Reduction Detail : 50
Color Noise Reduction Detail : 50
Luminance Noise Reduction Contrast : 14
Color Noise Reduction Smoothness : 50
Lens Profile Enable : 1
Lens Manual Distortion Amount : 0
Perspective Vertical : -38
Perspective Horizontal : 0
Perspective Rotate : 0.0
Perspective Scale : 100
Perspective Aspect : +71
Perspective Upright : Off
Perspective X : 0.00
Perspective Y : 0.00
Auto Lateral CA : 1
Exposure 2012 : +2.55
Contrast 2012 : -24
Highlights 2012 : -64
Shadows 2012 : +97
Whites 2012 : +63
Blacks 2012 : -22
Clarity 2012 : +15
Defringe Purple Amount : 0
Defringe Purple Hue Lo : 30
Defringe Purple Hue Hi : 70
Defringe Green Amount : 0
Defringe Green Hue Lo : 40
Defringe Green Hue Hi : 60
Dehaze : +63
Tone Map Strength : 0
Convert To Grayscale : False
Tone Curve Name : Linear
Tone Curve Name 2012 : Linear
Camera Profile : Adobe Standard
Lens Profile Setup : LensDefaults
Lens Profile Name : Adobe (Nikon AF-S NIKKOR 14-24mm f/2.8G ED)
Lens Profile Filename : NIKON D3X (Nikon FX 14-24mm f2.8 G ED) - RAW.lcp
Lens Profile Distortion Scale : 100
Lens Profile Chromatic Aberration Scale : 100
Lens Profile Vignetting Scale : 100
Has Settings : True
Crop Top : 0.309229
Crop Left : 0.11783
Crop Bottom : 0.875038
Crop Right : 0.806485
Crop Angle : -1.53037
Crop Constrain To Warp : 1
Has Crop : True
Already Applied : True
Creator : Vic Buhay
Rights : Vic Buhay
Tone Curve : 0, 0, 255, 255
Tone Curve Red : 0, 0, 255, 255
Tone Curve Green : 0, 0, 255, 255
Tone Curve Blue : 0, 0, 255, 255
Tone Curve PV2012 : 0, 0, 255, 255
Tone Curve PV2012 Red : 0, 0, 255, 255
Tone Curve PV2012 Green : 0, 0, 255, 255
Tone Curve PV2012 Blue : 0, 0, 255, 255
Image Width : 300
Image Height : 175
Bits Per Sample : 8
Color Components : 3
Aperture : 8.0
Image Size : 300x175
Megapixels : 0.052
Scale Factor To 35 mm Equivalent : 1.0
Shutter Speed : 20
Create Date : 2016:10:28 18:38:30.60
Date/Time Original : 2016:10:28 18:38:30.60
Circle Of Confusion : 0.030 mm
Depth Of Field : inf (0.82 m - inf)
Field Of View : 104.3 deg
Focal Length : 14.0 mm (35 mm equivalent: 14.0 mm)
Hyperfocal Distance : 0.82 m
Light Value : 0.7
Lens ID : AF-S Zoom-Nikkor 14-24mm f/2.8G ED