Uber Exif Photo
By-line : VIC BUHAY
Copyright Notice : VIC BUHAY
Make : NIKON CORPORATION
Camera Model Name : NIKON D500
Software : Adobe Photoshop Lightroom 6.6.1 (Windows)
Modify Date : 2016:12:17 12:14:37
Artist : VIC BUHAY
Copyright : VIC BUHAY
Exposure Time : 1/100
F Number : 4.5
Exposure Program : Manual
ISO : 1600
Sensitivity Type : Recommended Exposure Index
Date/Time Original : 2016:12:17 18:52:28
Create Date : 2016:12:17 18:52:28
Shutter Speed Value : 1/100
Aperture Value : 4.5
Exposure Compensation : 0
Max Aperture Value : 2.8
Metering Mode : Other
Light Source : Unknown
Flash : No Flash
Focal Length : 32.0 mm
Color Space : sRGB
Sensing Method : One-chip color area
Scene Type : Directly photographed
CFA Pattern : [Red,Green][Green,Blue]
Custom Rendered : Normal
Exposure Mode : Manual
White Balance : Manual
Focal Length In 35mm Format : 48 mm
Scene Capture Type : Standard
Gain Control : Low gain up
Contrast : Normal
Saturation : Normal
Sharpness : Normal
Subject Distance Range : Unknown
Serial Number : 3004373
Lens Info : 24-70mm f/2.8
Lens Model : 24.0-70.0 mm f/2.8
Profile Description : sRGB IEC61966-2.1
Creator Tool : Adobe Photoshop Lightroom 6.6.1 (Windows)
Format : image/jpeg
Lens : 24.0-70.0 mm f/2.8
Image Number : 31564
Approximate Focus Distance : 4294967295
Date Created : 2016:12:17 18:52:28.70
Version : 9.6
Process Version : 6.7
Auto White Version : 134348800
Color Temperature : 6350
Tint : +5
Luminance Smoothing : 10
Color Noise Reduction : 10
Vignette Amount : 0
Shadow Tint : 0
Red Hue : 0
Red Saturation : 0
Green Hue : 0
Green Saturation : 0
Blue Hue : 0
Blue Saturation : 0
Vibrance : +49
Hue Adjustment Red : 0
Hue Adjustment Orange : 0
Hue Adjustment Yellow : 0
Hue Adjustment Green : 0
Hue Adjustment Aqua : 0
Hue Adjustment Blue : 0
Hue Adjustment Purple : 0
Hue Adjustment Magenta : 0
Saturation Adjustment Red : 0
Saturation Adjustment Orange : 0
Saturation Adjustment Yellow : 0
Saturation Adjustment Green : 0
Saturation Adjustment Aqua : 0
Saturation Adjustment Blue : 0
Saturation Adjustment Purple : 0
Saturation Adjustment Magenta : 0
Luminance Adjustment Red : 0
Luminance Adjustment Orange : 0
Luminance Adjustment Yellow : 0
Luminance Adjustment Green : 0
Luminance Adjustment Aqua : 0
Luminance Adjustment Blue : 0
Luminance Adjustment Purple : 0
Luminance Adjustment Magenta : 0
Split Toning Shadow Hue : 0
Split Toning Shadow Saturation : 0
Split Toning Highlight Hue : 0
Split Toning Highlight Saturation : 0
Split Toning Balance : 0
Parametric Shadows : 0
Parametric Darks : 0
Parametric Lights : 0
Parametric Highlights : 0
Parametric Shadow Split : 25
Parametric Midtone Split : 50
Parametric Highlight Split : 75
Sharpen Radius : +1.0
Sharpen Detail : 25
Sharpen Edge Masking : 6
Post Crop Vignette Amount : -10
Post Crop Vignette Midpoint : 50
Post Crop Vignette Feather : 50
Post Crop Vignette Roundness : 0
Post Crop Vignette Style : Highlight Priority
Post Crop Vignette Highlight Contrast : 0
Grain Amount : 0
Luminance Noise Reduction Detail : 50
Color Noise Reduction Detail : 50
Luminance Noise Reduction Contrast : 9
Color Noise Reduction Smoothness : 50
Lens Profile Enable : 1
Lens Manual Distortion Amount : 0
Perspective Vertical : 0
Perspective Horizontal : 0
Perspective Rotate : 0.0
Perspective Scale : 100
Perspective Aspect : 0
Perspective Upright : Off
Perspective X : 0.00
Perspective Y : 0.00
Auto Lateral CA : 1
Exposure 2012 : +1.36
Contrast 2012 : -33
Highlights 2012 : -61
Shadows 2012 : +84
Whites 2012 : +72
Blacks 2012 : -24
Clarity 2012 : +21
Defringe Purple Amount : 0
Defringe Purple Hue Lo : 30
Defringe Purple Hue Hi : 70
Defringe Green Amount : 0
Defringe Green Hue Lo : 40
Defringe Green Hue Hi : 60
Dehaze : +30
Tone Map Strength : 0
Convert To Grayscale : False
Tone Curve Name : Linear
Tone Curve Name 2012 : Linear
Camera Profile : Adobe Standard
Lens Profile Setup : Custom
Lens Profile Name : Adobe (Nikon AF-S NIKKOR 24-70mm f/2.8G ED)
Lens Profile Filename : NIKON D3X (Nikon FX 24-70mm f2.8 G ED) - RAW.lcp
Lens Profile Distortion Scale : 100
Lens Profile Chromatic Aberration Scale : 100
Lens Profile Vignetting Scale : 100
Has Settings : True
Crop Top : 0.124011
Crop Left : 0.079156
Crop Bottom : 0.966579
Crop Right : 0.921724
Crop Angle : 0
Crop Constrain To Warp : 0
Has Crop : True
Already Applied : True
Creator : VIC BUHAY
Rights : VIC BUHAY
Tone Curve : 0, 0, 255, 255
Tone Curve Red : 0, 0, 255, 255
Tone Curve Green : 0, 0, 255, 255
Tone Curve Blue : 0, 0, 255, 255
Tone Curve PV2012 : 0, 0, 255, 255
Tone Curve PV2012 Red : 0, 0, 255, 255
Tone Curve PV2012 Green : 0, 0, 255, 255
Tone Curve PV2012 Blue : 0, 0, 255, 255
Image Width : 300
Image Height : 200
Bits Per Sample : 8
Color Components : 3
Aperture : 4.5
Image Size : 300x200
Megapixels : 0.060
Scale Factor To 35 mm Equivalent : 1.5
Shutter Speed : 1/100
Create Date : 2016:12:17 18:52:28.70
Date/Time Original : 2016:12:17 18:52:28.70
Circle Of Confusion : 0.020 mm
Depth Of Field : inf (11.36 m - inf)
Field Of View : 41.1 deg
Focal Length : 32.0 mm (35 mm equivalent: 48.0 mm)
Hyperfocal Distance : 11.36 m
Light Value : 7.0
Lens ID : AF-S Zoom-Nikkor 24-70mm f/2.8G ED