Uber Exif Photo
By-line : Christiaan Cruz
Copyright Notice : Christiaan Cruz
Photometric Interpretation : RGB
Make : NIKON CORPORATION
Camera Model Name : NIKON D7000
Orientation : Horizontal (normal)
Samples Per Pixel : 3
Planar Configuration : Chunky
Software : Adobe Photoshop Elements 13.0 (Macintosh)
Modify Date : 2017:08:28 19:20:26
Artist : Christiaan Cruz
Copyright : Christiaan Cruz
Exposure Time : 8
F Number : 2.8
Exposure Program : Manual
ISO : 6400
Sensitivity Type : Recommended Exposure Index
Date/Time Original : 2017:08:21 21:53:01
Create Date : 2017:08:21 21:53:01
Shutter Speed Value : 8
Aperture Value : 2.8
Exposure Compensation : +5
Max Aperture Value : 2.8
Metering Mode : Center-weighted average
Light Source : Unknown
Flash : Off, Did not fire
Focal Length : 11.0 mm
Color Space : Uncalibrated
Exif Image Width : 3264
Exif Image Height : 4928
Sensing Method : One-chip color area
Scene Type : Directly photographed
CFA Pattern : [Red,Green][Green,Blue]
Custom Rendered : Custom
Exposure Mode : Manual
White Balance : Auto
Digital Zoom Ratio : 1
Focal Length In 35mm Format : 16 mm
Scene Capture Type : Standard
Gain Control : High gain up
Contrast : Normal
Saturation : Normal
Sharpness : Normal
Subject Distance Range : Unknown
Serial Number : 3079785
Lens Info : 11-20mm f/2.8
Lens Model : 11.0-20.0 mm f/2.8
Profile Description : Adobe RGB (1998)
Format : image/jpeg
Creator Tool : Adobe Photoshop Elements 13.0 (Macintosh)
Lens : 11.0-20.0 mm f/2.8
Image Number : 4350
Approximate Focus Distance : 1
Date Created : 2017:08:21 21:53:01.007
Color Mode : RGB
ICC Profile Name : Adobe RGB (1998)
Version : 9.3
Process Version : 6.7
Auto White Version : 134348800
Color Temperature : 4873
Tint : +21
Luminance Smoothing : 41
Color Noise Reduction : 100
Vignette Amount : 0
Shadow Tint : 0
Red Hue : 0
Red Saturation : 0
Green Hue : 0
Green Saturation : 0
Blue Hue : 0
Blue Saturation : 0
Vibrance : +100
Hue Adjustment Red : 0
Hue Adjustment Orange : 0
Hue Adjustment Yellow : 0
Hue Adjustment Green : 0
Hue Adjustment Aqua : 0
Hue Adjustment Blue : 0
Hue Adjustment Purple : 0
Hue Adjustment Magenta : 0
Saturation Adjustment Red : 0
Saturation Adjustment Orange : 0
Saturation Adjustment Yellow : 0
Saturation Adjustment Green : 0
Saturation Adjustment Aqua : 0
Saturation Adjustment Blue : 0
Saturation Adjustment Purple : 0
Saturation Adjustment Magenta : 0
Luminance Adjustment Red : 0
Luminance Adjustment Orange : 0
Luminance Adjustment Yellow : 0
Luminance Adjustment Green : 0
Luminance Adjustment Aqua : 0
Luminance Adjustment Blue : 0
Luminance Adjustment Purple : 0
Luminance Adjustment Magenta : 0
Split Toning Shadow Hue : 0
Split Toning Shadow Saturation : 0
Split Toning Highlight Hue : 0
Split Toning Highlight Saturation : 0
Split Toning Balance : 0
Parametric Shadows : 0
Parametric Darks : 0
Parametric Lights : 0
Parametric Highlights : 0
Parametric Shadow Split : 25
Parametric Midtone Split : 50
Parametric Highlight Split : 75
Sharpen Radius : +1.0
Sharpen Detail : 25
Sharpen Edge Masking : 0
Post Crop Vignette Amount : 0
Grain Amount : 0
Luminance Noise Reduction Detail : 50
Color Noise Reduction Detail : 0
Luminance Noise Reduction Contrast : 0
Color Noise Reduction Smoothness : 100
Lens Profile Enable : 0
Lens Manual Distortion Amount : 0
Perspective Vertical : 0
Perspective Horizontal : 0
Perspective Rotate : 0.0
Perspective Scale : 100
Perspective Aspect : 0
Perspective Upright : Off
Auto Lateral CA : 0
Exposure 2012 : -0.30
Contrast 2012 : +34
Highlights 2012 : +100
Shadows 2012 : -100
Whites 2012 : -100
Blacks 2012 : -4
Clarity 2012 : -100
Defringe Purple Amount : 0
Defringe Purple Hue Lo : 30
Defringe Purple Hue Hi : 70
Defringe Green Amount : 0
Defringe Green Hue Lo : 40
Defringe Green Hue Hi : 60
Dehaze : 0
Tone Map Strength : 0
Convert To Grayscale : False
Tone Curve Name : Linear
Tone Curve Name 2012 : Linear
Camera Profile : Adobe Standard
Lens Profile Setup : LensDefaults
Has Settings : True
Has Crop : False
Already Applied : True
Creator : Christiaan Cruz
Rights : Christiaan Cruz
Tone Curve : 0, 0, 255, 255
Tone Curve Red : 0, 0, 255, 255
Tone Curve Green : 0, 0, 255, 255
Tone Curve Blue : 0, 0, 255, 255
Tone Curve PV2012 : 0, 0, 255, 255
Tone Curve PV2012 Red : 0, 0, 255, 255
Tone Curve PV2012 Green : 0, 0, 255, 255
Tone Curve PV2012 Blue : 0, 0, 255, 255
Image Width : 300
Image Height : 453
Bits Per Sample : 8
Color Components : 3
Aperture : 2.8
Image Size : 300x453
Megapixels : 0.136
Scale Factor To 35 mm Equivalent : 1.5
Shutter Speed : 8
Create Date : 2017:08:21 21:53:01.70
Date/Time Original : 2017:08:21 21:53:01.70
Circle Of Confusion : 0.021 mm
Depth Of Field : 1.22 m (0.68 - 1.90 m)
Field Of View : 96.7 deg
Focal Length : 11.0 mm (35 mm equivalent: 16.0 mm)
Hyperfocal Distance : 2.09 m
Light Value : -6.0
Lens ID : Tokina AT-X 11-20 F2.8 PRO DX (AF 11-20mm f/2.8)
Display settings: ORIGINAL format thumbnails | High quality JPEG thumbnails
Use Display settings menu option from the top menu to change