Uber Exif Photo
By-line : Tony Johansson
Province-State : Souss-Massa-Draa
Country-Primary Location Code : MA
Country-Primary Location Name : Marocko
Make : NIKON CORPORATION
Camera Model Name : NIKON 1 AW1
Orientation : Horizontal (normal)
Software : Capture NX 2.4.7 W
Modify Date : 2017:10:29 02:59:35
Artist : Tony Johansson
Exposure Time : 1/400
F Number : 9.0
Exposure Program : Aperture-priority AE
ISO : 160
Sensitivity Type : Recommended Exposure Index
Date/Time Original : 2017:05:09 19:55:00
Create Date : 2017:05:09 19:55:00
Shutter Speed Value : 1.3
Aperture Value : 9.0
Exposure Compensation : -1/3
Max Aperture Value : 2.8
Metering Mode : Multi-segment
Light Source : Unknown
Flash : No Flash
Focal Length : 10.0 mm
Maker Note Version : 2.11
Image Data Size : 3019799
Nikon Capture Version : Capture NX 2.4.7 W
IFD0 Offset : 1527
Preview IFD Offset : 1427
NEF Bit Depth : n/a (JPEG)
Color Space : sRGB
Exif Image Width : 2000
Exif Image Height : 1333
Sensing Method : One-chip color area
Scene Type : Directly photographed
CFA Pattern : [Red,Green][Green,Blue]
Custom Rendered : Normal
Exposure Mode : Auto
White Balance : Auto
Digital Zoom Ratio : 1
Focal Length In 35mm Format : 27 mm
Scene Capture Type : Standard
Gain Control : None
Contrast : Normal
Saturation : Normal
Sharpness : Normal
Subject Distance Range : Unknown
Serial Number : 51008788
Lens Info : 10mm f/2.8
Lens Model : 1 NIKKOR AW 10mm f/2.8
GPS Version ID : 2.3.0.0
GPS Latitude Ref : North
GPS Longitude Ref : West
GPS Time Stamp : 17:55:01
GPS Satellites : 08
GPS Img Direction Ref : Magnetic North
GPS Img Direction : 213
GPS Map Datum : WGS-84
GPS Date Stamp : 2017:05:09
Creator Tool : Adobe Photoshop Lightroom 6.13 (Windows)
Lens : 1 NIKKOR AW 10mm f/2.8
Image Number : 407
Date Created : 2017:05:09 19:55:00.09
State : Souss-Massa-Draa
Country : Marocko
Format : image/jpeg
Country Code : MA
Version : 10.0
Process Version : 6.7
Auto White Version : 134348800
Color Temperature : 4950
Tint : 0
Luminance Smoothing : 86
Color Noise Reduction : 25
Vignette Amount : 0
Shadow Tint : 0
Red Hue : 0
Red Saturation : 0
Green Hue : 0
Green Saturation : 0
Blue Hue : 0
Blue Saturation : 0
Vibrance : +42
Hue Adjustment Red : 0
Hue Adjustment Orange : 0
Hue Adjustment Yellow : 0
Hue Adjustment Green : 0
Hue Adjustment Aqua : 0
Hue Adjustment Blue : 0
Hue Adjustment Purple : 0
Hue Adjustment Magenta : 0
Saturation Adjustment Red : 0
Saturation Adjustment Orange : 0
Saturation Adjustment Yellow : 0
Saturation Adjustment Green : 0
Saturation Adjustment Aqua : 0
Saturation Adjustment Blue : 0
Saturation Adjustment Purple : 0
Saturation Adjustment Magenta : 0
Luminance Adjustment Red : 0
Luminance Adjustment Orange : 0
Luminance Adjustment Yellow : 0
Luminance Adjustment Green : 0
Luminance Adjustment Aqua : 0
Luminance Adjustment Blue : 0
Luminance Adjustment Purple : 0
Luminance Adjustment Magenta : 0
Split Toning Shadow Hue : 0
Split Toning Shadow Saturation : 0
Split Toning Highlight Hue : 0
Split Toning Highlight Saturation : 0
Split Toning Balance : 0
Parametric Shadows : 0
Parametric Darks : 0
Parametric Lights : 0
Parametric Highlights : 0
Parametric Shadow Split : 25
Parametric Midtone Split : 50
Parametric Highlight Split : 75
Sharpen Radius : +2.2
Sharpen Detail : 78
Sharpen Edge Masking : 43
Post Crop Vignette Amount : 0
Grain Amount : 0
Luminance Noise Reduction Detail : 61
Color Noise Reduction Detail : 50
Luminance Noise Reduction Contrast : 11
Color Noise Reduction Smoothness : 50
Lens Profile Enable : 0
Lens Manual Distortion Amount : 0
Perspective Vertical : 0
Perspective Horizontal : 0
Perspective Rotate : 0.0
Perspective Scale : 100
Perspective Aspect : 0
Perspective Upright : Off
Perspective X : 0.00
Perspective Y : 0.00
Auto Lateral CA : 0
Exposure 2012 : 0.00
Contrast 2012 : 0
Highlights 2012 : +63
Shadows 2012 : +1
Whites 2012 : +5
Blacks 2012 : +1
Clarity 2012 : +28
Defringe Purple Amount : 0
Defringe Purple Hue Lo : 30
Defringe Purple Hue Hi : 70
Defringe Green Amount : 0
Defringe Green Hue Lo : 40
Defringe Green Hue Hi : 60
Dehaze : 0
Tone Map Strength : 0
Convert To Grayscale : False
Tone Curve Name : Linear
Tone Curve Name 2012 : Linear
Camera Profile : Adobe Standard
Lens Profile Setup : LensDefaults
Has Settings : True
Has Crop : False
Already Applied : True
Creator : Tony Johansson
Tone Curve : 0, 0, 255, 255
Tone Curve Red : 0, 0, 255, 255
Tone Curve Green : 0, 0, 255, 255
Tone Curve Blue : 0, 0, 255, 255
Tone Curve PV2012 : 0, 0, 255, 255
Tone Curve PV2012 Red : 0, 0, 255, 255
Tone Curve PV2012 Green : 0, 0, 255, 255
Tone Curve PV2012 Blue : 0, 0, 255, 255
Image Width : 300
Image Height : 200
Bits Per Sample : 8
Color Components : 3
Aperture : 9.0
Image Size : 300x200
Megapixels : 0.060
Scale Factor To 35 mm Equivalent : 2.7
Shutter Speed : 1/400
Create Date : 2017:05:09 19:55:00.09
Date/Time Original : 2017:05:09 19:55:00.09
GPS Date/Time : 2017:05:09 17:55:01Z
GPS Latitude : 30 deg 39' 6.43" N
GPS Longitude : 9 deg 16' 40.80" W
Circle Of Confusion : 0.011 mm
Field Of View : 67.4 deg
Focal Length : 10.0 mm (35 mm equivalent: 27.0 mm)
GPS Position : 30 deg 39' 6.43" N, 9 deg 16' 40.80" W
Hyperfocal Distance : 1.00 m
Light Value : 14.3
Lens ID : 1 NIKKOR AW 10mm f/2.8