Uber Exif Photo
By-line : Andrew Hazen
Copyright Notice : 2016
Make : NIKON CORPORATION
Camera Model Name : NIKON D500
Orientation : Horizontal (normal)
Software : Adobe Photoshop Elements 16.0 (Windows)
Modify Date : 2017:11:13 06:04:44
Artist : Andrew Hazen
Copyright : 2016
Exposure Time : 1/320
F Number : 8.0
Exposure Program : Manual
ISO : 200
Sensitivity Type : Recommended Exposure Index
Date/Time Original : 2017:11:10 04:15:55
Create Date : 2017:11:10 04:15:55
Shutter Speed Value : 1/320
Aperture Value : 8.0
Exposure Compensation : 0
Max Aperture Value : 6.3
Metering Mode : Multi-segment
Light Source : Fine Weather
Flash : No Flash
Focal Length : 500.0 mm
Color Space : sRGB
Exif Image Width : 4176
Exif Image Height : 2784
Sensing Method : One-chip color area
Scene Type : Directly photographed
CFA Pattern : [Red,Green][Green,Blue]
Custom Rendered : Normal
Exposure Mode : Manual
White Balance : Manual
Focal Length In 35mm Format : 750 mm
Scene Capture Type : Standard
Gain Control : None
Contrast : Normal
Saturation : Normal
Sharpness : Normal
Subject Distance Range : Unknown
Serial Number : 3015435
Lens Info : 50-500mm f/4.5-6.3
Lens Model : 50.0-500.0 mm f/4.5-6.3
Profile Description : sRGB IEC61966-2.1
Creator Tool : Adobe Photoshop Elements 16.0 (Windows)
Rating : 0
Format : image/jpeg
Lens : 50.0-500.0 mm f/4.5-6.3
Image Number : 44948
Approximate Focus Distance : 126
Date Created : 2017:11:10 04:15:55.089
Color Mode : RGB
ICC Profile Name : sRGB IEC61966-2.1
Raw File Name : Last Quarter Illumination 54% 4748.NEF
Version : 10.0
Process Version : 10.0
Auto White Version : 134348800
Color Temperature : 4650
Tint : +4
Luminance Smoothing : 0
Color Noise Reduction : 25
Vignette Amount : 0
Shadow Tint : 0
Red Hue : 0
Red Saturation : 0
Green Hue : 0
Green Saturation : 0
Blue Hue : 0
Blue Saturation : 0
Vibrance : 0
Hue Adjustment Red : 0
Hue Adjustment Orange : 0
Hue Adjustment Yellow : 0
Hue Adjustment Green : 0
Hue Adjustment Aqua : 0
Hue Adjustment Blue : 0
Hue Adjustment Purple : 0
Hue Adjustment Magenta : 0
Saturation Adjustment Red : 0
Saturation Adjustment Orange : 0
Saturation Adjustment Yellow : 0
Saturation Adjustment Green : 0
Saturation Adjustment Aqua : 0
Saturation Adjustment Blue : 0
Saturation Adjustment Purple : 0
Saturation Adjustment Magenta : 0
Luminance Adjustment Red : 0
Luminance Adjustment Orange : 0
Luminance Adjustment Yellow : 0
Luminance Adjustment Green : 0
Luminance Adjustment Aqua : 0
Luminance Adjustment Blue : 0
Luminance Adjustment Purple : 0
Luminance Adjustment Magenta : 0
Split Toning Shadow Hue : 0
Split Toning Shadow Saturation : 0
Split Toning Highlight Hue : 0
Split Toning Highlight Saturation : 0
Split Toning Balance : 0
Parametric Shadows : 0
Parametric Darks : 0
Parametric Lights : 0
Parametric Highlights : 0
Parametric Shadow Split : 25
Parametric Midtone Split : 50
Parametric Highlight Split : 75
Sharpen Radius : +1.0
Sharpen Detail : 25
Sharpen Edge Masking : 0
Post Crop Vignette Amount : 0
Grain Amount : 0
Color Noise Reduction Detail : 50
Color Noise Reduction Smoothness : 50
Lens Profile Enable : 0
Lens Manual Distortion Amount : 0
Perspective Vertical : 0
Perspective Horizontal : 0
Perspective Rotate : 0.0
Perspective Scale : 100
Perspective Aspect : 0
Perspective Upright : Off
Perspective X : 0.00
Perspective Y : 0.00
Auto Lateral CA : 0
Exposure 2012 : +0.15
Contrast 2012 : -3
Highlights 2012 : -46
Shadows 2012 : 0
Whites 2012 : +55
Blacks 2012 : +100
Clarity 2012 : 0
Defringe Purple Amount : 0
Defringe Purple Hue Lo : 30
Defringe Purple Hue Hi : 70
Defringe Green Amount : 0
Defringe Green Hue Lo : 40
Defringe Green Hue Hi : 60
Dehaze : 0
Convert To Grayscale : False
Tone Curve Name : Medium Contrast
Tone Curve Name 2012 : Linear
Camera Profile : Adobe Standard
Lens Profile Setup : LensDefaults
Has Settings : True
Has Crop : False
Already Applied : True
Creator : Andrew Hazen
Rights : 2016
Tone Curve : 0, 0, 32, 22, 64, 56, 128, 128, 192, 196, 255, 255
Tone Curve Red : 0, 0, 255, 255
Tone Curve Green : 0, 0, 255, 255
Tone Curve Blue : 0, 0, 255, 255
Tone Curve PV2012 : 0, 0, 255, 255
Tone Curve PV2012 Red : 0, 0, 255, 255
Tone Curve PV2012 Green : 0, 0, 255, 255
Tone Curve PV2012 Blue : 0, 0, 255, 255
Image Width : 308
Image Height : 208
Bits Per Sample : 8
Color Components : 3
Aperture : 8.0
Image Size : 308x208
Megapixels : 0.064
Scale Factor To 35 mm Equivalent : 1.5
Shutter Speed : 1/320
Create Date : 2017:11:10 04:15:55.89
Date/Time Original : 2017:11:10 04:15:55.89
Modify Date : 2017:11:13 06:04:44.89
Circle Of Confusion : 0.020 mm
Depth Of Field : 20.40 m (116.62 - 137.02 m)
Field Of View : 2.7 deg
Focal Length : 500.0 mm (35 mm equivalent: 750.0 mm)
Hyperfocal Distance : 1560.09 m
Light Value : 13.3
Lens ID : Sigma 50-500mm F4.5-6.3 DG OS HSM