Uber Exif Photo
Make : NIKON CORPORATION
Camera Model Name : NIKON D500
Software : Adobe Photoshop Lightroom 6.13 (Macintosh)
Modify Date : 2018:01:06 20:59:46
Exposure Time : 1/640
F Number : 11.0
Exposure Program : Manual
ISO : 800
Sensitivity Type : Recommended Exposure Index
Date/Time Original : 2017:12:07 12:56:17
Create Date : 2017:12:07 12:56:17
Shutter Speed Value : 1/640
Aperture Value : 11.0
Exposure Compensation : -1/3
Max Aperture Value : 5.7
Metering Mode : Center-weighted average
Light Source : Unknown
Flash : On, Return not detected
Focal Length : 480.0 mm
Color Space : sRGB
Sensing Method : One-chip color area
Scene Type : Directly photographed
CFA Pattern : [Red,Green][Green,Blue]
Custom Rendered : Normal
Exposure Mode : Manual
White Balance : Auto
Focal Length In 35mm Format : 720 mm
Scene Capture Type : Standard
Gain Control : Low gain up
Contrast : Normal
Saturation : Normal
Sharpness : Normal
Subject Distance Range : Unknown
Serial Number : 3014756
Lens Info : 200-500mm f/5.6
Lens Model : 200.0-500.0 mm f/5.6
Profile Description : sRGB IEC61966-2.1
Creator Tool : Adobe Photoshop Lightroom 6.13 (Macintosh)
Lens : 200.0-500.0 mm f/5.6
Image Number : 14205
Approximate Focus Distance : 5.96
Distortion Correction Already Applied : True
Lateral Chromatic Aberration Correction Already Applied:
True
Vignette Correction Already Applied : True
Date Created : 2017:12:07 12:56:17.46
Format : image/jpeg
Version : 10.0
Process Version : 6.7
Auto White Version : 134348800
Color Temperature : 5250
Tint : +10
Luminance Smoothing : 30
Color Noise Reduction : 25
Vignette Amount : 0
Shadow Tint : 0
Red Hue : 0
Red Saturation : 0
Green Hue : 0
Green Saturation : 0
Blue Hue : 0
Blue Saturation : 0
Vibrance : +20
Hue Adjustment Red : 0
Hue Adjustment Orange : 0
Hue Adjustment Yellow : 0
Hue Adjustment Green : 0
Hue Adjustment Aqua : 0
Hue Adjustment Blue : 0
Hue Adjustment Purple : 0
Hue Adjustment Magenta : 0
Saturation Adjustment Red : 0
Saturation Adjustment Orange : 0
Saturation Adjustment Yellow : 0
Saturation Adjustment Green : 0
Saturation Adjustment Aqua : 0
Saturation Adjustment Blue : 0
Saturation Adjustment Purple : 0
Saturation Adjustment Magenta : 0
Luminance Adjustment Red : 0
Luminance Adjustment Orange : 0
Luminance Adjustment Yellow : 0
Luminance Adjustment Green : 0
Luminance Adjustment Aqua : 0
Luminance Adjustment Blue : 0
Luminance Adjustment Purple : 0
Luminance Adjustment Magenta : 0
Split Toning Shadow Hue : 0
Split Toning Shadow Saturation : 0
Split Toning Highlight Hue : 0
Split Toning Highlight Saturation : 0
Split Toning Balance : 0
Parametric Shadows : 0
Parametric Darks : 0
Parametric Lights : 0
Parametric Highlights : 0
Parametric Shadow Split : 25
Parametric Midtone Split : 50
Parametric Highlight Split : 75
Sharpen Radius : +1.0
Sharpen Detail : 25
Sharpen Edge Masking : 0
Post Crop Vignette Amount : 0
Grain Amount : 0
Luminance Noise Reduction Detail : 50
Color Noise Reduction Detail : 50
Luminance Noise Reduction Contrast : 0
Color Noise Reduction Smoothness : 50
Lens Profile Enable : 1
Lens Manual Distortion Amount : 0
Perspective Vertical : 0
Perspective Horizontal : 0
Perspective Rotate : 0.0
Perspective Scale : 100
Perspective Aspect : 0
Perspective Upright : Off
Perspective X : 0.00
Perspective Y : 0.00
Auto Lateral CA : 1
Exposure 2012 : +0.93
Contrast 2012 : +33
Highlights 2012 : -36
Shadows 2012 : +100
Whites 2012 : 0
Blacks 2012 : -16
Clarity 2012 : +10
Defringe Purple Amount : 0
Defringe Purple Hue Lo : 30
Defringe Purple Hue Hi : 70
Defringe Green Amount : 0
Defringe Green Hue Lo : 40
Defringe Green Hue Hi : 60
Dehaze : 0
Tone Map Strength : 0
Convert To Grayscale : False
Tone Curve Name : Linear
Tone Curve Name 2012 : Linear
Camera Profile : Adobe Standard
Lens Profile Setup : LensDefaults
Lens Profile Name : Adobe (Nikon AF-S NIKKOR 200-500mm f/5.6E ED VR)
Lens Profile Filename : NIKON D3 (Nikon AF-S NIKKOR 200-500mm f5.6E ED VR) - RAW.lcp
Lens Profile Distortion Scale : 100
Lens Profile Chromatic Aberration Scale : 100
Lens Profile Vignetting Scale : 100
Has Settings : True
Crop Top : 0.194111
Crop Left : 0.206616
Crop Bottom : 0.998323
Crop Right : 0.994121
Crop Angle : 0.557315
Crop Constrain To Warp : 0
Has Crop : True
Already Applied : True
Tone Curve : 0, 0, 255, 255
Tone Curve Red : 0, 0, 255, 255
Tone Curve Green : 0, 0, 255, 255
Tone Curve Blue : 0, 0, 255, 255
Tone Curve PV2012 : 0, 0, 255, 255
Tone Curve PV2012 Red : 0, 0, 255, 255
Tone Curve PV2012 Green : 0, 0, 255, 255
Tone Curve PV2012 Blue : 0, 0, 255, 255
Image Width : 300
Image Height : 200
Bits Per Sample : 8
Color Components : 3
Aperture : 11.0
Image Size : 300x200
Megapixels : 0.060
Scale Factor To 35 mm Equivalent : 1.5
Shutter Speed : 1/640
Create Date : 2017:12:07 12:56:17.46
Date/Time Original : 2017:12:07 12:56:17.46
Circle Of Confusion : 0.020 mm
Depth Of Field : 0.06 m (5.93 - 5.99 m)
Field Of View : 2.9 deg
Focal Length : 480.0 mm (35 mm equivalent: 720.0 mm)
Hyperfocal Distance : 1045.66 m
Light Value : 13.2
Lens ID : AF-S Nikkor 200-500mm f/5.6E ED VR