Uber Exif Photo
By-line : VIC BUHAY
Copyright Notice : VIC BUHAY 2017
Make : NIKON CORPORATION
Camera Model Name : NIKON D850
Software : Adobe Photoshop Lightroom Classic 7.0 (Windows)
Modify Date : 2018:02:23 21:12:32
Artist : VIC BUHAY
Copyright : VIC BUHAY 2017
Exposure Time : 1/1250
F Number : 5.0
Exposure Program : Manual
ISO : 64
Sensitivity Type : Recommended Exposure Index
Recommended Exposure Index : 64
Date/Time Original : 2018:02:18 10:43:19
Create Date : 2018:02:18 10:43:19
Shutter Speed Value : 1/1250
Aperture Value : 5.0
Exposure Compensation : 0
Max Aperture Value : 2.8
Metering Mode : Other
Light Source : Unknown
Flash : No Flash
Focal Length : 16.0 mm
Color Space : sRGB
Sensing Method : One-chip color area
Scene Type : Directly photographed
CFA Pattern : [Red,Green][Green,Blue]
Custom Rendered : Normal
Exposure Mode : Manual
White Balance : Auto
Focal Length In 35mm Format : 16 mm
Scene Capture Type : Standard
Gain Control : None
Contrast : Normal
Saturation : Normal
Sharpness : Normal
Subject Distance Range : Unknown
Serial Number : 3001588
Lens Info : 14-24mm f/2.8
Lens Model : 14.0-24.0 mm f/2.8
Profile Description : sRGB IEC61966-2.1
Creator Tool : Adobe Photoshop Lightroom Classic 7.0 (Windows)
Format : image/jpeg
Lens : 14.0-24.0 mm f/2.8
Image Number : 19025
Approximate Focus Distance : 4294967295
Distortion Correction Already Applied : True
Lateral Chromatic Aberration Correction Already Applied:
True
Vignette Correction Already Applied : True
Date Created : 2018:02:18 10:43:19.26
Version : 10.0
Process Version : 10.0
Color Temperature : 4773
Tint : +5
Luminance Smoothing : 11
Color Noise Reduction : 25
Vignette Amount : 0
Shadow Tint : 0
Red Hue : 0
Red Saturation : 0
Green Hue : 0
Green Saturation : 0
Blue Hue : 0
Blue Saturation : 0
Gray Mixer Red : -11
Gray Mixer Orange : -21
Gray Mixer Yellow : -9
Gray Mixer Green : -4
Gray Mixer Aqua : +38
Gray Mixer Blue : -40
Gray Mixer Purple : +20
Gray Mixer Magenta : +5
Split Toning Shadow Hue : 193
Split Toning Shadow Saturation : 0
Split Toning Highlight Hue : 0
Split Toning Highlight Saturation : 0
Split Toning Balance : 0
Parametric Shadows : 0
Parametric Darks : 0
Parametric Lights : 0
Parametric Highlights : 0
Parametric Shadow Split : 25
Parametric Midtone Split : 50
Parametric Highlight Split : 75
Sharpen Radius : +1.0
Sharpen Detail : 25
Sharpen Edge Masking : 23
Post Crop Vignette Amount : -5
Post Crop Vignette Midpoint : 50
Post Crop Vignette Feather : 50
Post Crop Vignette Roundness : 0
Post Crop Vignette Style : Highlight Priority
Post Crop Vignette Highlight Contrast : 0
Grain Amount : 0
Luminance Noise Reduction Detail : 50
Color Noise Reduction Detail : 50
Luminance Noise Reduction Contrast : 12
Color Noise Reduction Smoothness : 50
Lens Profile Enable : 1
Lens Manual Distortion Amount : 0
Perspective Vertical : 0
Perspective Horizontal : 0
Perspective Rotate : 0.0
Perspective Scale : 100
Perspective Aspect : 0
Perspective Upright : Off
Perspective X : 0.00
Perspective Y : 0.00
Auto Lateral CA : 1
Exposure 2012 : +1.82
Contrast 2012 : +35
Highlights 2012 : -66
Shadows 2012 : +10
Whites 2012 : -3
Blacks 2012 : +33
Clarity 2012 : +26
Dehaze : +50
Convert To Grayscale : True
Tone Curve Name : Linear
Tone Curve Name 2012 : Linear
Camera Profile : Adobe Standard
Lens Profile Setup : LensDefaults
Lens Profile Name : Adobe (Nikon AF-S NIKKOR 14-24mm f/2.8G ED)
Lens Profile Filename : NIKON D3X (Nikon FX 14-24mm f2.8 G ED) - RAW.lcp
Lens Profile Distortion Scale : 100
Lens Profile Chromatic Aberration Scale : 100
Lens Profile Vignetting Scale : 100
Has Settings : True
Has Crop : False
Already Applied : True
Creator : VIC BUHAY
Rights : VIC BUHAY 2017
Tone Curve : 0, 0, 255, 255
Tone Curve Red : 0, 0, 255, 255
Tone Curve Green : 0, 0, 255, 255
Tone Curve Blue : 0, 0, 255, 255
Tone Curve PV2012 : 0, 0, 255, 255
Tone Curve PV2012 Red : 0, 0, 255, 255
Tone Curve PV2012 Green : 0, 0, 255, 255
Tone Curve PV2012 Blue : 0, 0, 255, 255
Image Width : 300
Image Height : 200
Bits Per Sample : 8
Color Components : 3
Aperture : 5.0
Image Size : 300x200
Megapixels : 0.060
Scale Factor To 35 mm Equivalent : 1.0
Shutter Speed : 1/1250
Create Date : 2018:02:18 10:43:19.26
Date/Time Original : 2018:02:18 10:43:19.26
Circle Of Confusion : 0.030 mm
Depth Of Field : inf (1.70 m - inf)
Field Of View : 96.7 deg
Focal Length : 16.0 mm (35 mm equivalent: 16.0 mm)
Hyperfocal Distance : 1.70 m
Light Value : 15.6
Lens ID : AF-S Zoom-Nikkor 14-24mm f/2.8G ED