Uber Exif Photo
Make : NIKON CORPORATION
Camera Model Name : NIKON D700
Orientation : Horizontal (normal)
Software : Adobe Photoshop CS6 (Macintosh)
Modify Date : 2018:11:22 15:35:35
Exposure Time : 1/200
F Number : 2.8
Exposure Program : Manual
ISO : 200
Date/Time Original : 2018:11:19 14:36:10
Create Date : 2018:11:19 14:36:10
Shutter Speed Value : 1/200
Aperture Value : 2.8
Exposure Compensation : -1/3
Max Aperture Value : 1.7
Metering Mode : Center-weighted average
Light Source : Unknown
Flash : No Flash
Focal Length : 24.0 mm
Color Space : Uncalibrated
Exif Image Width : 1428
Exif Image Height : 1026
Sensing Method : One-chip color area
Scene Type : Directly photographed
CFA Pattern : [Red,Green][Green,Blue]
Custom Rendered : Normal
Exposure Mode : Manual
White Balance : Manual
Digital Zoom Ratio : 1
Focal Length In 35mm Format : 24 mm
Scene Capture Type : Standard
Gain Control : None
Contrast : Normal
Saturation : Normal
Sharpness : Normal
Subject Distance Range : Unknown
Serial Number : 2205982
Lens Info : 24mm f/1.8
Lens Model : 24.0 mm f/1.8
Creator Tool : Ver.1.01
Rating : 0
Lens : 24.0 mm f/1.8
Image Number : 88731
Approximate Focus Distance : 4294967295
Distortion Correction Already Applied : True
Date Created : 2018:11:19 14:36:10.072
Color Mode : Grayscale
ICC Profile Name : Gray Gamma 2.2
Format : image/jpeg
Raw File Name : DSC_0091.NEF
Version : 9.1.1
Process Version : 6.7
Auto White Version : 134348800
Color Temperature : 5900
Tint : -7
Luminance Smoothing : 0
Color Noise Reduction : 25
Vignette Amount : 0
Shadow Tint : 0
Red Hue : 0
Red Saturation : 0
Green Hue : 0
Green Saturation : 0
Blue Hue : 0
Blue Saturation : 0
Gray Mixer Red : -6
Gray Mixer Orange : -15
Gray Mixer Yellow : -19
Gray Mixer Green : -25
Gray Mixer Aqua : -19
Gray Mixer Blue : +7
Gray Mixer Purple : +14
Gray Mixer Magenta : +5
Split Toning Shadow Hue : 0
Split Toning Shadow Saturation : 0
Split Toning Highlight Hue : 0
Split Toning Highlight Saturation : 0
Split Toning Balance : 0
Parametric Shadows : 0
Parametric Darks : 0
Parametric Lights : 0
Parametric Highlights : 0
Parametric Shadow Split : 25
Parametric Midtone Split : 50
Parametric Highlight Split : 75
Sharpen Radius : +1.0
Sharpen Detail : 25
Sharpen Edge Masking : 0
Post Crop Vignette Amount : 0
Grain Amount : 0
Color Noise Reduction Detail : 50
Color Noise Reduction Smoothness : 50
Lens Profile Enable : 0
Lens Manual Distortion Amount : +4
Perspective Vertical : 0
Perspective Horizontal : 0
Perspective Rotate : 0.0
Perspective Scale : 100
Perspective Aspect : 0
Perspective Upright : Off
Auto Lateral CA : 0
Exposure 2012 : 0.00
Contrast 2012 : 0
Highlights 2012 : +43
Shadows 2012 : -1
Whites 2012 : +23
Blacks 2012 : -12
Clarity 2012 : 0
Dehaze : 0
Tone Map Strength : 0
Convert To Grayscale : True
Tone Curve Name : Medium Contrast
Tone Curve Name 2012 : Linear
Camera Profile : Adobe Standard
Lens Profile Setup : LensDefaults
Has Settings : True
Crop Top : 0.00047
Crop Left : 0.024153
Crop Bottom : 0.985142
Crop Right : 0.959502
Crop Angle : 1.320706
Crop Constrain To Warp : 1
Has Crop : True
Already Applied : True
Tone Curve : 0, 0, 32, 22, 64, 56, 128, 128, 192, 196, 255, 255
Tone Curve Red : 0, 0, 255, 255
Tone Curve Green : 0, 0, 255, 255
Tone Curve Blue : 0, 0, 255, 255
Tone Curve PV2012 : 0, 0, 255, 255
Tone Curve PV2012 Red : 0, 0, 255, 255
Tone Curve PV2012 Green : 0, 0, 255, 255
Tone Curve PV2012 Blue : 0, 0, 255, 255
Image Width : 350
Image Height : 251
Bits Per Sample : 8
Color Components : 1
Aperture : 2.8
Image Size : 350x251
Megapixels : 0.088
Scale Factor To 35 mm Equivalent : 1.0
Shutter Speed : 1/200
Create Date : 2018:11:19 14:36:10.72
Date/Time Original : 2018:11:19 14:36:10.72
Modify Date : 2018:11:22 15:35:35.72
Circle Of Confusion : 0.030 mm
Depth Of Field : inf (6.85 m - inf)
Field Of View : 73.7 deg
Focal Length : 24.0 mm (35 mm equivalent: 24.0 mm)
Hyperfocal Distance : 6.85 m
Light Value : 9.6
Lens ID : AF-S Nikkor 24mm f/1.8G ED