Uber Exif Photo
Caption-Abstract : T54 Lake Waramaug Campout June 2019
By-line : Bob Evans
Sub-location : Lake Waramaug State Park New Pre
Province-State : CT
Keywords : T54 Lake Waramaug Campout June
Copyright Notice : All Rights Reserved
Image Description : T54 Lake Waramaug Campout June 2019
Make : NIKON CORPORATION
Camera Model Name : NIKON D750
Orientation : Horizontal (normal)
Software : Capture NX 2.4.7 M
Modify Date : 2019:06:23 16:56:44
Artist : Bob Evans
Copyright : All Rights Reserved
Exposure Time : 1/100
F Number : 22.0
Exposure Program : Aperture-priority AE
ISO : 400
Sensitivity Type : Recommended Exposure Index
Date/Time Original : 2019:06:23 06:29:52
Create Date : 2019:06:23 06:29:52
Shutter Speed Value : 0.4
Aperture Value : 22.0
Exposure Compensation : +1
Max Aperture Value : 4.0
Metering Mode : Multi-segment
Light Source : Unknown
Flash : Off, Did not fire
Focal Length : 16.0 mm
Maker Note Version : 2.11
Image Data Size : 10665343
Nikon Capture Version : Capture NX 2.4.7 M
IFD0 Offset : 1396
Preview IFD Offset : 1296
NEF Bit Depth : n/a (JPEG)
User Comment : BobEvansImages.com
Color Space : Uncalibrated
Exif Image Width : 6016
Exif Image Height : 4016
Sensing Method : One-chip color area
Scene Type : Directly photographed
CFA Pattern : [Red,Green][Green,Blue]
Custom Rendered : Normal
Exposure Mode : Auto
White Balance : Auto
Digital Zoom Ratio : 1
Focal Length In 35mm Format : 16 mm
Scene Capture Type : Standard
Gain Control : Low gain up
Contrast : Normal
Saturation : Normal
Sharpness : Normal
Subject Distance Range : Unknown
Serial Number : 3068910
Lens Info : 16-35mm f/4
Lens Model : 16.0-35.0 mm f/4.0
Profile Description : sRGB IEC61966-2.1
Creator Tool : Adobe Photoshop Elements 15.0 (Macintosh)
Label : Viewed - Good
Rating : 0
Category : Boy
Date Created : 2019:06:22
City : New Preston Marble Dale
State : CT
Headline : T54 Lake Waramaug Campout June 2019
Urgency : 3
Color Mode : RGB
ICC Profile Name : sRGB IEC61966-2.1
Format : image/jpeg
Location : Lake Waramaug State Park New Preston Ct
Rating Percent : 0
Lens : 16.0-35.0 mm f/4.0
Image Number : 28457
Approximate Focus Distance : 2
Raw File Name : T54 LakeWaramaug_190623_575.NEF
Version : 9.10
Process Version : 6.7
Auto White Version : 134348800
Color Temperature : 5400
Tint : +8
Luminance Smoothing : 0
Color Noise Reduction : 25
Vignette Amount : 0
Shadow Tint : 0
Red Hue : 0
Red Saturation : 0
Green Hue : 0
Green Saturation : 0
Blue Hue : 0
Blue Saturation : 0
Vibrance : +31
Hue Adjustment Red : 0
Hue Adjustment Orange : 0
Hue Adjustment Yellow : 0
Hue Adjustment Green : 0
Hue Adjustment Aqua : 0
Hue Adjustment Blue : 0
Hue Adjustment Purple : 0
Hue Adjustment Magenta : 0
Saturation Adjustment Red : 0
Saturation Adjustment Orange : 0
Saturation Adjustment Yellow : 0
Saturation Adjustment Green : 0
Saturation Adjustment Aqua : 0
Saturation Adjustment Blue : 0
Saturation Adjustment Purple : 0
Saturation Adjustment Magenta : 0
Luminance Adjustment Red : 0
Luminance Adjustment Orange : 0
Luminance Adjustment Yellow : 0
Luminance Adjustment Green : 0
Luminance Adjustment Aqua : 0
Luminance Adjustment Blue : 0
Luminance Adjustment Purple : 0
Luminance Adjustment Magenta : 0
Split Toning Shadow Hue : 0
Split Toning Shadow Saturation : 0
Split Toning Highlight Hue : 0
Split Toning Highlight Saturation : 0
Split Toning Balance : 0
Parametric Shadows : 0
Parametric Darks : 0
Parametric Lights : 0
Parametric Highlights : 0
Parametric Shadow Split : 25
Parametric Midtone Split : 50
Parametric Highlight Split : 75
Sharpen Radius : +1.0
Sharpen Detail : 25
Sharpen Edge Masking : 0
Post Crop Vignette Amount : 0
Grain Amount : 0
Color Noise Reduction Detail : 50
Color Noise Reduction Smoothness : 50
Lens Profile Enable : 0
Lens Manual Distortion Amount : 0
Perspective Vertical : 0
Perspective Horizontal : 0
Perspective Rotate : 0.0
Perspective Scale : 100
Perspective Aspect : 0
Perspective Upright : Off
Perspective X : 0.00
Perspective Y : 0.00
Auto Lateral CA : 0
Exposure 2012 : +0.45
Contrast 2012 : +19
Highlights 2012 : -88
Shadows 2012 : +78
Whites 2012 : -12
Blacks 2012 : -30
Clarity 2012 : +39
Defringe Purple Amount : 0
Defringe Purple Hue Lo : 30
Defringe Purple Hue Hi : 70
Defringe Green Amount : 0
Defringe Green Hue Lo : 40
Defringe Green Hue Hi : 60
Dehaze : 0
Tone Map Strength : 0
Convert To Grayscale : False
Tone Curve Name : Medium Contrast
Tone Curve Name 2012 : Linear
Camera Profile : Adobe Standard
Lens Profile Setup : LensDefaults
Has Settings : True
Has Crop : False
Already Applied : True
Subject : T54 Lake Waramaug Campout June
Creator : Bob Evans
Description : T54 Lake Waramaug Campout June 2019
Rights : All Rights Reserved
Creator Work Email : BobEvans@BobEvansImages.com
Creator Work URL : BobEvansImages.com
Event : T54 Lake Waramaug Campout June 2019
Tone Curve : 0, 0, 32, 22, 64, 56, 128, 128, 192, 196, 255, 255
Tone Curve Red : 0, 0, 255, 255
Tone Curve Green : 0, 0, 255, 255
Tone Curve Blue : 0, 0, 255, 255
Tone Curve PV2012 : 0, 0, 255, 255
Tone Curve PV2012 Red : 0, 0, 255, 255
Tone Curve PV2012 Green : 0, 0, 255, 255
Tone Curve PV2012 Blue : 0, 0, 255, 255
Image Width : 350
Image Height : 234
Bits Per Sample : 8
Color Components : 3
Aperture : 22.0
Image Size : 350x234
Megapixels : 0.082
Scale Factor To 35 mm Equivalent : 1.0
Shutter Speed : 1/100
Create Date : 2019:06:23 06:29:52.10
Date/Time Original : 2019:06:23 06:29:52.10
Modify Date : 2019:06:23 16:56:44.10
Circle Of Confusion : 0.030 mm
Depth Of Field : inf (0.33 m - inf)
Field Of View : 96.7 deg
Focal Length : 16.0 mm (35 mm equivalent: 16.0 mm)
Hyperfocal Distance : 0.39 m
Light Value : 13.6
Lens ID : AF-S Nikkor 16-35mm f/4G ED VR