Uber Exif Photo
Make : NIKON CORPORATION
Camera Model Name : NIKON 1 V1
Orientation : Horizontal (normal)
Software : Adobe Photoshop CC 2019 (Windows)
Modify Date : 2019:07:04 09:06:36
Exposure Time : 1/800
F Number : 5.0
Exposure Program : Program AE
ISO : 100
Sensitivity Type : Recommended Exposure Index
Date/Time Original : 2019:07:03 14:57:42
Create Date : 2019:07:03 14:57:42
Shutter Speed Value : 1/800
Aperture Value : 5.0
Exposure Compensation : -1/3
Max Aperture Value : 4.4
Metering Mode : Multi-segment
Light Source : Fine Weather
Flash : No Flash
Focal Length : 17.2 mm
Color Space : Uncalibrated
Exif Image Width : 3872
Exif Image Height : 2340
Sensing Method : One-chip color area
Scene Type : Directly photographed
Custom Rendered : Normal
Exposure Mode : Auto
White Balance : Manual
Digital Zoom Ratio : 1
Focal Length In 35mm Format : 46 mm
Scene Capture Type : Standard
Gain Control : None
Contrast : Normal
Saturation : Normal
Sharpness : Normal
Subject Distance Range : Unknown
Serial Number : 62021886
Lens Info : 10-30mm f/3.5-5.6
Lens Model : 1 NIKKOR VR 10-30mm f/3.5-5.6 PD-ZOOM
Profile Description : Adobe RGB (1998)
Rating : 0
Creator Tool : Ver.1.20
Lens : 1 NIKKOR VR 10-30mm f/3.5-5.6 PD-ZOOM
Image Number : 31981
Approximate Focus Distance : 1.88
Distortion Correction Already Applied : True
Lateral Chromatic Aberration Correction Already Applied:
True
Vignette Correction Already Applied : True
Date Created : 2019:07:03 14:57:42
Color Mode : RGB
ICC Profile Name : Adobe RGB (1998)
Format : image/jpeg
Version : 11.3
Process Version : 11.0
Color Temperature : 5100
Tint : +1
Luminance Smoothing : 0
Color Noise Reduction : 25
Vignette Amount : 0
Shadow Tint : 0
Red Hue : 0
Red Saturation : 0
Green Hue : 0
Green Saturation : 0
Blue Hue : 0
Blue Saturation : 0
Vibrance : +7
Hue Adjustment Red : +7
Hue Adjustment Orange : +4
Hue Adjustment Yellow : +1
Hue Adjustment Green : -4
Hue Adjustment Aqua : 0
Hue Adjustment Blue : +3
Hue Adjustment Purple : 0
Hue Adjustment Magenta : 0
Saturation Adjustment Red : 0
Saturation Adjustment Orange : 0
Saturation Adjustment Yellow : 0
Saturation Adjustment Green : 0
Saturation Adjustment Aqua : 0
Saturation Adjustment Blue : 0
Saturation Adjustment Purple : 0
Saturation Adjustment Magenta : 0
Luminance Adjustment Red : 0
Luminance Adjustment Orange : 0
Luminance Adjustment Yellow : 0
Luminance Adjustment Green : 0
Luminance Adjustment Aqua : 0
Luminance Adjustment Blue : 0
Luminance Adjustment Purple : 0
Luminance Adjustment Magenta : 0
Split Toning Shadow Hue : 0
Split Toning Shadow Saturation : 0
Split Toning Highlight Hue : 0
Split Toning Highlight Saturation : 0
Split Toning Balance : 0
Parametric Shadows : 0
Parametric Darks : 0
Parametric Lights : 0
Parametric Highlights : 0
Parametric Shadow Split : 25
Parametric Midtone Split : 50
Parametric Highlight Split : 75
Sharpen Radius : +1.0
Sharpen Detail : 25
Sharpen Edge Masking : 0
Post Crop Vignette Amount : 0
Grain Amount : 0
Color Noise Reduction Detail : 50
Color Noise Reduction Smoothness : 50
Lens Profile Enable : 1
Lens Manual Distortion Amount : 0
Perspective Vertical : 0
Perspective Horizontal : 0
Perspective Rotate : 0.0
Perspective Scale : 100
Perspective Aspect : 0
Perspective Upright : Off
Perspective X : 0.00
Perspective Y : 0.00
Auto Lateral CA : 1
Exposure 2012 : -0.60
Contrast 2012 : +10
Highlights 2012 : -30
Shadows 2012 : +43
Whites 2012 : -5
Blacks 2012 : 0
Clarity 2012 : +16
Defringe Purple Amount : 0
Defringe Purple Hue Lo : 30
Defringe Purple Hue Hi : 70
Defringe Green Amount : 0
Defringe Green Hue Lo : 40
Defringe Green Hue Hi : 60
Dehaze : +15
Texture : +9
Tone Map Strength : 0
Convert To Grayscale : False
Override Look Vignette : False
Tone Curve Name : Medium Contrast
Tone Curve Name 2012 : Linear
Camera Profile : Adobe Standard
Lens Profile Setup : LensDefaults
Lens Profile Name : Adobe (Nikon 1 NIKKOR VR 10-30mm f/3.5-5.6 PD-ZOOM)
Lens Profile Filename : NIKON 1 J3 (Nikon 1 NIKKOR VR 10-30mm f3.5-5.6 PD-ZOOM) - RAW.lcp
Lens Profile Distortion Scale : 100
Lens Profile Chromatic Aberration Scale : 100
Lens Profile Vignetting Scale : 100
Has Settings : True
Has Crop : False
Already Applied : True
Raw File Name : _DSC1629.NEF
Tone Curve : 0, 0, 32, 22, 64, 56, 128, 128, 192, 196, 255, 255
Tone Curve Red : 0, 0, 255, 255
Tone Curve Green : 0, 0, 255, 255
Tone Curve Blue : 0, 0, 255, 255
Tone Curve PV2012 : 0, 0, 255, 255
Tone Curve PV2012 Red : 0, 0, 255, 255
Tone Curve PV2012 Green : 0, 0, 255, 255
Tone Curve PV2012 Blue : 0, 0, 255, 255
Look Name : Adobe Color
Look Amount : 1.000000
Look Supports Amount : false
Look Supports Monochrome : false
Look Supports Output Referred : false
Look Copyright : © 2018 Adobe Systems, Inc.
Look Group : Profiles
Look Parameters Version : 11.3
Look Parameters Process Version : 11.0
Look Parameters Convert To Grayscale : False
Look Parameters Camera Profile : Adobe Standard
Look Parameters Look Table : E1095149FDB39D7A057BAB208837E2E1
Look Parameters Tone Curve PV2012 : 0, 0, 22, 16, 40, 35, 127, 127, 224, 230, 240, 246, 255, 255
Look Parameters Tone Curve PV2012 Red : 0, 0, 255, 255
Look Parameters Tone Curve PV2012 Green : 0, 0, 255, 255
Look Parameters Tone Curve PV2012 Blue : 0, 0, 255, 255
Image Width : 350
Image Height : 212
Bits Per Sample : 8
Color Components : 3
Aperture : 5.0
Image Size : 350x212
Megapixels : 0.074
Scale Factor To 35 mm Equivalent : 2.7
Shutter Speed : 1/800
Create Date : 2019:07:03 14:57:42.00
Date/Time Original : 2019:07:03 14:57:42.00
Modify Date : 2019:07:04 09:06:36.00
Circle Of Confusion : 0.011 mm
Depth Of Field : 1.52 m (1.39 - 2.91 m)
Field Of View : 42.7 deg
Focal Length : 17.2 mm (35 mm equivalent: 46.0 mm)
Hyperfocal Distance : 5.27 m
Light Value : 14.3
Lens ID : 1 NIKKOR VR 10-30mm f/3.5-5.6 PD-ZOOM