Uber Exif Photo
By-line : VIC BUHAY
Copyright Notice : VIC BUHAY
Make : NIKON CORPORATION
Camera Model Name : NIKON D500
Software : Adobe Photoshop Lightroom Classic 7.0 (Windows)
Modify Date : 2019:03:20 07:20:30
Artist : VIC BUHAY
Copyright : VIC BUHAY
Exposure Time : 1/1000
F Number : 7.1
Exposure Program : Manual
ISO : 1000
Sensitivity Type : Recommended Exposure Index
Date/Time Original : 2019:03:17 06:27:19
Create Date : 2019:03:17 06:27:19
Shutter Speed Value : 1/1000
Aperture Value : 7.1
Exposure Compensation : -1
Max Aperture Value : 2.8
Metering Mode : Other
Light Source : Unknown
Flash : No Flash
Focal Length : 90.0 mm
User Comment : VIC SHOT
Color Space : sRGB
Sensing Method : One-chip color area
Scene Type : Directly photographed
CFA Pattern : [Red,Green][Green,Blue]
Custom Rendered : Normal
Exposure Mode : Manual
White Balance : Auto
Focal Length In 35mm Format : 135 mm
Scene Capture Type : Standard
Gain Control : Low gain up
Contrast : Normal
Saturation : Normal
Sharpness : Normal
Subject Distance Range : Unknown
Serial Number : 3004373
Lens Info : 90mm f/2.8
Lens Model : TAMRON SP 90mm F2.8 Di Macro VC USD F017N
Profile Description : sRGB IEC61966-2.1
Creator Tool : Adobe Photoshop Lightroom Classic 7.0 (Windows)
Format : image/jpeg
Lens : TAMRON SP 90mm F2.8 Di Macro VC USD F017N
Image Number : 75101
Approximate Focus Distance : 44.7
Distortion Correction Already Applied : True
Lateral Chromatic Aberration Correction Already Applied:
True
Vignette Correction Already Applied : True
Date Created : 2019:03:17 06:27:19.05
Version : 10.0
Process Version : 10.0
Color Temperature : 7271
Tint : +8
Luminance Smoothing : 12
Color Noise Reduction : 25
Vignette Amount : 0
Shadow Tint : 0
Red Hue : 0
Red Saturation : 0
Green Hue : 0
Green Saturation : 0
Blue Hue : 0
Blue Saturation : 0
Vibrance : +44
Hue Adjustment Red : 0
Hue Adjustment Orange : 0
Hue Adjustment Yellow : 0
Hue Adjustment Green : 0
Hue Adjustment Aqua : 0
Hue Adjustment Blue : 0
Hue Adjustment Purple : 0
Hue Adjustment Magenta : 0
Saturation Adjustment Red : 0
Saturation Adjustment Orange : 0
Saturation Adjustment Yellow : 0
Saturation Adjustment Green : 0
Saturation Adjustment Aqua : 0
Saturation Adjustment Blue : 0
Saturation Adjustment Purple : 0
Saturation Adjustment Magenta : 0
Luminance Adjustment Red : 0
Luminance Adjustment Orange : 0
Luminance Adjustment Yellow : 0
Luminance Adjustment Green : 0
Luminance Adjustment Aqua : 0
Luminance Adjustment Blue : 0
Luminance Adjustment Purple : 0
Luminance Adjustment Magenta : 0
Split Toning Shadow Hue : 0
Split Toning Shadow Saturation : 0
Split Toning Highlight Hue : 0
Split Toning Highlight Saturation : 0
Split Toning Balance : 0
Parametric Shadows : 0
Parametric Darks : 0
Parametric Lights : 0
Parametric Highlights : 0
Parametric Shadow Split : 25
Parametric Midtone Split : 50
Parametric Highlight Split : 75
Sharpen Radius : +1.0
Sharpen Detail : 25
Sharpen Edge Masking : 20
Post Crop Vignette Amount : -10
Post Crop Vignette Midpoint : 50
Post Crop Vignette Feather : 50
Post Crop Vignette Roundness : 0
Post Crop Vignette Style : Highlight Priority
Post Crop Vignette Highlight Contrast : 0
Grain Amount : 0
Luminance Noise Reduction Detail : 50
Color Noise Reduction Detail : 50
Luminance Noise Reduction Contrast : 16
Color Noise Reduction Smoothness : 50
Lens Profile Enable : 1
Lens Manual Distortion Amount : 0
Perspective Vertical : 0
Perspective Horizontal : 0
Perspective Rotate : 0.0
Perspective Scale : 100
Perspective Aspect : 0
Perspective Upright : Off
Perspective X : 0.00
Perspective Y : 0.00
Auto Lateral CA : 1
Exposure 2012 : +2.36
Contrast 2012 : -16
Highlights 2012 : -67
Shadows 2012 : +100
Whites 2012 : +30
Blacks 2012 : -57
Clarity 2012 : +72
Defringe Purple Amount : 0
Defringe Purple Hue Lo : 30
Defringe Purple Hue Hi : 70
Defringe Green Amount : 0
Defringe Green Hue Lo : 40
Defringe Green Hue Hi : 60
Dehaze : +27
Convert To Grayscale : False
Tone Curve Name : Linear
Tone Curve Name 2012 : Linear
Camera Profile : Adobe Standard
Lens Profile Setup : LensDefaults
Lens Profile Name : Adobe (TAMRON SP 90mm F2.8 Di MACRO VC USD F017N, NIKON CORPORATION)
Lens Profile Filename : NIKON CORPORATION (TAMRON SP 90mm F2.8 Di MACRO VC USD F017N) - RAW.lcp
Lens Profile Distortion Scale : 100
Lens Profile Chromatic Aberration Scale : 100
Lens Profile Vignetting Scale : 100
Has Settings : True
Crop Top : 0.299
Crop Left : 0.081279
Crop Bottom : 0.912817
Crop Right : 0.808765
Crop Angle : 0
Crop Constrain To Warp : 0
Has Crop : True
Already Applied : True
Creator : VIC BUHAY
Rights : VIC BUHAY
Tone Curve : 0, 0, 255, 255
Tone Curve Red : 0, 0, 255, 255
Tone Curve Green : 0, 0, 255, 255
Tone Curve Blue : 0, 0, 255, 255
Tone Curve PV2012 : 0, 0, 255, 255
Tone Curve PV2012 Red : 0, 0, 255, 255
Tone Curve PV2012 Green : 0, 0, 255, 255
Tone Curve PV2012 Blue : 0, 0, 255, 255
Image Width : 350
Image Height : 197
Bits Per Sample : 8
Color Components : 3
Aperture : 7.1
Image Size : 350x197
Megapixels : 0.069
Scale Factor To 35 mm Equivalent : 1.5
Shutter Speed : 1/1000
Create Date : 2019:03:17 06:27:19.05
Date/Time Original : 2019:03:17 06:27:19.05
Circle Of Confusion : 0.020 mm
Depth Of Field : 181.17 m (25.07 - 206.24 m)
Field Of View : 15.2 deg
Focal Length : 90.0 mm (35 mm equivalent: 135.0 mm)
Hyperfocal Distance : 56.95 m
Light Value : 12.3
Lens ID : Tamron SP 90mm f/2.8 Di VC USD Macro 1:1 (F017)