Uber Exif Photo
Photometric Interpretation : RGB
Make : NIKON CORPORATION
Camera Model Name : NIKON D500
Orientation : Horizontal (normal)
Samples Per Pixel : 3
Software : Adobe Photoshop 21.1 (Macintosh)
Modify Date : 2020:05:20 14:07:00
Exposure Time : 1/1000
F Number : 7.1
Exposure Program : Aperture-priority AE
ISO : 400
Sensitivity Type : Recommended Exposure Index
Date/Time Original : 2020:05:19 15:09:44
Create Date : 2020:05:19 15:09:44
Shutter Speed Value : 1/1000
Aperture Value : 7.1
Exposure Compensation : -1/3
Max Aperture Value : 2.8
Metering Mode : Center-weighted average
Light Source : Unknown
Flash : No Flash
Focal Length : 150.0 mm
Color Space : Uncalibrated
Exif Image Width : 683
Exif Image Height : 1024
Sensing Method : One-chip color area
Scene Type : Directly photographed
Custom Rendered : Normal
Exposure Mode : Auto
White Balance : Manual
Focal Length In 35mm Format : 300 mm
Scene Capture Type : Standard
Gain Control : None
Contrast : Normal
Saturation : Normal
Sharpness : Normal
Subject Distance Range : Unknown
Serial Number : 6026781
Lens Info : 150mm f/2.8
Lens Model : 150.0 mm f/2.8
Profile Description : Adobe RGB (1998)
Perspective Y : 0.00
Hue Adjustment Yellow : 0
Hue Adjustment Purple : 0
Perspective X : 0.00
Camera Profile : Adobe Standard
Color Noise Reduction : 25
Split Toning Highlight Saturation : 0
Clarity 2012 : 0
Perspective Aspect : 0
Grain Amount : 0
Saturation Adjustment Orange : 0
Perspective Horizontal : 0
Saturation Adjustment Red : 0
Luminance Adjustment Magenta : 0
Sharpen Radius : +1.0
Split Toning Balance : 0
Green Hue : 0
Luminance Adjustment Blue : 0
Shadow Tint : 0
Color Noise Reduction Detail : 50
Saturation Adjustment Purple : 0
Contrast 2012 : +3
Red Saturation : 0
Already Applied : True
Hue Adjustment Aqua : 0
Red Hue : 0
Color Temperature : 5250
Defringe Purple Hue Hi : 70
Split Toning Shadow Hue : 0
Saturation Adjustment Yellow : 0
Defringe Purple Amount : 0
Defringe Green Hue Hi : 60
Has Crop : False
Tone Curve Name 2012 : Linear
Lens Profile Setup : LensDefaults
Blue Hue : 0
Override Look Vignette : False
Color Noise Reduction Smoothness : 50
Luminance Smoothing : 0
Perspective Scale : 100
Defringe Green Hue Lo : 40
Perspective Vertical : 0
Defringe Green Amount : 0
Blue Saturation : 0
Luminance Adjustment Green : 0
Green Saturation : 0
Tone Curve Name : Medium Contrast
Parametric Highlight Split : 75
Split Toning Shadow Saturation : 0
Hue Adjustment Green : 0
Tone Map Strength : 0
Luminance Adjustment Orange : 0
Saturation Adjustment Magenta : 0
Version : 12.2.1
Convert To Grayscale : False
Hue Adjustment Magenta : 0
Shadows 2012 : 0
Luminance Adjustment Red : 0
Hue Adjustment Red : 0
Tint : +3
Perspective Upright : Off
Post Crop Vignette Amount : 0
Parametric Shadows : 0
Highlights 2012 : 0
Luminance Adjustment Aqua : 0
Luminance Adjustment Purple : 0
Saturation Adjustment Aqua : 0
Auto Lateral CA : 0
Sharpen Detail : 25
Saturation Adjustment Green : 0
Luminance Adjustment Yellow : 0
Dehaze : 0
Texture : +7
Hue Adjustment Orange : 0
Defringe Purple Hue Lo : 30
Parametric Highlights : 0
Parametric Darks : 0
Has Settings : True
Vibrance : +3
Parametric Shadow Split : 25
Saturation Adjustment Blue : 0
Parametric Lights : 0
Lens Manual Distortion Amount : 0
Process Version : 11.0
Exposure 2012 : 0.00
Parametric Midtone Split : 50
Whites 2012 : 0
Split Toning Highlight Hue : 0
Lens Profile Enable : 0
Blacks 2012 : 0
Sharpen Edge Masking : 0
Hue Adjustment Blue : 0
Vignette Amount : 0
Perspective Rotate : 0.0
Date Created : 2020:05:19 15:09:44.004
Color Mode : RGB
ICC Profile Name : Adobe RGB (1998)
Approximate Focus Distance : 1
Image Number : 10205
Lens : 150.0 mm f/2.8
Format : image/jpeg
Rating : 0
Creator Tool : Adobe Photoshop 21.1 (Macintosh)
Photographic Sensitivity : 400
Tone Curve Blue : 0, 0, 255, 255
Tone Curve Red : 0, 0, 255, 255
Look Amount : 1.000000
Look Supports Output Referred : false
Look Supports Amount : false
Look Supports Monochrome : false
Look Name : Adobe Color
Look Copyright : © 2018 Adobe Systems, Inc.
Look Group : Profiles
Look Parameters Version : 12.2.1
Look Parameters Process Version : 11.0
Look Parameters Camera Profile : Adobe Standard
Look Parameters Look Table : E1095149FDB39D7A057BAB208837E2E1
Look Parameters Convert To Grayscale : False
Look Parameters Tone Curve PV2012 : 0, 0, 22, 16, 40, 35, 127, 127, 224, 230, 240, 246, 255, 255
Look Parameters Tone Curve PV2012 Red : 0, 0, 255, 255
Look Parameters Tone Curve PV2012 Green : 0, 0, 255, 255
Look Parameters Tone Curve PV2012 Blue : 0, 0, 255, 255
Tone Curve PV2012 Blue : 0, 0, 255, 255
Tone Curve : 0, 0, 32, 22, 64, 56, 128, 128, 192, 196, 255, 255
Tone Curve Green : 0, 0, 255, 255
Tone Curve PV2012 Red : 0, 0, 255, 255
Tone Curve PV2012 Green : 0, 0, 255, 255
Tone Curve PV2012 : 0, 0, 255, 255
Subject :
Image Width : 400
Image Height : 600
Bits Per Sample : 8
Color Components : 3
Aperture : 7.1
Image Size : 400x600
Megapixels : 0.240
Scale Factor To 35 mm Equivalent : 2.0
Shutter Speed : 1/1000
Create Date : 2020:05:19 15:09:44.04
Date/Time Original : 2020:05:19 15:09:44.04
Modify Date : 2020:05:20 14:07:00.04
Circle Of Confusion : 0.015 mm
Depth Of Field : 0.008 m (0.996 - 1.004 m)
Field Of View : 6.9 deg
Focal Length : 150.0 mm (35 mm equivalent: 300.0 mm)
Hyperfocal Distance : 210.94 m
Light Value : 13.6
Lens ID : Sigma APO Macro 150mm F2.8 EX DG HSM