Uber Exif Photo
By-line : VIC BUHAY
Copyright Notice : VIC BUHAY 2017
Make : NIKON CORPORATION
Camera Model Name : NIKON D850
Software : Adobe Photoshop Lightroom Classic 10.4 (Windows)
Modify Date : 2021:09:24 20:11:00
Artist : VIC BUHAY
Copyright : VIC BUHAY 2017
Exposure Time : 1/3200
F Number : 8.0
Exposure Program : Manual
ISO : 800
Sensitivity Type : Recommended Exposure Index
Recommended Exposure Index : 800
Date/Time Original : 2021:09:24 11:19:48
Create Date : 2021:09:24 11:19:48
Shutter Speed Value : 1/3200
Aperture Value : 8.0
Exposure Compensation : +1
Max Aperture Value : 8.0
Metering Mode : Other
Light Source : Unknown
Flash : No Flash
Focal Length : 700.0 mm
Color Space : sRGB
Sensing Method : One-chip color area
Scene Type : Directly photographed
CFA Pattern : [Red,Green][Green,Blue]
Custom Rendered : Normal
Exposure Mode : Manual
White Balance : Auto
Focal Length In 35mm Format : 700 mm
Scene Capture Type : Standard
Gain Control : Low gain up
Contrast : Normal
Saturation : Normal
Sharpness : Soft
Subject Distance Range : Unknown
Serial Number : 3001588
Lens Info : 500mm f/5.6
Lens Model : 500.0 mm f/5.6
Profile Description : sRGB IEC61966-2.1
Creator Tool : Adobe Photoshop Lightroom Classic 10.4 (Windows)
Format : image/jpeg
Lens : 500.0 mm f/5.6
Image Number : 93454
Approximate Focus Distance : 59.6
Date Created : 2021:09:24 11:19:48.07-07:00
Preserved File Name : D85_0342.NEF
Version : 13.3
Process Version : 11.0
Color Temperature : 5600
Tint : +5
Exposure 2012 : +1.14
Contrast 2012 : -39
Highlights 2012 : -100
Shadows 2012 : +93
Whites 2012 : -66
Blacks 2012 : -12
Texture : 0
Clarity 2012 : +25
Dehaze : +30
Vibrance : +27
Parametric Shadows : 0
Parametric Darks : 0
Parametric Lights : 0
Parametric Highlights : 0
Parametric Shadow Split : 25
Parametric Midtone Split : 50
Parametric Highlight Split : 75
Sharpen Radius : +1.0
Sharpen Detail : 25
Sharpen Edge Masking : 23
Luminance Smoothing : 26
Luminance Noise Reduction Detail : 50
Luminance Noise Reduction Contrast : 25
Color Noise Reduction : 25
Color Noise Reduction Detail : 50
Color Noise Reduction Smoothness : 50
Hue Adjustment Red : 0
Hue Adjustment Orange : 0
Hue Adjustment Yellow : 0
Hue Adjustment Green : 0
Hue Adjustment Aqua : 0
Hue Adjustment Blue : 0
Hue Adjustment Purple : 0
Hue Adjustment Magenta : 0
Saturation Adjustment Red : 0
Saturation Adjustment Orange : 0
Saturation Adjustment Yellow : 0
Saturation Adjustment Green : 0
Saturation Adjustment Aqua : 0
Saturation Adjustment Blue : 0
Saturation Adjustment Purple : 0
Saturation Adjustment Magenta : 0
Luminance Adjustment Red : 0
Luminance Adjustment Orange : 0
Luminance Adjustment Yellow : 0
Luminance Adjustment Green : 0
Luminance Adjustment Aqua : 0
Luminance Adjustment Blue : 0
Luminance Adjustment Purple : 0
Luminance Adjustment Magenta : 0
Split Toning Shadow Hue : 0
Split Toning Shadow Saturation : 0
Split Toning Highlight Hue : 0
Split Toning Highlight Saturation : 0
Split Toning Balance : 0
Color Grade Midtone Hue : 0
Color Grade Midtone Sat : 0
Color Grade Shadow Lum : 0
Color Grade Midtone Lum : 0
Color Grade Highlight Lum : 0
Color Grade Blending : 50
Color Grade Global Hue : 0
Color Grade Global Sat : 0
Color Grade Global Lum : 0
Auto Lateral CA : 1
Lens Profile Enable : 1
Lens Manual Distortion Amount : 0
Vignette Amount : 0
Defringe Purple Amount : 0
Defringe Purple Hue Lo : 30
Defringe Purple Hue Hi : 70
Defringe Green Amount : 0
Defringe Green Hue Lo : 40
Defringe Green Hue Hi : 60
Perspective Upright : Off
Perspective Vertical : 0
Perspective Horizontal : 0
Perspective Rotate : 0.0
Perspective Aspect : 0
Perspective Scale : 100
Perspective X : 0.00
Perspective Y : 0.00
Grain Amount : 48
Grain Size : 42
Grain Frequency : 50
Post Crop Vignette Amount : -20
Post Crop Vignette Midpoint : 50
Post Crop Vignette Feather : 50
Post Crop Vignette Roundness : 0
Post Crop Vignette Style : Highlight Priority
Post Crop Vignette Highlight Contrast : 46
Shadow Tint : 0
Red Hue : 0
Red Saturation : 0
Green Hue : 0
Green Saturation : 0
Blue Hue : 0
Blue Saturation : 0
Override Look Vignette : False
Tone Curve Name 2012 : Linear
Camera Profile : Adobe Standard
Lens Profile Setup : LensDefaults
Lens Profile Name : Adobe (Nikon AF-S NIKKOR 500mm f/5.6E PF ED VR)
Lens Profile Filename : NIKON CORPORATION (Nikon AF-S NIKKOR 500mm f5.6 PF ED VR) - RAW.lcp
Lens Profile Is Embedded : False
Lens Profile Distortion Scale : 100
Lens Profile Vignetting Scale : 100
Has Settings : True
Crop Top : 0.025939
Crop Left : 0.152918
Crop Bottom : 0.877199
Crop Right : 0.992381
Crop Angle : 0.370019
Crop Constrain To Warp : 0
Has Crop : True
Already Applied : True
Creator : VIC BUHAY
Rights : VIC BUHAY 2017
Tone Curve PV2012 : 0, 0, 255, 255
Tone Curve PV2012 Red : 0, 0, 255, 255
Tone Curve PV2012 Green : 0, 0, 255, 255
Tone Curve PV2012 Blue : 0, 0, 255, 255
Look Name : Adobe Color
Look Amount : 1.000000
Look Supports Amount : false
Look Supports Monochrome : false
Look Supports Output Referred : false
Look Group : Profiles
Look Parameters Version : 13.3
Look Parameters Process Version : 11.0
Look Parameters Convert To Grayscale : False
Look Parameters Camera Profile : Adobe Standard
Look Parameters Look Table : E1095149FDB39D7A057BAB208837E2E1
Look Parameters Tone Curve PV2012 : 0, 0, 22, 16, 40, 35, 127, 127, 224, 230, 240, 246, 255, 255
Look Parameters Tone Curve PV2012 Red : 0, 0, 255, 255
Look Parameters Tone Curve PV2012 Green : 0, 0, 255, 255
Look Parameters Tone Curve PV2012 Blue : 0, 0, 255, 255
Image Width : 400
Image Height : 267
Bits Per Sample : 8
Color Components : 3
Aperture : 8.0
Image Size : 400x267
Megapixels : 0.107
Scale Factor To 35 mm Equivalent : 1.0
Shutter Speed : 1/3200
Create Date : 2021:09:24 11:19:48.07-07:00
Date/Time Original : 2021:09:24 11:19:48.07-07:00
Modify Date : 2021:09:24 20:11:00-07:00
Circle Of Confusion : 0.030 mm
Depth Of Field : 3.45 m (57.93 - 61.37 m)
Field Of View : 2.9 deg
Focal Length : 700.0 mm (35 mm equivalent: 700.0 mm)
Hyperfocal Distance : 2038.52 m
Light Value : 14.6
Lens ID : AF-S Nikkor 500mm f/5.6E PF ED VR