Uber Exif Photo
By-line : Tony Johansson
Copyright Notice : Tony Johansson
Copyright Flag : True
Make : NIKON CORPORATION
Camera Model Name : NIKON D800E
Software : Adobe Photoshop Lightroom 6.14 (Windows)
Modify Date : 2021:11:17 22:51:56
Artist : Tony Johansson
Copyright : Tony Johansson
Exposure Time : 1.3
F Number : 11.0
Exposure Program : Aperture-priority AE
ISO : 100
Sensitivity Type : Recommended Exposure Index
Date/Time Original : 2021:11:06 19:45:42
Create Date : 2021:11:06 19:45:42
Shutter Speed Value : 1.3
Aperture Value : 11.0
Exposure Compensation : 0
Max Aperture Value : 2.8
Metering Mode : Multi-segment
Light Source : Unknown
Flash : Off, Did not fire
Focal Length : 24.0 mm
Color Space : sRGB
Sensing Method : One-chip color area
Scene Type : Directly photographed
CFA Pattern : [Red,Green][Green,Blue]
Custom Rendered : Custom
Exposure Mode : Auto
White Balance : Auto
Digital Zoom Ratio : 1
Focal Length In 35mm Format : 24 mm
Scene Capture Type : Standard
Gain Control : None
Contrast : Normal
Saturation : Normal
Sharpness : Normal
Subject Distance Range : Unknown
Serial Number : 6008695
Lens Info : 24-70mm f/2.8
Lens Model : TAMRON SP 24-70mm F/2.8 Di VC USD G2 A032N
Profile Description : sRGB IEC61966-2.1
Format : image/jpeg
Creator Tool : Adobe Photoshop Lightroom 6.14 (Windows)
Lens : TAMRON SP 24-70mm F/2.8 Di VC USD G2 A032N
Image Number : 12274
Approximate Focus Distance : 4294967295
Is Merged HDR : True
Distortion Correction Already Applied : True
Lateral Chromatic Aberration Correction Already Applied:
True
Vignette Correction Already Applied : True
Date Created : 2021:11:06 19:45:04.50
Marked : True
Version : 10.1
Process Version : 6.7
Auto White Version : 134348800
Color Temperature : 5067
Tint : -17
Luminance Smoothing : 0
Color Noise Reduction : 25
Vignette Amount : 0
Shadow Tint : 0
Red Hue : 0
Red Saturation : 0
Green Hue : 0
Green Saturation : 0
Blue Hue : 0
Blue Saturation : 0
Vibrance : +52
Hue Adjustment Red : +2
Hue Adjustment Orange : +3
Hue Adjustment Yellow : 0
Hue Adjustment Green : 0
Hue Adjustment Aqua : -40
Hue Adjustment Blue : +11
Hue Adjustment Purple : +53
Hue Adjustment Magenta : +38
Saturation Adjustment Red : +100
Saturation Adjustment Orange : -31
Saturation Adjustment Yellow : 0
Saturation Adjustment Green : 0
Saturation Adjustment Aqua : +69
Saturation Adjustment Blue : -4
Saturation Adjustment Purple : +58
Saturation Adjustment Magenta : +66
Luminance Adjustment Red : -46
Luminance Adjustment Orange : +20
Luminance Adjustment Yellow : 0
Luminance Adjustment Green : 0
Luminance Adjustment Aqua : -53
Luminance Adjustment Blue : -25
Luminance Adjustment Purple : -49
Luminance Adjustment Magenta : -6
Split Toning Shadow Hue : 0
Split Toning Shadow Saturation : 0
Split Toning Highlight Hue : 298
Split Toning Highlight Saturation : 0
Split Toning Balance : 0
Parametric Shadows : 0
Parametric Darks : 0
Parametric Lights : 0
Parametric Highlights : 0
Parametric Shadow Split : 25
Parametric Midtone Split : 50
Parametric Highlight Split : 75
Sharpen Radius : +0.9
Sharpen Detail : 75
Sharpen Edge Masking : 39
Post Crop Vignette Amount : 0
Grain Amount : 0
Color Noise Reduction Detail : 50
Color Noise Reduction Smoothness : 50
Lens Profile Enable : 1
Lens Manual Distortion Amount : 0
Perspective Vertical : 0
Perspective Horizontal : 0
Perspective Rotate : 0.0
Perspective Scale : 100
Perspective Aspect : 0
Perspective Upright : Off
Perspective X : 0.00
Perspective Y : 0.00
Auto Lateral CA : 1
Exposure 2012 : -0.30
Contrast 2012 : 0
Highlights 2012 : -100
Shadows 2012 : +70
Whites 2012 : +11
Blacks 2012 : -15
Clarity 2012 : +27
Defringe Purple Amount : 0
Defringe Purple Hue Lo : 30
Defringe Purple Hue Hi : 70
Defringe Green Amount : 0
Defringe Green Hue Lo : 40
Defringe Green Hue Hi : 60
Dehaze : 0
Tone Map Strength : 0
Convert To Grayscale : False
Tone Curve Name : Linear
Tone Curve Name 2012 : Linear
Camera Profile : Camera Standard
Lens Profile Setup : LensDefaults
Lens Profile Name : Adobe (TAMRON SP 24-70mm F/2.8 Di VC USD G2 A032N, NIKON CORPORATION)
Lens Profile Filename : NIKON CORPORATION (TAMRON SP 24-70mm F_2.8 Di VC USD G2 A032N) - RAW.lcp
Lens Profile Distortion Scale : 100
Lens Profile Chromatic Aberration Scale : 100
Lens Profile Vignetting Scale : 100
Has Settings : True
Crop Top : 0.012789
Crop Left : 0.00956
Crop Bottom : 0.996676
Crop Right : 1
Crop Angle : -0.113233
Crop Constrain To Warp : 0
Has Crop : True
Already Applied : True
Creator : Tony Johansson
Rights : Tony Johansson
Creator Postal Code : 415 46
Creator Work Telephone : +46(0)731002099
Creator Country : Sverige
Creator City : Göteborg
Creator Address : Januarigatan 18
Creator Work Email : Tony64jo@hotmail.com
Tone Curve : 0, 0, 255, 255
Tone Curve Red : 0, 0, 255, 255
Tone Curve Green : 0, 0, 255, 255
Tone Curve Blue : 0, 0, 255, 255
Tone Curve PV2012 : 0, 0, 255, 255
Tone Curve PV2012 Red : 0, 0, 255, 255
Tone Curve PV2012 Green : 0, 0, 255, 255
Tone Curve PV2012 Blue : 0, 0, 255, 255
Gradient Based Corr What : Correction
Gradient Based Corr Amount : 1.000000
Gradient Based Corr Active : true
Gradient Based Corr Saturation : 0.432100
Gradient Based Corr Sharpness : 0.209880
Gradient Based Corr Brightness : 0.000000
Gradient Based Corr Toning Hue : 90.238998
Gradient Based Corr Toning Saturation : 0.134146
Gradient Based Corr Exposure 2012 : 0.061750
Gradient Based Corr Contrast 2012 : 0.000000
Gradient Based Corr Highlights 2012 : 0.000000
Gradient Based Corr Shadows 2012 : 0.000000
Gradient Based Corr Whites 2012 : 0.000000
Gradient Based Corr Blacks 2012 : 0.000000
Gradient Based Corr Clarity 2012 : -0.802470
Gradient Based Corr Dehaze : 0.000000
Gradient Based Corr Luminance Noise : 0.000000
Gradient Based Corr Moire : 0.000000
Gradient Based Corr Defringe : 0.000000
Gradient Based Corr Temperature : 0.037040
Gradient Based Corr Tint : 0.160490
Gradient Based Corr Mask What : Mask/Gradient
Gradient Based Corr Mask Value : 1.000000
Gradient Based Corr Mask Zero X : 0.526904
Gradient Based Corr Mask Zero Y : 0.376158
Gradient Based Corr Mask Full X : 0.526440
Gradient Based Corr Mask Full Y : 0.134319
Image Width : 400
Image Height : 266
Bits Per Sample : 8
Color Components : 3
Aperture : 11.0
Image Size : 400x266
Megapixels : 0.106
Scale Factor To 35 mm Equivalent : 1.0
Shutter Speed : 1.3
Create Date : 2021:11:06 19:45:42.001
Date/Time Original : 2021:11:06 19:45:42.001
Circle Of Confusion : 0.030 mm
Depth Of Field : inf (1.74 m - inf)
Field Of View : 73.7 deg
Focal Length : 24.0 mm (35 mm equivalent: 24.0 mm)
Hyperfocal Distance : 1.74 m
Light Value : 6.5
Lens ID : Tamron SP 24-70mm f/2.8 Di VC USD G2 (A032)