Uber Exif Photo
Keywords : Nikon Z6
Make : NIKON CORPORATION
Camera Model Name : NIKON Z 6
Software : Adobe Photoshop Lightroom Classic 12.1 (Windows)
Modify Date : 2022:12:21 19:04:09
Exposure Time : 1/60
F Number : 2.0
Exposure Program : Manual
ISO : 1000
Sensitivity Type : Recommended Exposure Index
Recommended Exposure Index : 1000
Date/Time Original : 2022:12:21 18:47:50
Create Date : 2022:12:21 18:47:50
Shutter Speed Value : 1/60
Aperture Value : 2.0
Exposure Compensation : 0
Metering Mode : Multi-segment
Light Source : Unknown
Flash : No Flash
Focal Length : 40.0 mm
Color Space : sRGB
Sensing Method : One-chip color area
Scene Type : Directly photographed
CFA Pattern : [Red,Green][Green,Blue]
Custom Rendered : Custom
Exposure Mode : Manual
White Balance : Auto
Focal Length In 35mm Format : 40 mm
Scene Capture Type : Standard
Gain Control : Low gain up
Contrast : Normal
Saturation : Normal
Sharpness : Normal
Subject Distance Range : Unknown
Serial Number : 6009652
Lens Info : 40mm f/2
Lens Make : NIKON
Lens Model : NIKKOR Z 40mm f/2
Lens Serial Number : 20037893
Profile Description : sRGB IEC61966-2.1
Creator Tool : Adobe Photoshop Lightroom Classic 12.1 (Windows)
Lens : NIKKOR Z 40mm f/2
Image Number : 4301
Distortion Correction Already Applied : True
Lateral Chromatic Aberration Correction Already Applied:
True
Vignette Correction Already Applied : True
Date Created : 2022:12:21 18:47:50.23+02:00
Preserved File Name : _DSC4297.NEF
Format : image/jpeg
Raw File Name : _DSC4297.NEF
Version : 15.1
Compatible Version : 234881024
Process Version : 11.0
Color Temperature : 2792
Tint : +35
Exposure 2012 : +1.73
Contrast 2012 : +9
Highlights 2012 : -53
Shadows 2012 : +43
Whites 2012 : +26
Blacks 2012 : +24
Texture : 0
Clarity 2012 : 0
Dehaze : 0
Vibrance : 0
Parametric Shadows : -28
Parametric Darks : +9
Parametric Lights : -9
Parametric Highlights : -26
Parametric Shadow Split : 25
Parametric Midtone Split : 50
Parametric Highlight Split : 75
Sharpen Detail : 50
Sharpen Edge Masking : 29
Luminance Smoothing : 0
Color Noise Reduction : 25
Color Noise Reduction Detail : 50
Color Noise Reduction Smoothness : 50
Hue Adjustment Red : +21
Hue Adjustment Orange : 0
Hue Adjustment Yellow : -24
Hue Adjustment Green : 0
Hue Adjustment Aqua : 0
Hue Adjustment Blue : -46
Hue Adjustment Purple : 0
Hue Adjustment Magenta : 0
Saturation Adjustment Red : -34
Saturation Adjustment Orange : -11
Saturation Adjustment Yellow : -11
Saturation Adjustment Green : -52
Saturation Adjustment Aqua : 0
Saturation Adjustment Blue : -93
Saturation Adjustment Purple : 0
Saturation Adjustment Magenta : 0
Luminance Adjustment Red : -18
Luminance Adjustment Orange : -9
Luminance Adjustment Yellow : -24
Luminance Adjustment Green : -27
Luminance Adjustment Aqua : -18
Luminance Adjustment Blue : +4
Luminance Adjustment Purple : 0
Luminance Adjustment Magenta : 0
Split Toning Shadow Hue : 29
Split Toning Shadow Saturation : 7
Split Toning Highlight Hue : 200
Split Toning Highlight Saturation : 5
Split Toning Balance : 0
Color Grade Midtone Hue : 0
Color Grade Midtone Sat : 0
Color Grade Shadow Lum : 0
Color Grade Midtone Lum : 0
Color Grade Highlight Lum : 0
Color Grade Blending : 100
Color Grade Global Hue : 0
Color Grade Global Sat : 0
Color Grade Global Lum : 0
Auto Lateral CA : 1
Lens Profile Enable : 1
Lens Manual Distortion Amount : 0
Vignette Amount : 0
Defringe Purple Amount : 0
Defringe Purple Hue Lo : 30
Defringe Purple Hue Hi : 70
Defringe Green Amount : 0
Defringe Green Hue Lo : 40
Defringe Green Hue Hi : 60
Perspective Upright : Off
Perspective Vertical : 0
Perspective Horizontal : 0
Perspective Rotate : 0.0
Perspective Aspect : 0
Perspective Scale : 100
Perspective X : 0.00
Perspective Y : 0.00
Grain Amount : 40
Grain Size : 25
Grain Frequency : 50
Post Crop Vignette Amount : 0
Shadow Tint : 0
Red Hue : +7
Red Saturation : 0
Green Hue : 0
Green Saturation : 0
Blue Hue : 0
Blue Saturation : 0
Override Look Vignette : False
Tone Curve Name 2012 : Custom
Camera Profile : Adobe Standard v2
Lens Profile Setup : LensDefaults
Has Settings : True
Crop Top : 0
Crop Left : 0
Crop Bottom : 1
Crop Right : 1
Crop Angle : 0
Crop Constrain To Warp : 0
Has Crop : False
Already Applied : True
Subject : Nikon Z6
Weighted Flat Subject : Nikon Z6
Tone Curve PV2012 : 0, 32, 36, 38, 84, 84, 130, 139, 209, 217, 255, 255
Tone Curve PV2012 Red : 0, 0, 102, 102, 172, 180, 255, 255
Tone Curve PV2012 Green : 0, 0, 103, 103, 168, 171, 255, 255
Tone Curve PV2012 Blue : 0, 0, 109, 107, 172, 174, 255, 255
Look Name : Adobe Color
Look Amount : 1
Look Supports Amount : false
Look Supports Monochrome : false
Look Supports Output Referred : false
Look Group : Profiles
Look Parameters Version : 15.1
Look Parameters Process Version : 11.0
Look Parameters Convert To Grayscale : False
Look Parameters Camera Profile : Adobe Standard
Look Parameters Look Table : E1095149FDB39D7A057BAB208837E2E1
Look Parameters Tone Curve PV2012 : 0, 0, 22, 16, 40, 35, 127, 127, 224, 230, 240, 246, 255, 255
Look Parameters Tone Curve PV2012 Red : 0, 0, 255, 255
Look Parameters Tone Curve PV2012 Green : 0, 0, 255, 255
Look Parameters Tone Curve PV2012 Blue : 0, 0, 255, 255
Image Width : 400
Image Height : 601
Bits Per Sample : 8
Color Components : 3
Aperture : 2.0
Image Size : 400x601
Megapixels : 0.240
Scale Factor To 35 mm Equivalent : 1.0
Shutter Speed : 1/60
Create Date : 2022:12:21 18:47:50.23+02:00
Date/Time Original : 2022:12:21 18:47:50.23+02:00
Modify Date : 2022:12:21 19:04:09+01:00
Circle Of Confusion : 0.030 mm
Field Of View : 48.5 deg
Focal Length : 40.0 mm (35 mm equivalent: 40.0 mm)
Hyperfocal Distance : 26.63 m
Light Value : 4.6
Lens ID : NIKKOR Z 40mm f/2