Uber Exif Photo
Special Instructions : f%XuklT8RHW7nolOZiIWrA
Make : NIKON CORPORATION
Camera Model Name : NIKON D7000
Orientation : Horizontal (normal)
Software : Adobe Photoshop CS5 Macintosh
Modify Date : 2011:12:05 22:56:53
Exposure Time : 1/25
F Number : 1.8
Exposure Program : Manual
ISO : 160
Date/Time Original : 2011:11:24 13:31:43
Create Date : 2011:11:24 13:31:43
Shutter Speed Value : 1/25
Aperture Value : 1.8
Exposure Compensation : 0
Max Aperture Value : 1.7
Metering Mode : Center-weighted average
Light Source : Unknown
Flash : Off, Did not fire
Focal Length : 35.0 mm
Color Space : Uncalibrated
Exif Image Width : 1320
Exif Image Height : 1551
Sensing Method : One-chip color area
Custom Rendered : Normal
Exposure Mode : Manual
White Balance : Manual
Digital Zoom Ratio : 1
Focal Length In 35mm Format : 52 mm
Scene Capture Type : Standard
Gain Control : None
Contrast : Normal
Saturation : Normal
Sharpness : Normal
Subject Distance Range : Unknown
Profile Description : Adobe RGB (1998)
Instructions : f%XuklT8RHW7nolOZiIWrA
Color Mode : RGB
ICC Profile Name : Adobe RGB (1998)
Date Created : 2011:11:24 13:31:43.01
Serial Number : 6193440
Lens : AF-S DX Nikkor 35mm f/1.8G
Image Number : 5386
Flash Compensation : 0
Creator Tool : Aperture 3.2.1
Rating : 0
Raw File Name : DSC_5255.jpg
Version : 6.0
Process Version : 5.7
Incremental Temperature : +18
Incremental Tint : 0
Exposure : 0.00
Shadows : 0
Brightness : -60
Luminance Smoothing : 52
Color Noise Reduction : 0
Chromatic Aberration R : 0
Chromatic Aberration B : 0
Vignette Amount : 0
Shadow Tint : 0
Red Hue : 0
Red Saturation : 0
Green Hue : 0
Green Saturation : 0
Blue Hue : 0
Blue Saturation : 0
Fill Light : 0
Vibrance : 0
Highlight Recovery : 36
Clarity : +55
Defringe : 0
Hue Adjustment Red : 0
Hue Adjustment Orange : 0
Hue Adjustment Yellow : 0
Hue Adjustment Green : 0
Hue Adjustment Aqua : 0
Hue Adjustment Blue : 0
Hue Adjustment Purple : 0
Hue Adjustment Magenta : 0
Saturation Adjustment Red : 0
Saturation Adjustment Orange : 0
Saturation Adjustment Yellow : 0
Saturation Adjustment Green : 0
Saturation Adjustment Aqua : 0
Saturation Adjustment Blue : 0
Saturation Adjustment Purple : 0
Saturation Adjustment Magenta : 0
Luminance Adjustment Red : 0
Luminance Adjustment Orange : 0
Luminance Adjustment Yellow : 0
Luminance Adjustment Green : 0
Luminance Adjustment Aqua : 0
Luminance Adjustment Blue : 0
Luminance Adjustment Purple : 0
Luminance Adjustment Magenta : 0
Split Toning Shadow Hue : 0
Split Toning Shadow Saturation : 0
Split Toning Highlight Hue : 0
Split Toning Highlight Saturation : 0
Split Toning Balance : 0
Parametric Shadows : 0
Parametric Darks : 0
Parametric Lights : -22
Parametric Highlights : 0
Parametric Shadow Split : 25
Parametric Midtone Split : 50
Parametric Highlight Split : 75
Sharpen Radius : +1.8
Sharpen Detail : 25
Sharpen Edge Masking : 51
Post Crop Vignette Amount : 0
Grain Amount : 0
Luminance Noise Reduction Detail : 50
Luminance Noise Reduction Contrast : 39
Convert To Grayscale : False
Tone Curve Name : Linear
Camera Profile : Embedded
Has Settings : True
Has Crop : False
Already Applied : True
Format : image/jpeg
Tone Curve : 0, 0, 255, 255
Image Width : 255
Image Height : 300
Bits Per Sample : 8
Color Components : 3
Aperture : 1.8
Image Size : 255x300
Megapixels : 0.076
Scale Factor To 35 mm Equivalent : 1.5
Shutter Speed : 1/25
Create Date : 2011:11:24 13:31:43.10
Date/Time Original : 2011:11:24 13:31:43.10
Modify Date : 2011:12:05 22:56:53.10
Circle Of Confusion : 0.020 mm
Field Of View : 38.2 deg
Focal Length : 35.0 mm (35 mm equivalent: 52.0 mm)
Hyperfocal Distance : 33.65 m
Light Value : 5.7
Lens ID : Unknown (14 14 A1 06)