Uber Exif Photo
Make : NIKON
Camera Model Name : COOLPIX P7700
Software : Adobe Photoshop Lightroom 4.4 (Windows)
Modify Date : 2013:07:27 19:38:17
Exposure Time : 1/320
F Number : 8.0
Exposure Program : Aperture-priority AE
ISO : 125
Sensitivity Type : Standard Output Sensitivity
Date/Time Original : 2013:07:25 13:49:54
Create Date : 2013:07:25 13:49:54
Shutter Speed Value : 1/320
Aperture Value : 8.0
Exposure Compensation : -0.3
Max Aperture Value : 2.0
Metering Mode : Multi-segment
Light Source : Unknown
Flash : Off, Did not fire
Focal Length : 14.1 mm
Sensing Method : One-chip color area
Scene Type : Directly photographed
CFA Pattern : [Red,Green][Green,Blue]
Custom Rendered : Normal
Exposure Mode : Auto
White Balance : Auto
Digital Zoom Ratio : 0
Focal Length In 35mm Format : 66 mm
Scene Capture Type : Standard
Gain Control : Low gain up
Contrast : Normal
Saturation : Normal
Sharpness : Normal
Subject Distance Range : Unknown
Creator Tool : Adobe Photoshop Lightroom 4.4 (Windows)
Date Created : 2013:07:25 13:49:54
Format : image/jpeg
Version : 7.4
Process Version : 6.7
Color Temperature : 5850
Tint : +8
Luminance Smoothing : 36
Color Noise Reduction : 25
Vignette Amount : 0
Shadow Tint : 0
Red Hue : 0
Red Saturation : 0
Green Hue : 0
Green Saturation : 0
Blue Hue : 0
Blue Saturation : 0
Gray Mixer Red : -22
Gray Mixer Orange : +27
Gray Mixer Yellow : +7
Gray Mixer Green : -35
Gray Mixer Aqua : -48
Gray Mixer Blue : -43
Gray Mixer Purple : +17
Gray Mixer Magenta : +4
Split Toning Shadow Hue : 0
Split Toning Shadow Saturation : 0
Split Toning Highlight Hue : 0
Split Toning Highlight Saturation : 0
Split Toning Balance : 0
Parametric Shadows : 0
Parametric Darks : 0
Parametric Lights : 0
Parametric Highlights : 0
Parametric Shadow Split : 25
Parametric Midtone Split : 50
Parametric Highlight Split : 75
Sharpen Radius : +1.0
Sharpen Detail : 32
Sharpen Edge Masking : 46
Post Crop Vignette Amount : -19
Post Crop Vignette Midpoint : 23
Post Crop Vignette Feather : 75
Post Crop Vignette Roundness : -29
Post Crop Vignette Style : Highlight Priority
Post Crop Vignette Highlight Contrast : 0
Grain Amount : 0
Luminance Noise Reduction Detail : 50
Color Noise Reduction Detail : 50
Luminance Noise Reduction Contrast : 0
Lens Profile Enable : 0
Lens Manual Distortion Amount : 0
Perspective Vertical : 0
Perspective Horizontal : 0
Perspective Rotate : 0.0
Perspective Scale : 100
Auto Lateral CA : 0
Exposure 2012 : 0.00
Contrast 2012 : -26
Highlights 2012 : -34
Shadows 2012 : +43
Whites 2012 : +48
Blacks 2012 : +9
Clarity 2012 : +67
Convert To Grayscale : True
Tone Curve Name 2012 : Medium Contrast
Camera Profile : Adobe Standard
Lens Profile Setup : LensDefaults
Has Settings : True
Crop Top : 0
Crop Left : 0
Crop Bottom : 0.943434
Crop Right : 0.88447
Crop Angle : 0
Crop Constrain To Warp : 0
Crop Width : 3538
Crop Height : 2830
Crop Unit : pixels
Has Crop : True
Already Applied : True
Tone Curve PV2012 : 0, 0, 32, 22, 64, 56, 128, 128, 192, 196, 255, 255
Tone Curve PV2012 Red : 0, 0, 255, 255
Tone Curve PV2012 Green : 0, 0, 255, 255
Tone Curve PV2012 Blue : 0, 0, 255, 255
Gradient Based Corr What : Correction
Gradient Based Corr Amount : 1.000000
Gradient Based Corr Active : true
Gradient Based Corr Saturation : 0.000000
Gradient Based Corr Sharpness : 0.241380
Gradient Based Corr Brightness : 0.000000
Gradient Based Corr Toning Hue : 240.000000
Gradient Based Corr Toning Saturation : 0.000000
Gradient Based Corr Exposure 2012 : -0.239250
Gradient Based Corr Contrast 2012 : 0.060000
Gradient Based Corr Highlights 2012 : -0.172410
Gradient Based Corr Shadows 2012 : 0.000000
Gradient Based Corr Clarity 2012 : 0.264370
Gradient Based Corr Luminance Noise : 0.379310
Gradient Based Corr Moire : 0.000000
Gradient Based Corr Defringe : 0.000000
Gradient Based Corr Temperature : 0.000000
Gradient Based Corr Tint : 0.000000
Gradient Based Corr Mask What : Mask/Gradient
Gradient Based Corr Mask Value : 1.000000
Gradient Based Corr Mask Zero X : 0.449870
Gradient Based Corr Mask Zero Y : 0.450993
Gradient Based Corr Mask Full X : 0.454767
Gradient Based Corr Mask Full Y : -0.032469
Image Width : 300
Image Height : 240
Bits Per Sample : 8
Color Components : 1
Aperture : 8.0
Image Size : 300x240
Megapixels : 0.072
Scale Factor To 35 mm Equivalent : 4.7
Shutter Speed : 1/320
Circle Of Confusion : 0.006 mm
Field Of View : 30.5 deg
Focal Length : 14.1 mm (35 mm equivalent: 66.0 mm)
Hyperfocal Distance : 3.87 m
Light Value : 14.0