Uber Exif Photo
Make : NIKON
Camera Model Name : COOLPIX P7100
Software : Adobe Photoshop Lightroom 4.4 (Windows)
Modify Date : 2013:08:28 22:06:34
Exposure Time : 1/125
F Number : 4.5
Exposure Program : Shutter speed priority AE
ISO : 400
Date/Time Original : 2012:03:17 16:05:07
Create Date : 2012:03:17 16:05:07
Shutter Speed Value : 1/125
Aperture Value : 4.5
Exposure Compensation : +1.3
Max Aperture Value : 2.8
Metering Mode : Multi-segment
Light Source : Unknown
Flash : Off, Did not fire
Focal Length : 22.5 mm
Sensing Method : One-chip color area
Scene Type : Directly photographed
Custom Rendered : Custom
Exposure Mode : Auto
White Balance : Auto
Digital Zoom Ratio : 0
Focal Length In 35mm Format : 105 mm
Scene Capture Type : Standard
Gain Control : High gain up
Contrast : Normal
Saturation : Normal
Sharpness : Normal
Subject Distance Range : Unknown
Rating Percent : 0
Creator Tool : Adobe Photoshop Lightroom 4.4 (Windows)
Date Created : 2012:03:17 16:05:07
Format : image/jpeg
Version : 7.4
Process Version : 6.7
Color Temperature : 5050
Tint : +8
Luminance Smoothing : 25
Color Noise Reduction : 25
Vignette Amount : 0
Shadow Tint : 0
Red Hue : 0
Red Saturation : 0
Green Hue : 0
Green Saturation : 0
Blue Hue : 0
Blue Saturation : 0
Gray Mixer Red : -9
Gray Mixer Orange : -18
Gray Mixer Yellow : -22
Gray Mixer Green : -26
Gray Mixer Aqua : -18
Gray Mixer Blue : +11
Gray Mixer Purple : +16
Gray Mixer Magenta : +4
Split Toning Shadow Hue : 0
Split Toning Shadow Saturation : 0
Split Toning Highlight Hue : 0
Split Toning Highlight Saturation : 0
Split Toning Balance : 0
Parametric Shadows : 0
Parametric Darks : 0
Parametric Lights : 0
Parametric Highlights : 0
Parametric Shadow Split : 25
Parametric Midtone Split : 50
Parametric Highlight Split : 75
Sharpen Radius : +0.8
Sharpen Detail : 36
Sharpen Edge Masking : 46
Post Crop Vignette Amount : -13
Post Crop Vignette Midpoint : 25
Post Crop Vignette Feather : 80
Post Crop Vignette Roundness : 0
Post Crop Vignette Style : Highlight Priority
Post Crop Vignette Highlight Contrast : 0
Grain Amount : 0
Luminance Noise Reduction Detail : 50
Color Noise Reduction Detail : 50
Luminance Noise Reduction Contrast : 0
Lens Profile Enable : 0
Lens Manual Distortion Amount : 0
Perspective Vertical : 0
Perspective Horizontal : 0
Perspective Rotate : 0.0
Perspective Scale : 100
Auto Lateral CA : 0
Exposure 2012 : 0.00
Contrast 2012 : -11
Highlights 2012 : -64
Shadows 2012 : +74
Whites 2012 : +5
Blacks 2012 : +40
Clarity 2012 : +67
Convert To Grayscale : True
Tone Curve Name 2012 : Medium Contrast
Camera Profile : Adobe Standard
Lens Profile Setup : LensDefaults
Has Settings : True
Crop Top : 0.036157
Crop Left : 0.131118
Crop Bottom : 0.719361
Crop Right : 0.522455
Crop Angle : -0.636726
Crop Constrain To Warp : 0
Crop Width : 1407
Crop Height : 1885
Crop Unit : pixels
Has Crop : True
Already Applied : True
Tone Curve PV2012 : 0, 0, 32, 22, 64, 56, 128, 128, 192, 196, 255, 255
Tone Curve PV2012 Red : 0, 0, 255, 255
Tone Curve PV2012 Green : 0, 0, 255, 255
Tone Curve PV2012 Blue : 0, 0, 255, 255
Paint Correction What : Correction
Paint Correction Amount : 1.000000
Paint Correction Active : true
Paint Correction Saturation : 0.000000
Paint Correction Sharpness : 0.000000
Paint Correction Brightness : 0.000000
Paint Correction Toning Hue : 240.000000
Paint Correction Toning Saturation : 0.000000
Paint Correction Exposure 2012 : 0.000000
Paint Correction Contrast 2012 : 0.000000
Paint Correction Highlights 2012 : 0.000000
Paint Correction Shadows 2012 : 0.380950
Paint Correction Clarity 2012 : 0.000000
Paint Correction Luminance Noise : 0.000000
Paint Correction Moire : 0.000000
Paint Correction Defringe : 0.000000
Paint Correction Temperature : 0.000000
Paint Correction Tint : 0.000000
Paint Correction Mask What : Mask/Paint
Paint Correction Mask Value : 1.000000
Paint Correction Mask Radius : 0.020260
Paint Correction Mask Flow : 0.919000
Paint Correction Mask Center Weight : 0.000000
Image Width : 224
Image Height : 300
Bits Per Sample : 8
Color Components : 1
Aperture : 4.5
Image Size : 224x300
Megapixels : 0.067
Scale Factor To 35 mm Equivalent : 4.7
Shutter Speed : 1/125
Circle Of Confusion : 0.006 mm
Field Of View : 19.5 deg
Focal Length : 22.5 mm (35 mm equivalent: 105.0 mm)
Hyperfocal Distance : 17.47 m
Light Value : 9.3