Uber Exif Photo
Make : NIKON CORPORATION
Camera Model Name : NIKON D750
Software : Adobe Photoshop Lightroom 5.7.1 (Macintosh)
Modify Date : 2016:03:12 20:37:29
Exposure Time : 1/200
F Number : 4.5
Exposure Program : Aperture-priority AE
ISO : 6400
Sensitivity Type : Recommended Exposure Index
Date/Time Original : 2016:03:10 08:09:29
Create Date : 2016:03:10 08:09:29
Shutter Speed Value : 1/200
Aperture Value : 4.5
Exposure Compensation : +1/3
Max Aperture Value : 4.0
Metering Mode : Multi-segment
Light Source : Unknown
Flash : Off, Did not fire
Focal Length : 40.0 mm
Sensing Method : One-chip color area
Scene Type : Directly photographed
CFA Pattern : [Red,Green][Green,Blue]
Custom Rendered : Custom
Exposure Mode : Auto
White Balance : Auto
Digital Zoom Ratio : 1
Focal Length In 35mm Format : 40 mm
Scene Capture Type : Standard
Gain Control : High gain up
Contrast : Normal
Saturation : Normal
Sharpness : Normal
Subject Distance Range : Unknown
Serial Number : 8520843
Lens Info : 24-120mm f/4
Lens Model : 24.0-120.0 mm f/4.0
Creator Tool : Adobe Photoshop Lightroom 5.7.1 (Macintosh)
Rating : 2
Lens : 24.0-120.0 mm f/4.0
Image Number : 1961
Approximate Focus Distance : 2.99
Date Created : 2016:03:10 08:09:29.48
Format : image/jpeg
Version : 8.7.1
Process Version : 6.7
Auto White Version : 134348800
Color Temperature : 7750
Tint : +7
Luminance Smoothing : 0
Color Noise Reduction : 25
Vignette Amount : 0
Shadow Tint : 0
Red Hue : 0
Red Saturation : 0
Green Hue : 0
Green Saturation : 0
Blue Hue : 0
Blue Saturation : 0
Gray Mixer Red : -10
Gray Mixer Orange : -20
Gray Mixer Yellow : -24
Gray Mixer Green : -27
Gray Mixer Aqua : -18
Gray Mixer Blue : +11
Gray Mixer Purple : +17
Gray Mixer Magenta : +4
Split Toning Shadow Hue : 0
Split Toning Shadow Saturation : 0
Split Toning Highlight Hue : 0
Split Toning Highlight Saturation : 0
Split Toning Balance : 0
Parametric Shadows : +35
Parametric Darks : +1
Parametric Lights : -10
Parametric Highlights : +67
Parametric Shadow Split : 25
Parametric Midtone Split : 50
Parametric Highlight Split : 75
Sharpen Radius : +1.0
Sharpen Detail : 25
Sharpen Edge Masking : 0
Post Crop Vignette Amount : 0
Grain Amount : 0
Color Noise Reduction Detail : 50
Color Noise Reduction Smoothness : 50
Lens Profile Enable : 0
Lens Manual Distortion Amount : 0
Perspective Vertical : 0
Perspective Horizontal : 0
Perspective Rotate : 0.0
Perspective Scale : 100
Perspective Aspect : 0
Perspective Upright : Off
Auto Lateral CA : 0
Exposure 2012 : +0.90
Contrast 2012 : +15
Highlights 2012 : -82
Shadows 2012 : +27
Whites 2012 : +9
Blacks 2012 : -42
Clarity 2012 : 0
Convert To Grayscale : True
Tone Curve Name : Linear
Tone Curve Name 2012 : Medium Contrast
Camera Profile : Adobe Standard
Lens Profile Setup : LensDefaults
Has Settings : True
Crop Top : 0.163303
Crop Left : 0.066694
Crop Bottom : 0.980193
Crop Right : 0.693665
Crop Angle : 8.61477
Crop Constrain To Warp : 0
Has Crop : True
Already Applied : True
Tone Curve : 0, 0, 255, 255
Tone Curve Red : 0, 0, 255, 255
Tone Curve Green : 0, 0, 255, 255
Tone Curve Blue : 0, 0, 255, 255
Tone Curve PV2012 : 0, 0, 32, 22, 64, 56, 128, 128, 192, 196, 255, 255
Tone Curve PV2012 Red : 0, 0, 255, 255
Tone Curve PV2012 Green : 0, 0, 255, 255
Tone Curve PV2012 Blue : 0, 0, 255, 255
Paint Correction What : Correction
Paint Correction Amount : 1.000000
Paint Correction Active : true
Paint Correction Saturation : 0.000000
Paint Correction Sharpness : 0.000000
Paint Correction Brightness : 0.000000
Paint Correction Toning Hue : 240.000000
Paint Correction Toning Saturation : 0.000000
Paint Correction Exposure 2012 : 0.000000
Paint Correction Contrast 2012 : 0.000000
Paint Correction Highlights 2012 : 0.000000
Paint Correction Shadows 2012 : 0.000000
Paint Correction Clarity 2012 : 0.000000
Paint Correction Luminance Noise : 0.000000
Paint Correction Moire : 0.000000
Paint Correction Defringe : 0.000000
Paint Correction Temperature : 0.000000
Paint Correction Tint : 0.000000
Paint Correction Mask What : Mask/Paint
Paint Correction Mask Value : 1.000000
Paint Correction Mask Radius : 0.027625
Paint Correction Mask Flow : 1.000000
Paint Correction Mask Center Weight : 0.029611
Circ Grad Based Corr What : Correction
Circ Grad Based Corr Amount : 1.000000
Circ Grad Based Corr Active : true
Circ Grad Based Corr Saturation : 0.000000
Circ Grad Based Corr Sharpness : 0.000000
Circ Grad Based Corr Brightness : 0.000000
Circ Grad Based Corr Toning Hue : 240.000000
Circ Grad Based Corr Toning Saturation : 0.000000
Circ Grad Based Corr Exposure 2012 : 0.000000
Circ Grad Based Corr Contrast 2012 : -0.105600
Circ Grad Based Corr Highlights 2012 : 0.000000
Circ Grad Based Corr Shadows 2012 : 0.165730
Circ Grad Based Corr Clarity 2012 : 0.136412
Circ Grad Based Corr Luminance Noise : 0.000000
Circ Grad Based Corr Moire : 0.000000
Circ Grad Based Corr Defringe : 0.000000
Circ Grad Based Corr Temperature : 0.000000
Circ Grad Based Corr Tint : 0.000000
Circ Grad Based Corr Mask What : Mask/CircularGradient
Circ Grad Based Corr Mask Value : 1.000000
Circ Grad Based Corr Mask Top : 0.440321
Circ Grad Based Corr Mask Left : 0.478445
Circ Grad Based Corr Mask Bottom : 0.697992
Circ Grad Based Corr Mask Right : 0.694450
Circ Grad Based Corr Mask Angle : 2.758760
Circ Grad Based Corr Mask Midpoint : +50
Circ Grad Based Corr Mask Roundness : 0
Circ Grad Based Corr Mask Feather : +50
Circ Grad Based Corr Mask Flipped : true
Circ Grad Based Corr Mask Version : +2
Image Width : 300
Image Height : 190
Bits Per Sample : 8
Color Components : 1
Aperture : 4.5
Image Size : 300x190
Megapixels : 0.057
Scale Factor To 35 mm Equivalent : 1.0
Shutter Speed : 1/200
Create Date : 2016:03:10 08:09:29.48
Date/Time Original : 2016:03:10 08:09:29.48
Circle Of Confusion : 0.030 mm
Depth Of Field : 1.59 m (2.39 - 3.98 m)
Field Of View : 48.5 deg
Focal Length : 40.0 mm (35 mm equivalent: 40.0 mm)
Hyperfocal Distance : 11.83 m
Light Value : 6.0
Lens ID : AF-S Nikkor 24-120mm f/4G ED VR