Uber Exif Photo
Make : NIKON CORPORATION
Camera Model Name : NIKON D700
Orientation : Horizontal (normal)
Software : Adobe Photoshop CS4 Windows
Modify Date : 2010:05:21 20:01:52
Exposure Time : 1/60
F Number : 8.0
Exposure Program : Aperture-priority AE
ISO : 250
Date/Time Original : 2010:05:21 17:12:16
Create Date : 2010:05:21 17:12:16
Shutter Speed Value : 1/60
Aperture Value : 8.0
Exposure Compensation : 0
Max Aperture Value : 1.0
Metering Mode : Center-weighted average
Light Source : Unknown
Focal Length : 35.0 mm
Color Space : sRGB
Exif Image Width : 900
Exif Image Height : 608
Sensing Method : One-chip color area
Scene Type : Directly photographed
CFA Pattern : [Red,Green][Green,Blue]
Custom Rendered : Normal
Exposure Mode : Auto
White Balance : Auto
Digital Zoom Ratio : 1
Focal Length In 35mm Format : 35 mm
Scene Capture Type : Standard
Gain Control : None
Contrast : Normal
Saturation : Normal
Sharpness : Hard
Subject Distance Range : Unknown
Profile Description : sRGB IEC61966-2.1
Date/Time Digitized : 2010:05:21 17:12:16.75+02:00
Creator Tool : Ver.1.02
Rating : 0
Serial Number : 2057656
Lens Info : 0mm f/0
Lens : 0.0 mm f/0.0
Image Number : 10907
Raw File Name : DSC_0748.NEF
Version : 5.5
Color Temperature : 8800
Tint : +6
Exposure : -0.90
Shadows : 6
Brightness : +45
Luminance Smoothing : 0
Color Noise Reduction : 5
Chromatic Aberration R : -19
Chromatic Aberration B : 0
Vignette Amount : 0
Shadow Tint : 0
Red Hue : 0
Red Saturation : 0
Green Hue : 0
Green Saturation : 0
Blue Hue : 0
Blue Saturation : 0
Fill Light : 0
Vibrance : +46
Highlight Recovery : 0
Clarity : +49
Defringe : 0
Hue Adjustment Red : 0
Hue Adjustment Orange : -5
Hue Adjustment Yellow : -5
Hue Adjustment Green : -15
Hue Adjustment Aqua : +75
Hue Adjustment Blue : 0
Hue Adjustment Purple : -5
Hue Adjustment Magenta : +25
Saturation Adjustment Red : +5
Saturation Adjustment Orange : +10
Saturation Adjustment Yellow : +5
Saturation Adjustment Green : -15
Saturation Adjustment Aqua : -25
Saturation Adjustment Blue : +15
Saturation Adjustment Purple : -45
Saturation Adjustment Magenta : -20
Luminance Adjustment Red : 0
Luminance Adjustment Orange : 0
Luminance Adjustment Yellow : 0
Luminance Adjustment Green : 0
Luminance Adjustment Aqua : 0
Luminance Adjustment Blue : 0
Luminance Adjustment Purple : 0
Luminance Adjustment Magenta : 0
Split Toning Shadow Hue : 0
Split Toning Shadow Saturation : 0
Split Toning Highlight Hue : 0
Split Toning Highlight Saturation : 0
Split Toning Balance : 0
Parametric Shadows : 0
Parametric Darks : -38
Parametric Lights : +48
Parametric Highlights : 0
Parametric Shadow Split : 25
Parametric Midtone Split : 50
Parametric Highlight Split : 75
Sharpen Radius : +1.0
Sharpen Detail : 25
Sharpen Edge Masking : 0
Post Crop Vignette Amount : 0
Convert To Grayscale : False
Tone Curve Name : Medium Contrast
Camera Profile : Camera Vivid v2
Has Settings : True
Crop Top : 0.023772
Crop Left : 0.037935
Crop Bottom : 1
Crop Right : 1
Crop Angle : 0
Has Crop : True
Already Applied : True
Sidecar For Extension : NEF
Color Mode : RGB
ICC Profile Name : sRGB IEC61966-2.1
Format : image/jpeg
Flash Fired : False
Flash Return : No return detection
Flash Mode : Unknown
Flash Function : False
Flash Red Eye Mode : False
Tone Curve : 0, 0, 32, 22, 64, 56, 128, 128, 192, 196, 255, 255
Image Width : 300
Image Height : 203
Bits Per Sample : 8
Color Components : 3
Aperture : 8.0
Image Size : 300x203
Megapixels : 0.061
Scale Factor To 35 mm Equivalent : 1.0
Shutter Speed : 1/60
Create Date : 2010:05:21 17:12:16.75
Date/Time Original : 2010:05:21 17:12:16.75
Modify Date : 2010:05:21 20:01:52.75
Flash : No Flash
Circle Of Confusion : 0.030 mm
Field Of View : 54.4 deg
Focal Length : 35.0 mm (35 mm equivalent: 35.0 mm)
Hyperfocal Distance : 5.10 m
Light Value : 10.6
Lens ID : 0.0mm f/0.0