Uber Exif Photo
By-line : marino mannarini
By-line Title : photographer
Copyright Notice : ©marino mannarini 2010
Copyright Flag : True
URL : www.mydvaphoto.com
Make : NIKON CORPORATION
Camera Model Name : NIKON D700
Software : Ver.1.02
Modify Date : 2010:04:03 21:15:49
Artist : Marino Mannarini +393338562061
Copyright : (C)marino mannarini 2010
Exposure Time : 1/800
F Number : 4.0
Exposure Program : Aperture-priority AE
ISO : 400
Date/Time Original : 2010:03:27 11:30:10
Create Date : 2010:03:27 11:30:10
Shutter Speed Value : 1/800
Aperture Value : 4.0
Exposure Compensation : -2/3
Max Aperture Value : 1.0
Metering Mode : Center-weighted average
Light Source : Unknown
Focal Length : 35.0 mm
User Comment : (c)Marino Mannarini mydvaphoto.com
Sensing Method : One-chip color area
Scene Type : Directly photographed
CFA Pattern : [Red,Green][Green,Blue]
Custom Rendered : Normal
Exposure Mode : Auto
White Balance : Manual
Digital Zoom Ratio : 1
Focal Length In 35mm Format : 35 mm
Scene Capture Type : Standard
Gain Control : Low gain up
Contrast : Normal
Saturation : Normal
Sharpness : Normal
Subject Distance Range : Unknown
Date/Time Digitized : 2010:03:27 11:30:10.00+01:00
Exif Image Width : 532
Exif Image Height : 800
Creator Tool : Adobe Photoshop Lightroom
Serial Number : 2132043
Lens Info : 0mm f/0
Lens : 0.0 mm f/0.0
Image Number : 12999
Marked : True
Web Statement : www.mydvaphoto.com
Authors Position : photographer
Version : 5.6
Color Temperature : 4350
Tint : -10
Exposure : +0.42
Shadows : 5
Brightness : +50
Luminance Smoothing : 0
Color Noise Reduction : 25
Chromatic Aberration R : 0
Chromatic Aberration B : 0
Vignette Amount : -71
Vignette Midpoint : 39
Shadow Tint : 0
Red Hue : 0
Red Saturation : 0
Green Hue : 0
Green Saturation : 0
Blue Hue : 0
Blue Saturation : 0
Fill Light : 0
Highlight Recovery : 0
Clarity : 0
Defringe : 0
Gray Mixer Red : -9
Gray Mixer Orange : -19
Gray Mixer Yellow : -24
Gray Mixer Green : -28
Gray Mixer Aqua : -19
Gray Mixer Blue : +11
Gray Mixer Purple : +18
Gray Mixer Magenta : +6
Split Toning Shadow Hue : 0
Split Toning Shadow Saturation : 0
Split Toning Highlight Hue : 0
Split Toning Highlight Saturation : 0
Split Toning Balance : 0
Parametric Shadows : -62
Parametric Darks : -10
Parametric Lights : +46
Parametric Highlights : 0
Parametric Shadow Split : 25
Parametric Midtone Split : 50
Parametric Highlight Split : 75
Sharpen Radius : +1.0
Sharpen Detail : 3
Sharpen Edge Masking : 0
Post Crop Vignette Amount : 0
Convert To Grayscale : True
Tone Curve Name : Medium Contrast
Camera Profile : Adobe Standard
Has Settings : True
Has Crop : False
Already Applied : True
Flash Fired : False
Flash Return : No return detection
Flash Mode : Unknown
Flash Function : False
Flash Red Eye Mode : False
Creator : marino mannarini
Rights : ©marino mannarini 2010
Creator Postal Code : I 73100
Creator Work Telephone : +393338562061
Creator Region : LE
Creator City : LECCE
Creator Country : ITALY
Creator Work Email : marinomannarini@gmail.com
Creator Address : piazza libertini, 10
Creator Work URL : www.mydvaphoto.com
Usage Terms : all rights reserved
Tone Curve : 0, 0, 32, 22, 64, 56, 128, 128, 192, 196, 255, 255
Paint Correction What : Correction
Paint Correction Amount : 1.000000
Paint Correction Active : true
Paint Correction Exposure : 0.057471
Paint Correction Saturation : 0.000000
Paint Correction Contrast : 0.000000
Paint Correction Clarity : 0.057471
Paint Correction Sharpness : 0.000000
Paint Correction Brightness : 0.034483
Paint Correction Toning Hue : 105.000000
Paint Correction Toning Saturation : 0.010000
Paint Correction Mask What : Mask/Paint
Paint Correction Mask Value : 1.000000
Paint Correction Mask Radius : 0.007235
Paint Correction Mask Flow : 1.000000
Paint Correction Mask Center Weight : 0.260422
Image Width : 200
Image Height : 300
Bits Per Sample : 8
Color Components : 1
Aperture : 4.0
Image Size : 200x300
Megapixels : 0.060
Scale Factor To 35 mm Equivalent : 1.0
Shutter Speed : 1/800
Create Date : 2010:03:27 11:30:10.00
Date/Time Original : 2010:03:27 11:30:10.00
Flash : No Flash
Circle Of Confusion : 0.030 mm
Field Of View : 54.4 deg
Focal Length : 35.0 mm (35 mm equivalent: 35.0 mm)
Hyperfocal Distance : 10.19 m
Light Value : 11.6
Lens ID : 0.0mm f/0.0