Uber Exif Photo
Make : NIKON CORPORATION
Camera Model Name : NIKON D700
Orientation : Horizontal (normal)
Software : Adobe Photoshop CS4 Windows
Modify Date : 2010:10:18 22:54:14
Exposure Time : 1/60
F Number : 5.6
Exposure Program : Aperture-priority AE
ISO : 1000
Date/Time Original : 2010:10:16 17:38:08
Create Date : 2010:10:16 17:38:08
Shutter Speed Value : 1/60
Aperture Value : 5.6
Exposure Compensation : 0
Max Aperture Value : 1.0
Metering Mode : Multi-segment
Light Source : Unknown
Focal Length : 50.0 mm
Color Space : sRGB
Exif Image Width : 900
Exif Image Height : 600
Sensing Method : One-chip color area
Scene Type : Directly photographed
CFA Pattern : [Red,Green][Green,Blue]
Custom Rendered : Normal
Exposure Mode : Auto
White Balance : Auto
Digital Zoom Ratio : 1
Focal Length In 35mm Format : 50 mm
Scene Capture Type : Standard
Gain Control : High gain up
Contrast : Normal
Saturation : Normal
Sharpness : Normal
Subject Distance Range : Unknown
Date/Time Digitized : 2010:10:16 17:38:08.58+03:00
Creator Tool : Ver.1.02
Rating : 0
Serial Number : 2174562
Lens Info : 0mm f/0
Lens : 0.0 mm f/0.0
Image Number : 22350
Raw File Name : HAF_0997.NEF
Version : 5.6
Color Temperature : 5400
Tint : 0
Exposure : 0.00
Shadows : 3
Brightness : +47
Luminance Smoothing : 0
Color Noise Reduction : 25
Chromatic Aberration R : 0
Chromatic Aberration B : 0
Vignette Amount : 0
Shadow Tint : 0
Red Hue : 0
Red Saturation : 0
Green Hue : 0
Green Saturation : 0
Blue Hue : 0
Blue Saturation : 0
Fill Light : 0
Vibrance : 0
Highlight Recovery : 5
Clarity : 0
Defringe : 0
Hue Adjustment Red : 0
Hue Adjustment Orange : 0
Hue Adjustment Yellow : 0
Hue Adjustment Green : 0
Hue Adjustment Aqua : 0
Hue Adjustment Blue : 0
Hue Adjustment Purple : 0
Hue Adjustment Magenta : 0
Saturation Adjustment Red : 0
Saturation Adjustment Orange : 0
Saturation Adjustment Yellow : 0
Saturation Adjustment Green : 0
Saturation Adjustment Aqua : 0
Saturation Adjustment Blue : 0
Saturation Adjustment Purple : 0
Saturation Adjustment Magenta : 0
Luminance Adjustment Red : 0
Luminance Adjustment Orange : 0
Luminance Adjustment Yellow : 0
Luminance Adjustment Green : 0
Luminance Adjustment Aqua : 0
Luminance Adjustment Blue : 0
Luminance Adjustment Purple : 0
Luminance Adjustment Magenta : 0
Split Toning Shadow Hue : 0
Split Toning Shadow Saturation : 0
Split Toning Highlight Hue : 0
Split Toning Highlight Saturation : 0
Split Toning Balance : 0
Parametric Shadows : 0
Parametric Darks : 0
Parametric Lights : 0
Parametric Highlights : 0
Parametric Shadow Split : 25
Parametric Midtone Split : 50
Parametric Highlight Split : 75
Sharpen Radius : +1.0
Sharpen Detail : 25
Sharpen Edge Masking : 0
Post Crop Vignette Amount : 0
Convert To Grayscale : False
Tone Curve Name : Medium Contrast
Camera Profile : Adobe Standard
Has Settings : True
Has Crop : False
Already Applied : True
Sidecar For Extension : NEF
Color Mode : RGB
ICC Profile Name : sRGB IEC61966-2.1
Format : image/jpeg
Flash Fired : False
Flash Return : No return detection
Flash Mode : Unknown
Flash Function : False
Flash Red Eye Mode : False
Tone Curve : 0, 0, 32, 22, 64, 56, 128, 128, 192, 196, 255, 255
Image Width : 300
Image Height : 200
Bits Per Sample : 8
Color Components : 1
Aperture : 5.6
Image Size : 300x200
Megapixels : 0.060
Scale Factor To 35 mm Equivalent : 1.0
Shutter Speed : 1/60
Create Date : 2010:10:16 17:38:08.58
Date/Time Original : 2010:10:16 17:38:08.58
Modify Date : 2010:10:18 22:54:14.58
Flash : No Flash
Circle Of Confusion : 0.030 mm
Field Of View : 39.6 deg
Focal Length : 50.0 mm (35 mm equivalent: 50.0 mm)
Hyperfocal Distance : 14.86 m
Light Value : 7.6
Lens ID : 0.0mm f/0.0