Uber Exif Photo
Object Name : StS_20071231_1440
Keywords : @f4.5, black and white, Carl Zeiss Makro-Planar 100 mm/f2.0 ZF, colander, Digital, kitchen, metal, monochrome, Nikon D2Xs, photography, stainless steel, stillife, StS_20071231_1440
By-line : Stefan Schönfeld
By-line Title : Bildermaler
Province-State : NRW
Country-Primary Location Name : Deutschland
Copyright Notice : ©StS; st-schoenfeld@web.de
Writer-Editor : StS
Copyright Flag : True
Photometric Interpretation : BlackIsZero
Make : NIKON CORPORATION
Camera Model Name : NIKON D2Xs
Orientation : Horizontal (normal)
Samples Per Pixel : 1
Software : Adobe Photoshop CS3 Windows
Modify Date : 2009:09:20 12:13:58
Artist : Stefan Schönfeld
Copyright : ©StS; st-schoenfeld@web.de
Exposure Time : 1
F Number : 4.5
Exposure Program : Manual
ISO : 100
Date/Time Original : 2007:12:31 17:27:45
Create Date : 2007:12:31 17:49:33
Shutter Speed Value : 1
Aperture Value : 4.5
Exposure Compensation : 0
Max Aperture Value : 1.0
Metering Mode : Multi-segment
Light Source : Unknown
Flash : No Flash
Focal Length : 100.0 mm
Color Space : sRGB
Exif Image Width : 573
Exif Image Height : 575
Sensing Method : One-chip color area
Scene Type : Directly photographed
CFA Pattern : [Red,Green][Green,Blue]
Custom Rendered : Normal
Exposure Mode : Manual
White Balance : Auto
Digital Zoom Ratio : 1
Focal Length In 35mm Format : 150 mm
Scene Capture Type : Standard
Gain Control : None
Contrast : Low
Saturation : Normal
Sharpness : Soft
Subject Distance Range : Unknown
Creator Tool : Adobe Photoshop CS3 Windows
Serial Number : 6023356
Image Number : 1442
Urgency : 2
Caption Writer : StS
Authors Position : Bildermaler
Color Mode : RGB
ICC Profile Name : sRGB IEC61966-2.1
City : Köln
State : NRW
Country : Deutschland
Credit : durch copyright geschützt
Date Created : 2007:12:31 17:27:45.45+01:00
Marked : True
Format : image/jpeg
Version : 4.3.1
Raw File Name : StS_20071231_1440.dng
Color Temperature : 4800
Tint : +20
Exposure : 0.00
Shadows : 4
Brightness : +25
Luminance Smoothing : 0
Color Noise Reduction : 25
Chromatic Aberration R : 0
Chromatic Aberration B : 0
Vignette Amount : 0
Shadow Tint : 0
Red Hue : 0
Red Saturation : 0
Green Hue : 0
Green Saturation : 0
Blue Hue : 0
Blue Saturation : 0
Fill Light : 0
Vibrance : 0
Highlight Recovery : 23
Clarity : 15
Defringe : 0
Hue Adjustment Red : 0
Hue Adjustment Orange : 0
Hue Adjustment Yellow : 0
Hue Adjustment Green : 0
Hue Adjustment Aqua : 0
Hue Adjustment Blue : 0
Hue Adjustment Purple : 0
Hue Adjustment Magenta : 0
Saturation Adjustment Red : 0
Saturation Adjustment Orange : 0
Saturation Adjustment Yellow : 0
Saturation Adjustment Green : 0
Saturation Adjustment Aqua : 0
Saturation Adjustment Blue : 0
Saturation Adjustment Purple : 0
Saturation Adjustment Magenta : 0
Luminance Adjustment Red : 0
Luminance Adjustment Orange : 0
Luminance Adjustment Yellow : 0
Luminance Adjustment Green : 0
Luminance Adjustment Aqua : 0
Luminance Adjustment Blue : 0
Luminance Adjustment Purple : 0
Luminance Adjustment Magenta : 0
Split Toning Shadow Hue : 0
Split Toning Shadow Saturation : 0
Split Toning Highlight Hue : 0
Split Toning Highlight Saturation : 0
Split Toning Balance : 0
Parametric Shadows : 0
Parametric Darks : 0
Parametric Lights : 0
Parametric Highlights : 0
Parametric Shadow Split : 25
Parametric Midtone Split : 50
Parametric Highlight Split : 75
Sharpen Radius : +1.0
Sharpen Detail : 25
Sharpen Edge Masking : 0
Convert To Grayscale : False
Tone Curve Name : Medium Contrast
Camera Profile : ACR 3.1
Has Settings : True
Crop Top : 0
Crop Left : 0.138626
Crop Bottom : 0.989296
Crop Right : 0.795696
Crop Angle : 0
Crop Width : 1
Crop Height : 1
Crop Unit : Unknown (3)
Has Crop : True
Already Applied : True
Usage Terms : Jegliche kommerzielle Nutzung nur mit schriftlicher Erlaubnis des Urhebers!
Creator : Stefan Schönfeld
Subject : @f4.5, black and white, Carl Zeiss Makro-Planar 100 mm/f2.0 ZF, colander, Digital, kitchen, metal, monochrome, Nikon D2Xs, photography, stainless steel, stillife, StS_20071231_1440
Title : StS_20071231_1440
Rights : ©StS; st-schoenfeld@web.de
Tone Curve : 0, 0, 32, 22, 64, 56, 128, 128, 192, 196, 255, 255
Creator Address : Bülowstr. 37
Creator City : Köln
Creator Region : NRW
Creator Postal Code : 50733
Creator Country : Deutschland
Creator Work Telephone : 0221/7605699
Creator Work Email : st-schoenfeld@web.de
Creator Work URL : http://www.stefanschoenfeld.de
User Fields : Bildmaße_(HxB)_02=Bild (HxB): 152 x 152 mm², Grundmaße_(HxB)_03=Grund (HxB): 297 x 210 mm², Medium_04=Photographie: Inkjet, Rahmen_(HxBxT)_05=413 x 313 x 27 mm³, Preis_06=1.375,00 EUR, Katalog_StS_pdf-Größe_07=(ca. 1,2 MB), Grund_Material_08=auf Papier 250 g (Crane Museo Max)
Catalog Sets : flickr|flickr fertig _96dpi
Image Width : 299
Image Height : 300
Bits Per Sample : 8
Color Components : 1
Aperture : 4.5
Image Size : 299x300
Megapixels : 0.090
Scale Factor To 35 mm Equivalent : 1.5
Shutter Speed : 1
Date/Time Original : 2007:12:31 17:27:45.45
Circle Of Confusion : 0.020 mm
Field Of View : 13.7 deg
Focal Length : 100.0 mm (35 mm equivalent: 150.0 mm)
Hyperfocal Distance : 110.94 m
Light Value : 4.3