Uber Exif Photo
By-line : BUDI AFRIANTO
Copyright Notice : Copyright@BUDIBOYO
Photometric Interpretation : RGB
Make : NIKON CORPORATION
Camera Model Name : NIKON D700
Orientation : Horizontal (normal)
Samples Per Pixel : 3
Software : Adobe Photoshop CS5.1 Macintosh
Modify Date : 2013:02:24 07:44:22
Artist : BUDI AFRIANTO
Copyright : Copyright@BUDIBOYO
Exposure Time : 1/800
F Number : 2.8
Exposure Program : Manual
ISO : 400
Date/Time Original : 2012:10:21 00:44:09
Create Date : 2012:10:21 00:44:09
Shutter Speed Value : 1/800
Aperture Value : 2.8
Exposure Compensation : -2/3
Max Aperture Value : 2.0
Metering Mode : Multi-segment
Light Source : Unknown
Flash : No Flash
Focal Length : 100.0 mm
Color Space : sRGB
Exif Image Width : 1280
Exif Image Height : 937
Sensing Method : One-chip color area
Scene Type : Directly photographed
CFA Pattern : [Red,Green][Green,Blue]
Custom Rendered : Normal
Exposure Mode : Manual
White Balance : Auto
Digital Zoom Ratio : 1
Focal Length In 35mm Format : 100 mm
Scene Capture Type : Standard
Gain Control : Low gain up
Contrast : Normal
Saturation : Normal
Sharpness : Normal
Subject Distance Range : Unknown
Serial Number : 2374238
Lens Info : 100mm f/2
Lens Model : Zeiss Makro-Planar T* 2/100 ZF.2
Format : image/jpeg
Creator Tool : Adobe Photoshop CS5.1 Macintosh
Lens : Zeiss Makro-Planar T* 2/100 ZF.2
Image Number : 9100
Date Created : 2012:10:21 00:44:09.084
Color Mode : RGB
ICC Profile Name : sRGB IEC61966-2.1
Version : 6.6
Process Version : 5.7
Color Temperature : 3667
Tint : -11
Exposure : 0.00
Shadows : 8
Brightness : +40
Luminance Smoothing : 0
Color Noise Reduction : 25
Chromatic Aberration R : 0
Chromatic Aberration B : 0
Vignette Amount : -100
Vignette Midpoint : 51
Shadow Tint : 0
Red Hue : 0
Red Saturation : 0
Green Hue : 0
Green Saturation : 0
Blue Hue : 0
Blue Saturation : 0
Fill Light : 40
Highlight Recovery : 0
Clarity : +80
Defringe : 0
Gray Mixer Red : -9
Gray Mixer Orange : -22
Gray Mixer Yellow : -26
Gray Mixer Green : -28
Gray Mixer Aqua : -14
Gray Mixer Blue : +17
Gray Mixer Purple : +19
Gray Mixer Magenta : +3
Split Toning Shadow Hue : 0
Split Toning Shadow Saturation : 0
Split Toning Highlight Hue : 49
Split Toning Highlight Saturation : 0
Split Toning Balance : 0
Parametric Shadows : -9
Parametric Darks : -3
Parametric Lights : -18
Parametric Highlights : +54
Parametric Shadow Split : 25
Parametric Midtone Split : 50
Parametric Highlight Split : 75
Sharpen Radius : +1.5
Sharpen Detail : 25
Sharpen Edge Masking : 0
Post Crop Vignette Amount : 0
Grain Amount : 0
Color Noise Reduction Detail : 50
Lens Profile Enable : 0
Lens Manual Distortion Amount : 0
Perspective Vertical : 0
Perspective Horizontal : 0
Perspective Rotate : 0.0
Perspective Scale : 100
Convert To Grayscale : True
Tone Curve Name : Strong Contrast
Camera Profile : ACR 4.4
Lens Profile Setup : LensDefaults
Has Settings : True
Crop Top : 0.190941
Crop Left : 0.173518
Crop Bottom : 1
Crop Right : 0.908581
Crop Angle : 0
Crop Constrain To Warp : 0
Crop Width : 3128
Crop Height : 2291
Crop Unit : pixels
Has Crop : True
Already Applied : True
Creator : BUDI AFRIANTO
Rights : Copyright@BUDIBOYO
Tone Curve : 0, 0, 32, 16, 64, 50, 128, 128, 192, 202, 255, 255
Image Width : 300
Image Height : 220
Bits Per Sample : 8
Color Components : 1
Aperture : 2.8
Image Size : 300x220
Megapixels : 0.066
Scale Factor To 35 mm Equivalent : 1.0
Shutter Speed : 1/800
Create Date : 2012:10:21 00:44:09.84
Date/Time Original : 2012:10:21 00:44:09.84
Circle Of Confusion : 0.030 mm
Field Of View : 20.4 deg
Focal Length : 100.0 mm (35 mm equivalent: 100.0 mm)
Hyperfocal Distance : 118.86 m
Light Value : 10.6