Uber Exif Photo
By-line : ANDREW PAQUETTE
Photometric Interpretation : RGB
Make : NIKON CORPORATION
Camera Model Name : NIKON D800
Orientation : Horizontal (normal)
Samples Per Pixel : 3
Planar Configuration : Chunky
Software : Adobe Photoshop CS6 (Windows)
Modify Date : 2014:02:01 23:50:21
Artist : ANDREW PAQUETTE
Exposure Time : 1/800
F Number : 1.6
Exposure Program : Manual
ISO : 100
Sensitivity Type : Recommended Exposure Index
Date/Time Original : 2014:02:01 16:33:54
Create Date : 2014:02:01 16:33:54
Shutter Speed Value : 1/800
Aperture Value : 1.6
Exposure Compensation : 0
Max Aperture Value : 1.4
Metering Mode : Spot
Light Source : Unknown
Flash : Off, Did not fire
Focal Length : 55.0 mm
Color Space : Uncalibrated
Exif Image Width : 1994
Exif Image Height : 1122
Sensing Method : One-chip color area
Scene Type : Directly photographed
CFA Pattern : [Red,Green][Green,Blue]
Custom Rendered : Normal
Exposure Mode : Manual
White Balance : Auto
Digital Zoom Ratio : 1
Focal Length In 35mm Format : 55 mm
Scene Capture Type : Standard
Gain Control : None
Contrast : Normal
Saturation : Normal
Sharpness : Normal
Subject Distance Range : Unknown
Serial Number : 6087608
Lens Info : 55mm f/1.4
Lens Model : 55.0 mm f/1.4
Format : image/jpeg
Creator Tool : Adobe Photoshop Lightroom 5.3 (Windows)
Lens : 55.0 mm f/1.4
Image Number : 23394
Date Created : 2014:02:01 16:33:54.003
Color Mode : Grayscale
ICC Profile Name : Dot Gain 20%
Version : 8.3
Process Version : 6.7
Auto White Version : 134348800
Color Temperature : 4500
Tint : +4
Luminance Smoothing : 0
Color Noise Reduction : 25
Vignette Amount : +70
Vignette Midpoint : 50
Shadow Tint : 0
Red Hue : 0
Red Saturation : 0
Green Hue : 0
Green Saturation : 0
Blue Hue : 0
Blue Saturation : 0
Gray Mixer Red : -10
Gray Mixer Orange : -19
Gray Mixer Yellow : -23
Gray Mixer Green : -27
Gray Mixer Aqua : -19
Gray Mixer Blue : +9
Gray Mixer Purple : +16
Gray Mixer Magenta : +4
Split Toning Shadow Hue : 0
Split Toning Shadow Saturation : 0
Split Toning Highlight Hue : 0
Split Toning Highlight Saturation : 0
Split Toning Balance : 0
Parametric Shadows : 0
Parametric Darks : 0
Parametric Lights : 0
Parametric Highlights : 0
Parametric Shadow Split : 25
Parametric Midtone Split : 50
Parametric Highlight Split : 75
Sharpen Radius : +1.0
Sharpen Detail : 25
Sharpen Edge Masking : 0
Post Crop Vignette Amount : 0
Grain Amount : 0
Color Noise Reduction Detail : 50
Color Noise Reduction Smoothness : 50
Lens Profile Enable : 0
Lens Manual Distortion Amount : 0
Perspective Vertical : 0
Perspective Horizontal : 0
Perspective Rotate : 0.0
Perspective Scale : 100
Perspective Aspect : 0
Perspective Upright : Off
Auto Lateral CA : 0
Exposure 2012 : 0.00
Contrast 2012 : 0
Highlights 2012 : -100
Shadows 2012 : 0
Whites 2012 : 0
Blacks 2012 : 0
Clarity 2012 : +45
Convert To Grayscale : True
Tone Curve Name 2012 : Linear
Camera Profile : Adobe Standard
Lens Profile Setup : LensDefaults
Has Settings : True
Crop Top : 0.067946
Crop Left : 0.011683
Crop Bottom : 0.932054
Crop Right : 0.988317
Crop Angle : 1.20389
Crop Constrain To Warp : 0
Has Crop : True
Already Applied : True
Creator : ANDREW PAQUETTE
Tone Curve PV2012 : 0, 0, 255, 255
Tone Curve PV2012 Red : 0, 0, 255, 255
Tone Curve PV2012 Green : 0, 0, 255, 255
Tone Curve PV2012 Blue : 0, 0, 255, 255
Image Width : 300
Image Height : 169
Bits Per Sample : 8
Color Components : 1
Aperture : 1.6
Image Size : 300x169
Megapixels : 0.051
Scale Factor To 35 mm Equivalent : 1.0
Shutter Speed : 1/800
Create Date : 2014:02:01 16:33:54.30
Date/Time Original : 2014:02:01 16:33:54.30
Circle Of Confusion : 0.030 mm
Field Of View : 36.2 deg
Focal Length : 55.0 mm (35 mm equivalent: 55.0 mm)
Hyperfocal Distance : 62.92 m
Light Value : 11.0
Lens ID : 55.0mm f/1.4