Uber Exif Photo
Make : NIKON CORPORATION
Camera Model Name : NIKON D700
Orientation : Horizontal (normal)
Software : Adobe Photoshop CS5 Macintosh
Modify Date : 2016:03:17 23:09:25
Exposure Time : 1/30
F Number : 3.5
Exposure Program : Manual
ISO : 800
Sensitivity Type : Unknown
Date/Time Original : 2015:10:14 08:23:07
Create Date : 2015:10:14 08:23:07
Shutter Speed Value : 1/30
Aperture Value : 3.5
Exposure Compensation : 0
Max Aperture Value : 2.8
Metering Mode : Center-weighted average
Light Source : Unknown
Flash : No Flash
Focal Length : 25.0 mm
Color Space : Uncalibrated
Exif Image Width : 1442
Exif Image Height : 1288
Sensing Method : One-chip color area
Scene Type : Directly photographed
CFA Pattern : [Red,Green][Green,Blue]
Custom Rendered : Normal
Exposure Mode : Manual
White Balance : Manual
Digital Zoom Ratio : 1
Focal Length In 35mm Format : 25 mm
Scene Capture Type : Standard
Gain Control : Low gain up
Contrast : Normal
Saturation : Normal
Sharpness : Normal
Subject Distance Range : Unknown
Serial Number : 2205982
Lens Info : 25mm f/2.8
Lens Model : Zeiss Distagon T* 2.8/25 ZF.2
Creator Tool : Ver.1.01
Rating : 0
Lens : Zeiss Distagon T* 2.8/25 ZF.2
Image Number : 79707
Raw File Name : DSC_1284.NEF
Version : 6.2
Process Version : 5.7
Color Temperature : 2450
Tint : -10
Exposure : -0.25
Shadows : 0
Brightness : +50
Luminance Smoothing : 0
Color Noise Reduction : 25
Chromatic Aberration R : 0
Chromatic Aberration B : 0
Vignette Amount : 0
Shadow Tint : 0
Red Hue : 0
Red Saturation : 0
Green Hue : 0
Green Saturation : 0
Blue Hue : 0
Blue Saturation : 0
Fill Light : 0
Highlight Recovery : 15
Clarity : 0
Defringe : 0
Gray Mixer Red : +12
Gray Mixer Orange : +11
Gray Mixer Yellow : -28
Gray Mixer Green : +49
Gray Mixer Aqua : -24
Gray Mixer Blue : -8
Gray Mixer Purple : -40
Gray Mixer Magenta : -30
Split Toning Shadow Hue : 0
Split Toning Shadow Saturation : 0
Split Toning Highlight Hue : 0
Split Toning Highlight Saturation : 0
Split Toning Balance : 0
Parametric Shadows : 0
Parametric Darks : 0
Parametric Lights : 0
Parametric Highlights : 0
Parametric Shadow Split : 25
Parametric Midtone Split : 50
Parametric Highlight Split : 75
Sharpen Radius : +1.0
Sharpen Detail : 25
Sharpen Edge Masking : 0
Post Crop Vignette Amount : 0
Grain Amount : 0
Color Noise Reduction Detail : 50
Lens Profile Enable : 0
Lens Manual Distortion Amount : 0
Perspective Vertical : 0
Perspective Horizontal : 0
Perspective Rotate : 0.0
Perspective Scale : 100
Convert To Grayscale : True
Tone Curve Name : Custom
Camera Profile : Adobe Standard
Lens Profile Setup : LensDefaults
Has Settings : True
Crop Top : 0.001896
Crop Left : 0.074448
Crop Bottom : 0.998104
Crop Right : 0.830915
Crop Angle : 0
Crop Constrain To Warp : 1
Has Crop : True
Already Applied : True
Sidecar For Extension : NEF
Color Mode : Grayscale
ICC Profile Name : Gray Gamma 2.2
Date Created : 2015:10:14 08:23:07.039
Format : image/jpeg
Tone Curve : 0, 0, 32, 16, 64, 50, 118, 133, 192, 202, 255, 255
Image Width : 300
Image Height : 268
Bits Per Sample : 8
Color Components : 1
Aperture : 3.5
Image Size : 300x268
Megapixels : 0.080
Scale Factor To 35 mm Equivalent : 1.0
Shutter Speed : 1/30
Create Date : 2015:10:14 08:23:07.39
Date/Time Original : 2015:10:14 08:23:07.39
Modify Date : 2016:03:17 23:09:25.39
Circle Of Confusion : 0.030 mm
Field Of View : 71.5 deg
Focal Length : 25.0 mm (35 mm equivalent: 25.0 mm)
Hyperfocal Distance : 5.94 m
Light Value : 5.5