Uber Exif Photo
By-line : Gilles Sanchez
Copyright Notice : Gilles Sanchez
Make : NIKON CORPORATION
Camera Model Name : NIKON D300S
Orientation : Horizontal (normal)
Software : ViewNX 2.1 W
Modify Date : 2011:10:08 07:06:35
Artist : Gilles Sanchez
Copyright : Gilles Sanchez
Exposure Time : 1/800
F Number : 7.1
Exposure Program : Aperture-priority AE
ISO : 100
Date/Time Original : 2011:08:23 00:59:21
Create Date : 2011:08:23 00:59:21
Shutter Speed Value : 0.7
Aperture Value : 7.1
Exposure Compensation : 0
Max Aperture Value : 3.5
Subject Distance : 4.47 m
Metering Mode : Multi-segment
Light Source : Cloudy
Flash : No Flash
Focal Length : 24.0 mm
Maker Note Version : 2.10
Image Data Size : 1109576
Nikon Capture Version : ViewNX 2.1 W
IFD0 Offset : 1296
Preview IFD Offset : 1196
NEF Bit Depth : n/a (JPEG)
User Comment : Gilles Sanchez
Color Space : Uncalibrated
Exif Image Width : 1063
Exif Image Height : 1600
Sensing Method : One-chip color area
Scene Type : Directly photographed
CFA Pattern : [Red,Green][Green,Blue]
Custom Rendered : Normal
Exposure Mode : Auto
White Balance : Manual
Digital Zoom Ratio : 1
Focal Length In 35mm Format : 36 mm
Scene Capture Type : Standard
Gain Control : None
Contrast : Normal
Saturation : Normal
Sharpness : Hard
Subject Distance Range : Unknown
Serial Number : 6087821
Lens Info : 24-120mm f/3.5-5.6
Lens Model : 24.0-120.0 mm f/3.5-5.6
Format : image/jpeg
Creator Tool : Adobe Photoshop CS5 Windows
Rating : 0
Lens : 24.0-120.0 mm f/3.5-5.6
Image Number : 2311
Approximate Focus Distance : 4.47
Date Created : 2011:08:23 00:59:21.042
Color Mode : RGB
ICC Profile Name : Adobe RGB (1998)
Raw File Name : _DSC2014.NEF
Version : 6.5
Process Version : 5.7
Color Temperature : 5650
Tint : -1
Exposure : -0.25
Shadows : 5
Brightness : +41
Luminance Smoothing : 0
Color Noise Reduction : 25
Chromatic Aberration R : 0
Chromatic Aberration B : 0
Vignette Amount : 0
Shadow Tint : 0
Red Hue : 0
Red Saturation : 0
Green Hue : 0
Green Saturation : 0
Blue Hue : 0
Blue Saturation : 0
Fill Light : 65
Vibrance : 0
Highlight Recovery : 0
Clarity : +22
Defringe : 0
Hue Adjustment Red : 0
Hue Adjustment Orange : 0
Hue Adjustment Yellow : 0
Hue Adjustment Green : 0
Hue Adjustment Aqua : 0
Hue Adjustment Blue : 0
Hue Adjustment Purple : 0
Hue Adjustment Magenta : 0
Saturation Adjustment Red : 0
Saturation Adjustment Orange : 0
Saturation Adjustment Yellow : 0
Saturation Adjustment Green : 0
Saturation Adjustment Aqua : 0
Saturation Adjustment Blue : 0
Saturation Adjustment Purple : 0
Saturation Adjustment Magenta : 0
Luminance Adjustment Red : 0
Luminance Adjustment Orange : 0
Luminance Adjustment Yellow : 0
Luminance Adjustment Green : 0
Luminance Adjustment Aqua : 0
Luminance Adjustment Blue : 0
Luminance Adjustment Purple : 0
Luminance Adjustment Magenta : 0
Split Toning Shadow Hue : 0
Split Toning Shadow Saturation : 0
Split Toning Highlight Hue : 0
Split Toning Highlight Saturation : 0
Split Toning Balance : 0
Parametric Shadows : 0
Parametric Darks : 0
Parametric Lights : 0
Parametric Highlights : 0
Parametric Shadow Split : 25
Parametric Midtone Split : 50
Parametric Highlight Split : 75
Sharpen Radius : +1.0
Sharpen Detail : 25
Sharpen Edge Masking : 0
Post Crop Vignette Amount : 0
Grain Amount : 0
Color Noise Reduction Detail : 50
Lens Profile Enable : 1
Lens Manual Distortion Amount : 0
Perspective Vertical : 0
Perspective Horizontal : 0
Perspective Rotate : 0.0
Perspective Scale : 100
Convert To Grayscale : False
Tone Curve Name : Medium Contrast
Camera Profile : Camera Vivid
Lens Profile Setup : Custom
Lens Profile Name : Adobe (Nikon AF-S VR Zoom-Nikkor 70-200mm f/2.8G IF-ED)
Lens Profile Filename : NIKON D3X (Nikon FX 70-200mm f2.8 G IF ED) - RAW.lcp
Lens Profile Distortion Scale : 100
Lens Profile Chromatic Aberration Scale : 100
Lens Profile Vignetting Scale : 100
Has Settings : True
Has Crop : False
Already Applied : True
Creator : Gilles Sanchez
Rights : Gilles Sanchez
Tone Curve : 0, 0, 32, 22, 64, 56, 128, 128, 192, 196, 255, 255
Image Width : 199
Image Height : 300
Bits Per Sample : 8
Color Components : 1
Aperture : 7.1
Image Size : 199x300
Megapixels : 0.060
Scale Factor To 35 mm Equivalent : 1.5
Shutter Speed : 1/800
Create Date : 2011:08:23 00:59:21.42
Date/Time Original : 2011:08:23 00:59:21.42
Modify Date : 2011:10:08 07:06:35.42
Circle Of Confusion : 0.020 mm
Depth Of Field : inf (2.13 m - inf)
Field Of View : 53.1 deg
Focal Length : 24.0 mm (35 mm equivalent: 36.0 mm)
Hyperfocal Distance : 4.05 m
Light Value : 15.3
Lens ID : AF Zoom-Nikkor 24-120mm f/3.5-5.6D IF