Uber Exif Photo
Make : NIKON CORPORATION
Camera Model Name : NIKON D700
Software : Adobe Photoshop Lightroom 3.4
Modify Date : 2011:06:01 12:13:09
Artist : Boqdan Zhuk
Copyright : Boqdan Zhuk
Exposure Time : 1/125
F Number : 22.0
Exposure Program : Manual
ISO : 320
Date/Time Original : 2011:05:31 14:51:01
Create Date : 2011:05:31 14:51:01
Shutter Speed Value : 1/125
Aperture Value : 22.0
Exposure Compensation : +1/2
Max Aperture Value : 2.8
Subject Distance : 1.5 m
Metering Mode : Spot
Light Source : Fine Weather
Flash : No Flash
Focal Length : 24.0 mm
Sensing Method : One-chip color area
Scene Type : Directly photographed
CFA Pattern : [Red,Green][Green,Blue]
Custom Rendered : Normal
Exposure Mode : Manual
White Balance : Manual
Digital Zoom Ratio : 1
Focal Length In 35mm Format : 24 mm
Scene Capture Type : Standard
Gain Control : None
Contrast : Normal
Saturation : Normal
Sharpness : Normal
Subject Distance Range : Unknown
Serial Number : 2217163
Lens Info : 24-70mm f/2.8
Lens Model : 24.0-70.0 mm f/2.8
By-line : Boqdan Zhuk
Copyright Notice : Boqdan Zhuk
Profile Description : sRGB IEC61966-2.1
Creator Tool : Adobe Photoshop Lightroom 3.4
Lens : 24.0-70.0 mm f/2.8
Image Number : 28514
Approximate Focus Distance : 1.5
Date Created : 2011:05:31 14:51:01.65
Version : 6.4
Process Version : 5.7
Color Temperature : 5250
Tint : -7
Exposure : 0.00
Shadows : 5
Brightness : +50
Luminance Smoothing : 0
Color Noise Reduction : 25
Chromatic Aberration R : 0
Chromatic Aberration B : 0
Vignette Amount : 0
Shadow Tint : 0
Red Hue : 0
Red Saturation : 0
Green Hue : 0
Green Saturation : 0
Blue Hue : 0
Blue Saturation : 0
Fill Light : 0
Vibrance : +21
Highlight Recovery : 0
Clarity : 0
Defringe : 0
Hue Adjustment Red : 0
Hue Adjustment Orange : 0
Hue Adjustment Yellow : 0
Hue Adjustment Green : 0
Hue Adjustment Aqua : 0
Hue Adjustment Blue : 0
Hue Adjustment Purple : 0
Hue Adjustment Magenta : 0
Saturation Adjustment Red : 0
Saturation Adjustment Orange : 0
Saturation Adjustment Yellow : 0
Saturation Adjustment Green : 0
Saturation Adjustment Aqua : 0
Saturation Adjustment Blue : 0
Saturation Adjustment Purple : 0
Saturation Adjustment Magenta : 0
Luminance Adjustment Red : 0
Luminance Adjustment Orange : 0
Luminance Adjustment Yellow : 0
Luminance Adjustment Green : 0
Luminance Adjustment Aqua : 0
Luminance Adjustment Blue : 0
Luminance Adjustment Purple : 0
Luminance Adjustment Magenta : 0
Split Toning Shadow Hue : 0
Split Toning Shadow Saturation : 0
Split Toning Highlight Hue : 0
Split Toning Highlight Saturation : 0
Split Toning Balance : 0
Parametric Shadows : 0
Parametric Darks : 0
Parametric Lights : 0
Parametric Highlights : 0
Parametric Shadow Split : 25
Parametric Midtone Split : 50
Parametric Highlight Split : 75
Sharpen Radius : +1.0
Sharpen Detail : 25
Sharpen Edge Masking : 0
Post Crop Vignette Amount : 0
Grain Amount : 0
Color Noise Reduction Detail : 50
Lens Profile Enable : 0
Lens Manual Distortion Amount : 0
Perspective Vertical : 0
Perspective Horizontal : 0
Perspective Rotate : 0.0
Perspective Scale : 100
Convert To Grayscale : False
Tone Curve Name : Medium Contrast
Camera Profile : Adobe Standard
Lens Profile Setup : LensDefaults
Has Settings : True
Crop Top : 0
Crop Left : 0.054129
Crop Bottom : 1
Crop Right : 0.945871
Crop Angle : 3.08977
Crop Constrain To Warp : 0
Crop Width : 3943
Crop Height : 2624
Crop Unit : pixels
Has Crop : True
Already Applied : True
Creator : Boqdan Zhuk
Rights : Boqdan Zhuk
Tone Curve : 0, 0, 32, 22, 64, 56, 128, 128, 192, 196, 255, 255
Paint Correction What : Correction
Paint Correction Amount : 1.000000
Paint Correction Active : true
Paint Correction Exposure : 0.000000
Paint Correction Saturation : 0.000000
Paint Correction Contrast : 0.000000
Paint Correction Clarity : 0.000000
Paint Correction Sharpness : 0.000000
Paint Correction Brightness : 0.185185
Paint Correction Toning Hue : 357.000000
Paint Correction Toning Saturation : 0.000000
Paint Correction Mask What : Mask/Paint
Paint Correction Mask Value : 1.000000
Paint Correction Mask Radius : 0.062979
Paint Correction Mask Flow : 1.000000
Paint Correction Mask Center Weight : 0.044169
Gradient Based Corr What : Correction
Gradient Based Corr Amount : 1.000000
Gradient Based Corr Active : true
Gradient Based Corr Exposure : 0.000000
Gradient Based Corr Saturation : 0.000000
Gradient Based Corr Contrast : 0.022222
Gradient Based Corr Clarity : 0.000000
Gradient Based Corr Sharpness : -0.007407
Gradient Based Corr Brightness : -0.303704
Gradient Based Corr Toning Hue : 357.000000
Gradient Based Corr Toning Saturation : 0.000000
Gradient Based Corr Mask What : Mask/Gradient
Gradient Based Corr Mask Value : 1.000000
Gradient Based Corr Mask Zero X : 0.560997
Gradient Based Corr Mask Zero Y : 0.465947
Gradient Based Corr Mask Full X : 0.566808
Gradient Based Corr Mask Full Y : 0.278379
Image Width : 400
Image Height : 266
Bits Per Sample : 8
Color Components : 3
Aperture : 22.0
Image Size : 400x266
Megapixels : 0.106
Scale Factor To 35 mm Equivalent : 1.0
Shutter Speed : 1/125
Create Date : 2011:05:31 14:51:01.65
Date/Time Original : 2011:05:31 14:51:01.65
Circle Of Confusion : 0.030 mm
Depth Of Field : inf (0.56 m - inf)
Field Of View : 73.7 deg
Focal Length : 24.0 mm (35 mm equivalent: 24.0 mm)
Hyperfocal Distance : 0.87 m
Light Value : 14.2
Lens ID : AF-S Zoom-Nikkor 24-70mm f/2.8G ED