Uber Exif Photo
Make : NIKON CORPORATION
Camera Model Name : NIKON D700
Orientation : Horizontal (normal)
Software : Adobe Photoshop CS4 Windows
Modify Date : 2010:07:26 21:58:29
Exposure Time : 1/160
F Number : 13.0
Exposure Program : Manual
ISO : 200
Date/Time Original : 2010:06:26 05:42:53
Create Date : 2010:06:26 05:42:53
Shutter Speed Value : 1/160
Aperture Value : 13.0
Exposure Compensation : 0
Max Aperture Value : 5.1
Subject Distance : 4294967295 m
Metering Mode : Multi-segment
Light Source : Fine Weather
Focal Length : 185.0 mm
Color Space : Uncalibrated
Exif Image Width : 2832
Exif Image Height : 4256
Sensing Method : One-chip color area
Scene Type : Directly photographed
CFA Pattern : [Red,Green][Green,Blue]
Custom Rendered : Normal
Exposure Mode : Manual
White Balance : Manual
Digital Zoom Ratio : 1
Focal Length In 35mm Format : 185 mm
Scene Capture Type : Standard
Gain Control : None
Contrast : Normal
Saturation : Normal
Sharpness : Normal
Subject Distance Range : Unknown
Profile Description : Adobe RGB (1998)
Date/Time Digitized : 2010:06:26 05:42:53.00-07:00
Creator Tool : Ver.1.01
Image Number : 650
Lens : 70.0-300.0 mm f/4.5-5.6
Lens Info : 70-300mm f/4.5-5.6
Serial Number : 2235484
Already Applied : True
Has Crop : False
Has Settings : True
Camera Profile : Adobe Standard
Tone Curve Name : Medium Contrast
Convert To Grayscale : False
Grain Amount : 0
Post Crop Vignette Amount : 0
Sharpen Edge Masking : 0
Sharpen Detail : 25
Sharpen Radius : +1.0
Parametric Highlight Split : 75
Parametric Midtone Split : 50
Parametric Shadow Split : 25
Parametric Highlights : 0
Parametric Lights : 0
Parametric Darks : 0
Parametric Shadows : 0
Split Toning Balance : 0
Split Toning Highlight Saturation : 0
Split Toning Highlight Hue : 0
Split Toning Shadow Saturation : 0
Split Toning Shadow Hue : 0
Luminance Adjustment Magenta : 0
Luminance Adjustment Purple : 0
Luminance Adjustment Blue : 0
Luminance Adjustment Aqua : 0
Luminance Adjustment Green : 0
Luminance Adjustment Yellow : 0
Luminance Adjustment Orange : 0
Luminance Adjustment Red : 0
Saturation Adjustment Magenta : 0
Saturation Adjustment Purple : 0
Saturation Adjustment Blue : 0
Saturation Adjustment Aqua : 0
Saturation Adjustment Green : 0
Saturation Adjustment Yellow : 0
Saturation Adjustment Orange : 0
Saturation Adjustment Red : 0
Hue Adjustment Magenta : 0
Hue Adjustment Purple : 0
Hue Adjustment Blue : 0
Hue Adjustment Aqua : 0
Hue Adjustment Green : 0
Hue Adjustment Yellow : 0
Hue Adjustment Orange : 0
Hue Adjustment Red : 0
Defringe : 0
Clarity : +21
Highlight Recovery : 0
Vibrance : +9
Fill Light : 0
Blue Saturation : 0
Blue Hue : 0
Green Saturation : 0
Green Hue : 0
Red Saturation : 0
Red Hue : 0
Shadow Tint : 0
Vignette Amount : 0
Chromatic Aberration B : 0
Chromatic Aberration R : 0
Color Noise Reduction : 25
Luminance Smoothing : 0
Brightness : +50
Shadows : 8
Exposure : +0.20
Tint : -6
Color Temperature : 5000
Process Version : 5.0
Version : 5.7
Raw File Name : _DSC0643.NEF
ICC Profile Name : Adobe RGB (1998)
Color Mode : RGB
Sidecar For Extension : NEF
Format : image/jpeg
Flash Fired : False
Flash Return : No return detection
Flash Mode : Unknown
Flash Function : False
Flash Red Eye Mode : False
Tone Curve : 0, 0, 32, 22, 64, 56, 128, 128, 192, 196, 255, 255
Date Acquired : 2010:12:20 15:24:00
Image Width : 200
Image Height : 300
Bits Per Sample : 8
Color Components : 3
Aperture : 13.0
Image Size : 200x300
Megapixels : 0.060
Scale Factor To 35 mm Equivalent : 1.0
Shutter Speed : 1/160
Create Date : 2010:06:26 05:42:53.00
Date/Time Original : 2010:06:26 05:42:53.00
Modify Date : 2010:07:26 21:58:29.00
Flash : No Flash
Circle Of Confusion : 0.030 mm
Depth Of Field : inf (87.62 m - inf)
Field Of View : 11.1 deg
Focal Length : 185.0 mm (35 mm equivalent: 185.0 mm)
Hyperfocal Distance : 87.62 m
Light Value : 13.7
Lens ID : AF-S VR Zoom-Nikkor 70-300mm f/4.5-5.6G IF-ED