Uber Exif Photo
Copyright Notice : Mofeed's Photo
Photometric Interpretation : RGB
Make : NIKON CORPORATION
Camera Model Name : NIKON D90
Orientation : Horizontal (normal)
Samples Per Pixel : 3
Software : Adobe Photoshop CS5 Windows
Modify Date : 2011:03:15 23:29:59
Copyright : Mofeed's Photo
Exposure Time : 1/200
F Number : 9.0
Exposure Program : Aperture-priority AE
ISO : 400
Date/Time Original : 2011:03:12 12:43:07
Create Date : 2011:03:12 12:43:07
Shutter Speed Value : 1/200
Aperture Value : 9.0
Exposure Compensation : -1/3
Max Aperture Value : 3.5
Subject Distance : 3.16 m
Metering Mode : Multi-segment
Light Source : Unknown
Flash : No Flash
Focal Length : 18.0 mm
Color Space : sRGB
Exif Image Width : 2313
Exif Image Height : 3470
Sensing Method : One-chip color area
Scene Type : Directly photographed
CFA Pattern : [Green,Blue][Red,Green]
Custom Rendered : Normal
Exposure Mode : Auto
White Balance : Auto
Digital Zoom Ratio : 1
Focal Length In 35mm Format : 27 mm
Scene Capture Type : Standard
Gain Control : Low gain up
Contrast : Normal
Saturation : Normal
Sharpness : Normal
Subject Distance Range : Unknown
Creator Tool : Ver.1.00
Serial Number : 8271991
Lens Info : 18-200mm f/3.5-5.6
Lens : 18.0-200.0 mm f/3.5-5.6
Image Number : 13175
Approximate Focus Distance : 3.16
Version : 6.1
Process Version : 5.7
Color Temperature : 5050
Tint : +5
Exposure : 0.00
Shadows : 11
Brightness : +50
Luminance Smoothing : 0
Color Noise Reduction : 25
Chromatic Aberration R : 0
Chromatic Aberration B : 0
Vignette Amount : 0
Shadow Tint : 0
Red Hue : 0
Red Saturation : 0
Green Hue : 0
Green Saturation : 0
Blue Hue : 0
Blue Saturation : 0
Fill Light : 15
Vibrance : +17
Highlight Recovery : 0
Clarity : +40
Defringe : 0
Hue Adjustment Red : 0
Hue Adjustment Orange : 0
Hue Adjustment Yellow : 0
Hue Adjustment Green : 0
Hue Adjustment Aqua : 0
Hue Adjustment Blue : 0
Hue Adjustment Purple : 0
Hue Adjustment Magenta : 0
Saturation Adjustment Red : 0
Saturation Adjustment Orange : 0
Saturation Adjustment Yellow : 0
Saturation Adjustment Green : 0
Saturation Adjustment Aqua : 0
Saturation Adjustment Blue : 0
Saturation Adjustment Purple : 0
Saturation Adjustment Magenta : 0
Luminance Adjustment Red : 0
Luminance Adjustment Orange : 0
Luminance Adjustment Yellow : 0
Luminance Adjustment Green : 0
Luminance Adjustment Aqua : 0
Luminance Adjustment Blue : 0
Luminance Adjustment Purple : 0
Luminance Adjustment Magenta : 0
Split Toning Shadow Hue : 0
Split Toning Shadow Saturation : 0
Split Toning Highlight Hue : 0
Split Toning Highlight Saturation : 0
Split Toning Balance : 0
Parametric Shadows : -33
Parametric Darks : +16
Parametric Lights : -18
Parametric Highlights : -16
Parametric Shadow Split : 25
Parametric Midtone Split : 50
Parametric Highlight Split : 75
Sharpen Radius : +1.0
Sharpen Detail : 25
Sharpen Edge Masking : 0
Post Crop Vignette Amount : 0
Grain Amount : 0
Color Noise Reduction Detail : 50
Lens Profile Enable : 0
Lens Manual Distortion Amount : 0
Perspective Vertical : 0
Perspective Horizontal : 0
Perspective Rotate : 0.0
Perspective Scale : 100
Convert To Grayscale : False
Tone Curve Name : Medium Contrast
Camera Profile : Camera Landscape
Lens Profile Setup : LensDefaults
Has Settings : True
Crop Top : 0.187752
Crop Left : 0.154745
Crop Bottom : 1
Crop Right : 0.963962
Crop Angle : 0
Crop Constrain To Warp : 0
Crop Width : 3470
Crop Height : 2313
Crop Unit : pixels
Has Crop : True
Already Applied : True
Color Mode : RGB
ICC Profile Name : sRGB IEC61966-2.1
Date Created : 2011:03:12 12:43:07
Format : image/jpeg
Tone Curve : 0, 0, 32, 22, 64, 56, 128, 128, 192, 196, 255, 255
Gradient Based Corr What : Correction
Gradient Based Corr Amount : 1.000000
Gradient Based Corr Active : true
Gradient Based Corr Exposure : -0.463000
Gradient Based Corr Saturation : 0.000000
Gradient Based Corr Contrast : -1.000000
Gradient Based Corr Clarity : 0.000000
Gradient Based Corr Sharpness : 0.000000
Gradient Based Corr Brightness : 0.000000
Gradient Based Corr Toning Hue : 232.000000
Gradient Based Corr Toning Saturation : 0.860000
Gradient Based Corr Mask What : Mask/Gradient
Gradient Based Corr Mask Value : 1.000000
Gradient Based Corr Mask Zero X : 0.378090
Gradient Based Corr Mask Zero Y : 0.749019
Gradient Based Corr Mask Full X : 0.953463
Gradient Based Corr Mask Full Y : 0.633827
Rights : Mofeed's Photo
Image Width : 200
Image Height : 300
Bits Per Sample : 8
Color Components : 1
Aperture : 9.0
Image Size : 200x300
Megapixels : 0.060
Scale Factor To 35 mm Equivalent : 1.5
Shutter Speed : 1/200
Create Date : 2011:03:12 12:43:07.00
Date/Time Original : 2011:03:12 12:43:07.00
Circle Of Confusion : 0.020 mm
Depth Of Field : inf (1.15 m - inf)
Field Of View : 67.4 deg
Focal Length : 18.0 mm (35 mm equivalent: 27.0 mm)
Hyperfocal Distance : 1.80 m
Light Value : 12.0
Lens ID : AF-S DX VR Zoom-Nikkor 18-200mm f/3.5-5.6G IF-ED or AF-S DX VR Zoom-Nikkor 18-200mm f/3.5-5.6G IF-ED [II]