Uber Exif Photo
Make : NIKON CORPORATION
Camera Model Name : NIKON D90
Software : Adobe Photoshop Lightroom 3.4.1
Modify Date : 2011:06:25 16:38:18
Exposure Time : 20
F Number : 16.0
Exposure Program : Manual
ISO : 200
Date/Time Original : 2011:04:28 22:37:04
Create Date : 2011:04:28 22:37:04
Shutter Speed Value : 20
Aperture Value : 16.0
Exposure Compensation : 0
Max Aperture Value : 3.5
Subject Distance : 0.84 m
Metering Mode : Multi-segment
Light Source : Unknown
Flash : No Flash
Focal Length : 10.0 mm
User Comment : Copyright 2011 Jose Santos
Sensing Method : One-chip color area
Scene Type : Directly photographed
CFA Pattern : [Green,Blue][Red,Green]
Custom Rendered : Normal
Exposure Mode : Manual
White Balance : Auto
Digital Zoom Ratio : 1
Focal Length In 35mm Format : 15 mm
Scene Capture Type : Standard
Gain Control : None
Contrast : Normal
Saturation : Normal
Sharpness : Normal
Subject Distance Range : Unknown
Serial Number : 6529149
Lens Info : 10-24mm f/3.5-4.5
Lens Model : 10.0-24.0 mm f/3.5-4.5
Profile Description : Adobe RGB (1998)
Creator Tool : Adobe Photoshop Lightroom 3.4.1
Lens : 10.0-24.0 mm f/3.5-4.5
Image Number : 3518
Approximate Focus Distance : 0.84
Date Created : 2011:04:28 22:37:04.00
Version : 6.4.1
Process Version : 5.7
Color Temperature : 12500
Tint : +35
Exposure : +0.75
Shadows : 11
Brightness : +57
Luminance Smoothing : 0
Color Noise Reduction : 25
Chromatic Aberration R : 0
Chromatic Aberration B : 0
Vignette Amount : -41
Vignette Midpoint : 48
Shadow Tint : +8
Red Hue : +96
Red Saturation : +3
Green Hue : +11
Green Saturation : +25
Blue Hue : +11
Blue Saturation : -70
Fill Light : 0
Highlight Recovery : 0
Clarity : 0
Defringe : 0
Gray Mixer Red : +10
Gray Mixer Orange : +1
Gray Mixer Yellow : -4
Gray Mixer Green : -17
Gray Mixer Aqua : -23
Gray Mixer Blue : -3
Gray Mixer Purple : +11
Gray Mixer Magenta : +13
Split Toning Shadow Hue : 0
Split Toning Shadow Saturation : 0
Split Toning Highlight Hue : 51
Split Toning Highlight Saturation : 25
Split Toning Balance : 0
Parametric Shadows : -14
Parametric Darks : -3
Parametric Lights : 0
Parametric Highlights : 0
Parametric Shadow Split : 25
Parametric Midtone Split : 50
Parametric Highlight Split : 75
Sharpen Radius : +1.0
Sharpen Detail : 25
Sharpen Edge Masking : 0
Post Crop Vignette Amount : 0
Grain Amount : 0
Color Noise Reduction Detail : 50
Lens Profile Enable : 0
Lens Manual Distortion Amount : 0
Perspective Vertical : 0
Perspective Horizontal : 0
Perspective Rotate : 0.0
Perspective Scale : 100
Convert To Grayscale : True
Tone Curve Name : Linear
Camera Profile : Adobe Standard
Lens Profile Setup : LensDefaults
Has Settings : True
Crop Top : 0.002233
Crop Left : 0.074629
Crop Bottom : 0.997767
Crop Right : 0.925371
Crop Angle : -0.1
Crop Constrain To Warp : 0
Crop Width : 3643
Crop Height : 2842
Crop Unit : pixels
Has Crop : True
Already Applied : True
Tone Curve : 0, 0, 255, 255
Image Width : 300
Image Height : 234
Bits Per Sample : 8
Color Components : 3
Aperture : 16.0
Image Size : 300x234
Megapixels : 0.070
Scale Factor To 35 mm Equivalent : 1.5
Shutter Speed : 20
Create Date : 2011:04:28 22:37:04.00
Date/Time Original : 2011:04:28 22:37:04.00
Circle Of Confusion : 0.020 mm
Depth Of Field : inf (0.23 m - inf)
Field Of View : 100.4 deg
Focal Length : 10.0 mm (35 mm equivalent: 15.0 mm)
Hyperfocal Distance : 0.31 m
Light Value : 2.7
Lens ID : AF-S DX Nikkor 10-24mm f/3.5-4.5G ED